BEGIN:VCALENDAR
VERSION:2.0
PRODID:-//Pebblestone Cellars - ECPv6.15.20//NONSGML v1.0//EN
CALSCALE:GREGORIAN
METHOD:PUBLISH
X-ORIGINAL-URL:https://pebblestonecellars.biz
X-WR-CALDESC:Events for Pebblestone Cellars
REFRESH-INTERVAL;VALUE=DURATION:PT1H
X-Robots-Tag:noindex
X-PUBLISHED-TTL:PT1H
BEGIN:VTIMEZONE
TZID:America/Los_Angeles
BEGIN:DAYLIGHT
TZOFFSETFROM:-0800
TZOFFSETTO:-0700
TZNAME:PDT
DTSTART:20230312T100000
END:DAYLIGHT
BEGIN:STANDARD
TZOFFSETFROM:-0700
TZOFFSETTO:-0800
TZNAME:PST
DTSTART:20231105T090000
END:STANDARD
BEGIN:DAYLIGHT
TZOFFSETFROM:-0800
TZOFFSETTO:-0700
TZNAME:PDT
DTSTART:20240310T100000
END:DAYLIGHT
BEGIN:STANDARD
TZOFFSETFROM:-0700
TZOFFSETTO:-0800
TZNAME:PST
DTSTART:20241103T090000
END:STANDARD
BEGIN:DAYLIGHT
TZOFFSETFROM:-0800
TZOFFSETTO:-0700
TZNAME:PDT
DTSTART:20250309T100000
END:DAYLIGHT
BEGIN:STANDARD
TZOFFSETFROM:-0700
TZOFFSETTO:-0800
TZNAME:PST
DTSTART:20251102T090000
END:STANDARD
END:VTIMEZONE
BEGIN:VEVENT
DTSTART;TZID=America/Los_Angeles:20240503T170000
DTEND;TZID=America/Los_Angeles:20240503T190000
DTSTAMP:20260425T040204
CREATED:20240503T210848Z
LAST-MODIFIED:20240503T210848Z
UID:6527-1714755600-1714762800@pebblestonecellars.biz
SUMMARY:TGIFriday Music  with  Holly Gleason
DESCRIPTION:We are pleased to announce that the enchanting Holly Gleason is performing at Pebblestone tonight\, Friday May 3rd. \nHolly’s melodious voice and diverse compositions take listeners on a nostalgic trip down memory lane\, sprinkled with profound reflections and wisdom. From her funky EP “Miracle Mile” to the soulful “Light Show.” \nHolly captivates audiences with romantic ballads that celebrate the beauty of unconditional love. With a blend of sweet humor and poignant introspection\, her performances transition effortlessly from light-hearted banter to soul-stirring emotions\, accompanied by her soulful guitar melodies. Join us at Pebblestone and immerse yourself in the raw\, sincere\, and beautifully introspective world of Holly Gleason’s music.
URL:https://pebblestonecellars.biz/event/tgifriday-music-with-holly-gleason/
LOCATION:Pebblestone Tasting Barn\, 1670 Pioneer Road\, Talent\, OR
CATEGORIES:Live Music
ATTACH;FMTTYPE=image/jpeg:https://pebblestonecellars.biz/wp-content/uploads/2023/03/HollyGleason2023.jpg
END:VEVENT
END:VCALENDAR