BEGIN:VCALENDAR
VERSION:2.0
PRODID:-//Pebblestone Cellars - ECPv6.15.20//NONSGML v1.0//EN
CALSCALE:GREGORIAN
METHOD:PUBLISH
X-ORIGINAL-URL:https://pebblestonecellars.biz
X-WR-CALDESC:Events for Pebblestone Cellars
REFRESH-INTERVAL;VALUE=DURATION:PT1H
X-Robots-Tag:noindex
X-PUBLISHED-TTL:PT1H
BEGIN:VTIMEZONE
TZID:America/Los_Angeles
BEGIN:DAYLIGHT
TZOFFSETFROM:-0800
TZOFFSETTO:-0700
TZNAME:PDT
DTSTART:20230312T100000
END:DAYLIGHT
BEGIN:STANDARD
TZOFFSETFROM:-0700
TZOFFSETTO:-0800
TZNAME:PST
DTSTART:20231105T090000
END:STANDARD
BEGIN:DAYLIGHT
TZOFFSETFROM:-0800
TZOFFSETTO:-0700
TZNAME:PDT
DTSTART:20240310T100000
END:DAYLIGHT
BEGIN:STANDARD
TZOFFSETFROM:-0700
TZOFFSETTO:-0800
TZNAME:PST
DTSTART:20241103T090000
END:STANDARD
BEGIN:DAYLIGHT
TZOFFSETFROM:-0800
TZOFFSETTO:-0700
TZNAME:PDT
DTSTART:20250309T100000
END:DAYLIGHT
BEGIN:STANDARD
TZOFFSETFROM:-0700
TZOFFSETTO:-0800
TZNAME:PST
DTSTART:20251102T090000
END:STANDARD
END:VTIMEZONE
BEGIN:VEVENT
DTSTART;TZID=America/Los_Angeles:20240329T170000
DTEND;TZID=America/Los_Angeles:20240329T190000
DTSTAMP:20260425T070621
CREATED:20240323T170910Z
LAST-MODIFIED:20240329T222854Z
UID:6437-1711731600-1711738800@pebblestonecellars.biz
SUMMARY:Bekkah McAlvage
DESCRIPTION:Immerse yourself in the enchanting world of Bekkah McAlvage\, a talented musician who effortlessly weaves together elements of acoustic country folk music. With a diverse range of influences\, from soul-stirring singer-songwriter narratives to timeless classic country melodies\, Bekkah’s music is a true reflection of her artistry. \nNot only does she shine in her solo endeavors\, but she also captivates audiences as a member of the bluegrass/old-time group The Rosa Lees. With a musical journey that includes being a former member of the acclaimed bluegrass band\, Waking Hazel\, Bekkah’s latest record\, “Madrona\,” is now available on all major platforms. Immerse yourself in the heartfelt tunes of Bekkah McAlvage and let her music transport you to a place of pure musical bliss.
URL:https://pebblestonecellars.biz/event/bekka-mcalvage/
LOCATION:Pebblestone Tasting Barn\, 1670 Pioneer Road\, Talent\, OR
CATEGORIES:Live Music
ATTACH;FMTTYPE=image/jpeg:https://pebblestonecellars.biz/wp-content/uploads/2024/03/BekkaMcAlvage2024.jpg
END:VEVENT
END:VCALENDAR