BEGIN:VCALENDAR
VERSION:2.0
PRODID:-//Pebblestone Cellars - ECPv6.15.20//NONSGML v1.0//EN
CALSCALE:GREGORIAN
METHOD:PUBLISH
X-WR-CALNAME:Pebblestone Cellars
X-ORIGINAL-URL:https://pebblestonecellars.biz
X-WR-CALDESC:Events for Pebblestone Cellars
REFRESH-INTERVAL;VALUE=DURATION:PT1H
X-Robots-Tag:noindex
X-PUBLISHED-TTL:PT1H
BEGIN:VTIMEZONE
TZID:America/Los_Angeles
BEGIN:DAYLIGHT
TZOFFSETFROM:-0800
TZOFFSETTO:-0700
TZNAME:PDT
DTSTART:20230312T100000
END:DAYLIGHT
BEGIN:STANDARD
TZOFFSETFROM:-0700
TZOFFSETTO:-0800
TZNAME:PST
DTSTART:20231105T090000
END:STANDARD
BEGIN:DAYLIGHT
TZOFFSETFROM:-0800
TZOFFSETTO:-0700
TZNAME:PDT
DTSTART:20240310T100000
END:DAYLIGHT
BEGIN:STANDARD
TZOFFSETFROM:-0700
TZOFFSETTO:-0800
TZNAME:PST
DTSTART:20241103T090000
END:STANDARD
BEGIN:DAYLIGHT
TZOFFSETFROM:-0800
TZOFFSETTO:-0700
TZNAME:PDT
DTSTART:20250309T100000
END:DAYLIGHT
BEGIN:STANDARD
TZOFFSETFROM:-0700
TZOFFSETTO:-0800
TZNAME:PST
DTSTART:20251102T090000
END:STANDARD
END:VTIMEZONE
BEGIN:VEVENT
DTSTART;TZID=America/Los_Angeles:20240324T150000
DTEND;TZID=America/Los_Angeles:20240324T170000
DTSTAMP:20260425T070406
CREATED:20240322T160730Z
LAST-MODIFIED:20240322T160730Z
UID:6433-1711292400-1711299600@pebblestonecellars.biz
SUMMARY:Skye & Lee
DESCRIPTION:We are pleased to announce the return this season of a melodious collaboration between two incredibly talented musicians\, Michaela Skye and Albert Lee. Michaela Skye\, with a Bachelor’s degree in Vocal Performance and a Master’s of Music\, has graced the stage with renowned artists like Mignon Dunn and Kristin Chenoweth. \nAlbert Lee\, a lifelong musician and Composer of the Year\, brings a wealth of experience and passion for creating music. Together\, they blend jazz standards\, popular music\, and bossa nova in perfect harmony. Come out for a Sunday afternoon for an enchanting musical experience that promises to strike all the right chords!
URL:https://pebblestonecellars.biz/event/skye-lee-2/
LOCATION:Pebblestone Tasting Barn\, 1670 Pioneer Road\, Talent\, OR
CATEGORIES:Live Music
ATTACH;FMTTYPE=image/jpeg:https://pebblestonecellars.biz/wp-content/uploads/2023/05/skyeandlee2023.jpg
END:VEVENT
END:VCALENDAR