BEGIN:VCALENDAR
VERSION:2.0
PRODID:-//Pebblestone Cellars - ECPv6.15.20//NONSGML v1.0//EN
CALSCALE:GREGORIAN
METHOD:PUBLISH
X-ORIGINAL-URL:https://pebblestonecellars.biz
X-WR-CALDESC:Events for Pebblestone Cellars
REFRESH-INTERVAL;VALUE=DURATION:PT1H
X-Robots-Tag:noindex
X-PUBLISHED-TTL:PT1H
BEGIN:VTIMEZONE
TZID:America/Los_Angeles
BEGIN:DAYLIGHT
TZOFFSETFROM:-0800
TZOFFSETTO:-0700
TZNAME:PDT
DTSTART:20230312T100000
END:DAYLIGHT
BEGIN:STANDARD
TZOFFSETFROM:-0700
TZOFFSETTO:-0800
TZNAME:PST
DTSTART:20231105T090000
END:STANDARD
BEGIN:DAYLIGHT
TZOFFSETFROM:-0800
TZOFFSETTO:-0700
TZNAME:PDT
DTSTART:20240310T100000
END:DAYLIGHT
BEGIN:STANDARD
TZOFFSETFROM:-0700
TZOFFSETTO:-0800
TZNAME:PST
DTSTART:20241103T090000
END:STANDARD
BEGIN:DAYLIGHT
TZOFFSETFROM:-0800
TZOFFSETTO:-0700
TZNAME:PDT
DTSTART:20250309T100000
END:DAYLIGHT
BEGIN:STANDARD
TZOFFSETFROM:-0700
TZOFFSETTO:-0800
TZNAME:PST
DTSTART:20251102T090000
END:STANDARD
END:VTIMEZONE
BEGIN:VEVENT
DTSTART;TZID=America/Los_Angeles:20240317T150000
DTEND;TZID=America/Los_Angeles:20240317T170000
DTSTAMP:20260425T070528
CREATED:20240317T021938Z
LAST-MODIFIED:20240317T022002Z
UID:6421-1710687600-1710694800@pebblestonecellars.biz
SUMMARY:Ambrose and Galfano
DESCRIPTION:Pebblestone Presents\nAmbrose and Galfano\nWe are excited to announce that we were able to schedule the dynamic musical duo of Ambrose and Galfano to step in for EncoreFive on Sunday. \nJen and Jon are renowned for their memorable music\, which they perform on a variety of instruments including guitars\, mandolins\, and Jen’s masterful flute\, while Jon’s excellent keyboard work adds to the musical magic. \nDuring the show\, you will have the opportunity to hear several new original selections from Jen’s latest album ‘Plenty Of Nothin’ To Do\,’ followed by the duo’s renditions of iconic rock hits from The Beatles\, Elton John\, The Moody Blues\, Rod Stewart\, Led Zeppelin\, Crosby\, Stills and Nash\, and more. This very popular music group will provide a fabulous show\, while you enjoy the tasty wines offered at Pebblestone Cellars.
URL:https://pebblestonecellars.biz/event/ambrose-and-galfano/
LOCATION:Pebblestone Tasting Barn\, 1670 Pioneer Road\, Talent\, OR
CATEGORIES:Live Music
ATTACH;FMTTYPE=image/jpeg:https://pebblestonecellars.biz/wp-content/uploads/2023/09/Ambrose-Galfano.jpg
END:VEVENT
END:VCALENDAR