BEGIN:VCALENDAR
VERSION:2.0
PRODID:-//Pebblestone Cellars - ECPv6.15.20//NONSGML v1.0//EN
CALSCALE:GREGORIAN
METHOD:PUBLISH
X-ORIGINAL-URL:https://pebblestonecellars.biz
X-WR-CALDESC:Events for Pebblestone Cellars
REFRESH-INTERVAL;VALUE=DURATION:PT1H
X-Robots-Tag:noindex
X-PUBLISHED-TTL:PT1H
BEGIN:VTIMEZONE
TZID:America/Los_Angeles
BEGIN:DAYLIGHT
TZOFFSETFROM:-0800
TZOFFSETTO:-0700
TZNAME:PDT
DTSTART:20230312T100000
END:DAYLIGHT
BEGIN:STANDARD
TZOFFSETFROM:-0700
TZOFFSETTO:-0800
TZNAME:PST
DTSTART:20231105T090000
END:STANDARD
BEGIN:DAYLIGHT
TZOFFSETFROM:-0800
TZOFFSETTO:-0700
TZNAME:PDT
DTSTART:20240310T100000
END:DAYLIGHT
BEGIN:STANDARD
TZOFFSETFROM:-0700
TZOFFSETTO:-0800
TZNAME:PST
DTSTART:20241103T090000
END:STANDARD
BEGIN:DAYLIGHT
TZOFFSETFROM:-0800
TZOFFSETTO:-0700
TZNAME:PDT
DTSTART:20250309T100000
END:DAYLIGHT
BEGIN:STANDARD
TZOFFSETFROM:-0700
TZOFFSETTO:-0800
TZNAME:PST
DTSTART:20251102T090000
END:STANDARD
END:VTIMEZONE
BEGIN:VEVENT
DTSTART;TZID=America/Los_Angeles:20240315T170000
DTEND;TZID=America/Los_Angeles:20240315T190000
DTSTAMP:20260425T070534
CREATED:20240315T164347Z
LAST-MODIFIED:20240315T164430Z
UID:6410-1710522000-1710529200@pebblestonecellars.biz
SUMMARY:Gary Dunsmoor
DESCRIPTION:Gary Dunsmoor\, a talented musician who has been passionate about music since his early days in middle school will be returning for a solo performance at Pebblestone on Friday. \nWith a diverse background in various genres such as blues\, rock\, funk\, RB\, and acoustic singer/songwriter\, Gary brings an eclectic and diverse catalogue of songs and lyrics to share. From popular hits to obscure gems\, his music ranges from gentle and heartfelt melodies to get-out-of-your-seat dance tunes. \nFor Gary\, it’s all about the power of the song and the joy of sharing music with others. Join us and be captivated by his unique musical style and infectious passion for music.
URL:https://pebblestonecellars.biz/event/gary-dunsmoor-3/
LOCATION:Pebblestone Tasting Barn\, 1670 Pioneer Road\, Talent\, OR
CATEGORIES:Live Music
ATTACH;FMTTYPE=image/jpeg:https://pebblestonecellars.biz/wp-content/uploads/2023/06/GaryDunsmoor2023.jpg
END:VEVENT
END:VCALENDAR