BEGIN:VCALENDAR
VERSION:2.0
PRODID:-//Pebblestone Cellars - ECPv6.15.20//NONSGML v1.0//EN
CALSCALE:GREGORIAN
METHOD:PUBLISH
X-ORIGINAL-URL:https://pebblestonecellars.biz
X-WR-CALDESC:Events for Pebblestone Cellars
REFRESH-INTERVAL;VALUE=DURATION:PT1H
X-Robots-Tag:noindex
X-PUBLISHED-TTL:PT1H
BEGIN:VTIMEZONE
TZID:America/Los_Angeles
BEGIN:DAYLIGHT
TZOFFSETFROM:-0800
TZOFFSETTO:-0700
TZNAME:PDT
DTSTART:20220313T100000
END:DAYLIGHT
BEGIN:STANDARD
TZOFFSETFROM:-0700
TZOFFSETTO:-0800
TZNAME:PST
DTSTART:20221106T090000
END:STANDARD
BEGIN:DAYLIGHT
TZOFFSETFROM:-0800
TZOFFSETTO:-0700
TZNAME:PDT
DTSTART:20230312T100000
END:DAYLIGHT
BEGIN:STANDARD
TZOFFSETFROM:-0700
TZOFFSETTO:-0800
TZNAME:PST
DTSTART:20231105T090000
END:STANDARD
BEGIN:DAYLIGHT
TZOFFSETFROM:-0800
TZOFFSETTO:-0700
TZNAME:PDT
DTSTART:20240310T100000
END:DAYLIGHT
BEGIN:STANDARD
TZOFFSETFROM:-0700
TZOFFSETTO:-0800
TZNAME:PST
DTSTART:20241103T090000
END:STANDARD
END:VTIMEZONE
BEGIN:VEVENT
DTSTART;TZID=America/Los_Angeles:20231119T150000
DTEND;TZID=America/Los_Angeles:20231119T170000
DTSTAMP:20260425T131203
CREATED:20231101T170029Z
LAST-MODIFIED:20231117T184908Z
UID:6139-1700406000-1700413200@pebblestonecellars.biz
SUMMARY:Jeff Kloetzel
DESCRIPTION:Get ready for an afternoon of musical magic from Jeff Kloetzel as he returns to the stage at Pebblestone this Sunday. With a diverse catalog that spans across various genres\, Jeff’s performance promises to be a treat for music lovers of all tastes. His rhythmic guitar work and his soulful vocals plus Jeff’s original songs are sure to leave you mesmerized. \nWhether you’re in the mood for driving modern tunes or subtle timeless ballads\, Jeff’s set list has you covered. Come and join us for an unforgettable performance of musical entertainment with Jeff Kloetzel at Pebblestone.
URL:https://pebblestonecellars.biz/event/jeff-kloetzel-6/
LOCATION:Pebblestone Tasting Barn\, 1670 Pioneer Road\, Talent\, OR
CATEGORIES:Live Music
ATTACH;FMTTYPE=image/jpeg:https://pebblestonecellars.biz/wp-content/uploads/2022/07/Jeff-Kloetzel-2022.jpg
END:VEVENT
END:VCALENDAR