BEGIN:VCALENDAR
VERSION:2.0
PRODID:-//Pebblestone Cellars - ECPv6.15.20//NONSGML v1.0//EN
CALSCALE:GREGORIAN
METHOD:PUBLISH
X-WR-CALNAME:Pebblestone Cellars
X-ORIGINAL-URL:https://pebblestonecellars.biz
X-WR-CALDESC:Events for Pebblestone Cellars
REFRESH-INTERVAL;VALUE=DURATION:PT1H
X-Robots-Tag:noindex
X-PUBLISHED-TTL:PT1H
BEGIN:VTIMEZONE
TZID:America/Los_Angeles
BEGIN:DAYLIGHT
TZOFFSETFROM:-0800
TZOFFSETTO:-0700
TZNAME:PDT
DTSTART:20220313T100000
END:DAYLIGHT
BEGIN:STANDARD
TZOFFSETFROM:-0700
TZOFFSETTO:-0800
TZNAME:PST
DTSTART:20221106T090000
END:STANDARD
BEGIN:DAYLIGHT
TZOFFSETFROM:-0800
TZOFFSETTO:-0700
TZNAME:PDT
DTSTART:20230312T100000
END:DAYLIGHT
BEGIN:STANDARD
TZOFFSETFROM:-0700
TZOFFSETTO:-0800
TZNAME:PST
DTSTART:20231105T090000
END:STANDARD
BEGIN:DAYLIGHT
TZOFFSETFROM:-0800
TZOFFSETTO:-0700
TZNAME:PDT
DTSTART:20240310T100000
END:DAYLIGHT
BEGIN:STANDARD
TZOFFSETFROM:-0700
TZOFFSETTO:-0800
TZNAME:PST
DTSTART:20241103T090000
END:STANDARD
END:VTIMEZONE
BEGIN:VEVENT
DTSTART;TZID=America/Los_Angeles:20230903T150000
DTEND;TZID=America/Los_Angeles:20230903T170000
DTSTAMP:20260425T161208
CREATED:20230901T170401Z
LAST-MODIFIED:20230901T170401Z
UID:6007-1693753200-1693760400@pebblestonecellars.biz
SUMMARY:Nick Garrett-Powell
DESCRIPTION:Are you looking for a truly exceptional musical experience? Nick Garrett-Powell\, a multi-talented musician hailing from Southern Oregon is Returning to Pebblestone for another amazing performance. Nick’s impressive skills as a multi-instrumentalist\, singer-songwriter\, and recording engineer come alive during his live looping performances. With each layer recorded live before the audience\, Nick blends rhythm\, bass\, leads\, percussion\, and more using only his guitar. \nBut Nick’s talents don’t stop there. As a classically trained musician\, he has mastered a range of musical styles\, including pop\, blues\, gypsy jazz\, rock\, reggae\, jazz standards\, acoustic fingerstyle\, tapping\, and slapping. And with his solo show\, audiences can enjoy his tenor vocals\, mandolin\, melodica\, jaw harp\, and of course\, his incredible acoustic guitar skills. \nDon’t miss your chance to experience the unique talents of Nick Garrett-Powell.
URL:https://pebblestonecellars.biz/event/nick-garrett-powell-4/
LOCATION:Pebblestone Tasting Barn\, 1670 Pioneer Road\, Talent\, OR
CATEGORIES:Live Music
ATTACH;FMTTYPE=image/jpeg:https://pebblestonecellars.biz/wp-content/uploads/2022/07/Nick-Garrett-Powell-2022-e1663175962753.jpg
END:VEVENT
END:VCALENDAR