BEGIN:VCALENDAR
VERSION:2.0
PRODID:-//Pebblestone Cellars - ECPv6.15.20//NONSGML v1.0//EN
CALSCALE:GREGORIAN
METHOD:PUBLISH
X-ORIGINAL-URL:https://pebblestonecellars.biz
X-WR-CALDESC:Events for Pebblestone Cellars
REFRESH-INTERVAL;VALUE=DURATION:PT1H
X-Robots-Tag:noindex
X-PUBLISHED-TTL:PT1H
BEGIN:VTIMEZONE
TZID:America/Los_Angeles
BEGIN:DAYLIGHT
TZOFFSETFROM:-0800
TZOFFSETTO:-0700
TZNAME:PDT
DTSTART:20250309T100000
END:DAYLIGHT
BEGIN:STANDARD
TZOFFSETFROM:-0700
TZOFFSETTO:-0800
TZNAME:PST
DTSTART:20251102T090000
END:STANDARD
BEGIN:DAYLIGHT
TZOFFSETFROM:-0800
TZOFFSETTO:-0700
TZNAME:PDT
DTSTART:20260308T100000
END:DAYLIGHT
BEGIN:STANDARD
TZOFFSETFROM:-0700
TZOFFSETTO:-0800
TZNAME:PST
DTSTART:20261101T090000
END:STANDARD
BEGIN:DAYLIGHT
TZOFFSETFROM:-0800
TZOFFSETTO:-0700
TZNAME:PDT
DTSTART:20270314T100000
END:DAYLIGHT
BEGIN:STANDARD
TZOFFSETFROM:-0700
TZOFFSETTO:-0800
TZNAME:PST
DTSTART:20271107T090000
END:STANDARD
END:VTIMEZONE
BEGIN:VEVENT
DTSTART;TZID=America/Los_Angeles:20260301T150000
DTEND;TZID=America/Los_Angeles:20260301T170000
DTSTAMP:20260423T141931
CREATED:20260303T002606Z
LAST-MODIFIED:20260303T005337Z
UID:8024-1772377200-1772384400@pebblestonecellars.biz
SUMMARY:Joshua Paul
DESCRIPTION:We’re thrilled to welcome back Joshua Paul\, a talented musician from Southern Oregon\, for another engaging and entertaining performance at Pebblestone this Sunday. \nJoshua’s musical journey began at a young age and has grown into a full-time passion. Originally on the path to a career in chemistry\, he ultimately found his true calling in music. Blending Americana\, rock\, country\, and blues\, Joshua captivates audiences with heartfelt performances that appeal to music lovers of all kinds. \nHe’s recorded with renowned producers and performed at a wide range of venues—from wineries and bars to community gatherings—earning fans wherever he plays. \nJoin us this Sunday to enjoy an afternoon of great music\, fine wine\, and good company as we celebrate Joshua Paul’s talent and dedication to his craft. \nSee you on Sunday\,\nMarch 1st\, 3 pm to 5 pm \nReservations Recommended\nCall 541-512-1655
URL:https://pebblestonecellars.biz/event/joshua-paul-9-2/
CATEGORIES:Live Music
ATTACH;FMTTYPE=image/jpeg:https://pebblestonecellars.biz/wp-content/uploads/2025/03/Joshua-Paul-800w.jpg
END:VEVENT
BEGIN:VEVENT
DTSTART;TZID=America/Los_Angeles:20260306T170000
DTEND;TZID=America/Los_Angeles:20260306T190000
DTSTAMP:20260423T141931
CREATED:20260303T002947Z
LAST-MODIFIED:20260303T002947Z
UID:8028-1772816400-1772823600@pebblestonecellars.biz
SUMMARY:Sequoia Duo
DESCRIPTION:Sequoia is an Oregon-based bluegrass duo made up of Allen and Deborah Brinkerhoff\, known for their warm sound and engaging blend of original songs and well-loved covers. Together\, they create a rich musical experience: Al brings his skill on the dobro\, banjo\, and viola caipira\, in addition to contributing vocals\, while Deb compliments him with her guitar work and harmonies. Al is especially recognized in the bluegrass community\, having earned notable accolades such as the Oregon State Dobro Championship and a win at the prestigious Rockygrass Dobro Contest. \nThe duo performs regularly at events across the state\, sharing their music at venues like the Eagleview Pickout and the Canyonville Farmers Market\, where their lively sets have helped them build a loyal regional following. Fans can also enjoy recordings of Sequoia’s performances on YouTube\, where the pair can be seen putting their unique spin on songs like “Tennessee Flat Top Box” and “Papa’s on the Housetop\,” showcasing both their technical musicianship and the easy chemistry that defines their sound. \nSee you on Friday\nMarch 6th\, 5 pm to 7 pm \nReservations Recommended\nCall 541-512-1655
URL:https://pebblestonecellars.biz/event/open-8-2/
CATEGORIES:Live Music
ATTACH;FMTTYPE=image/jpeg:https://pebblestonecellars.biz/wp-content/uploads/2025/07/Sequoia-2025.jpg
END:VEVENT
BEGIN:VEVENT
DTSTART;TZID=America/Los_Angeles:20260308T150000
DTEND;TZID=America/Los_Angeles:20260308T170000
DTSTAMP:20260423T141931
CREATED:20260303T003131Z
LAST-MODIFIED:20260303T003131Z
UID:8030-1772982000-1772989200@pebblestonecellars.biz
SUMMARY:Pacifica Duo
DESCRIPTION:Join us tonight as we welcome back the Pacifica Duo — the dynamic pairing of vocalist Alissa Weaver and guitarist Jeffrey Judkins (aka Dr. J). Together\, they bring a fresh and distinctive sound to the stage\, blending original songs with a thoughtfully curated mix of covers. \nFrom folk and country to rock and R&B\, Pacifica Duo delivers a captivating performance that’s both soulful and energizing. With Alissa’s rich\, expressive vocals and Dr. J’s masterful guitar work\, their music promises an evening to remember. \nCome enjoy fantastic live music\, fine wine\, and great company Sunday afternoon at Pebblestone Cellars! \nSee you on Sunday\nMarch 8th\, 3 pm to 5 pm \nReservations Recommended\nCall 541-512-1655
URL:https://pebblestonecellars.biz/event/pacifica-8-2/
CATEGORIES:Live Music
ATTACH;FMTTYPE=image/jpeg:https://pebblestonecellars.biz/wp-content/uploads/2025/10/PacificaDuo11-2025.jpg
END:VEVENT
BEGIN:VEVENT
DTSTART;TZID=America/Los_Angeles:20260313T160000
DTEND;TZID=America/Los_Angeles:20260313T180000
DTSTAMP:20260423T141931
CREATED:20260310T192632Z
LAST-MODIFIED:20260310T192748Z
UID:8058-1773417600-1773424800@pebblestonecellars.biz
SUMMARY:Jacksonville Inn Wine Tasting
DESCRIPTION:Join us for a FREE wine tasting at Jacksonville Inn. We will be pouring two whites and two red wines! \nhttps://www.eventbrite.com/e/friday-tasting-pebblestone-tickets-1984438825948?aff=ebdsoporgprofile \nSee you on Friday\,\nMarch 13th\, 4 pm to 6 pm
URL:https://pebblestonecellars.biz/event/jacksonville-inn-wine-tasting-031326/
CATEGORIES:Live Music
ATTACH;FMTTYPE=image/jpeg:https://pebblestonecellars.biz/wp-content/uploads/2026/03/Jacksonville-Wine-Lounge.jpg
END:VEVENT
BEGIN:VEVENT
DTSTART;TZID=America/Los_Angeles:20260313T170000
DTEND;TZID=America/Los_Angeles:20260313T190000
DTSTAMP:20260423T141931
CREATED:20260303T003545Z
LAST-MODIFIED:20260303T003812Z
UID:8032-1773421200-1773428400@pebblestonecellars.biz
SUMMARY:JONES
DESCRIPTION:Are you tired of the same old music and looking for something fresh and exciting?\nLook no further than J O N E S! \nLed by the dynamic duo of Joshua Jones and Shelley Kristen Jones\, this talented musical pair brings over 20 years of experience to the stage. With Joshua’s incredible guitar skills and Shelley’s powerful voice and songwriting abilities\, J O N E S is redefining the musical landscape. \nGet ready to rock\, dance\, and sing along to their unique spin on Classic Rock\, R B\, Pop\, Folk\, Country\, and Jazz Standards. Don’t miss out on the musical experience of a lifetime – come see J O N E S perform. \nSee you on Friday\,\nMarch 13th\, 5 pm to 7 pm \nReservations Recommended\nCall 541-512-1655
URL:https://pebblestonecellars.biz/event/jones-2-2/
CATEGORIES:Live Music
ATTACH;FMTTYPE=image/jpeg:https://pebblestonecellars.biz/wp-content/uploads/2023/06/Jones-2023.jpg
END:VEVENT
BEGIN:VEVENT
DTSTART;TZID=America/Los_Angeles:20260315T150000
DTEND;TZID=America/Los_Angeles:20260315T170000
DTSTAMP:20260423T141931
CREATED:20260303T003734Z
LAST-MODIFIED:20260303T003734Z
UID:8034-1773586800-1773594000@pebblestonecellars.biz
SUMMARY:Jeff Kloetzel
DESCRIPTION:Ease into the new year with an evening of live music from singer-songwriter and cover artist Jeff Kloetzel. A well-loved presence in the region\, Jeff is known for his rhythmic guitar style\, smooth\, soulful vocals\, and an easygoing stage presence that creates an inviting atmosphere from the first song. His sets thoughtfully blend familiar favorites with timeless ballads\, all delivered with sincerity and care. \nDrawing from pop\, rock\, folk\, blues\, and contemporary island influences\, Jeff’s music offers a laid-back yet engaging listening experience that feels both comforting and fresh. Whether you’re quietly enjoying a glass of wine or softly singing along to a song you know by heart\, his heartfelt performances provide the perfect soundtrack for a relaxed and welcoming start to the year. \nSee you on Sunday\,\nMarch 15th\, 3 pm to 5 pm \nReservations Recommended\nCall 541-512-1655
URL:https://pebblestonecellars.biz/event/jeff-kloetzel-11-2/
CATEGORIES:Live Music
ATTACH;FMTTYPE=image/jpeg:https://pebblestonecellars.biz/wp-content/uploads/2022/07/Jeff-Kloetzel-2022.jpg
END:VEVENT
BEGIN:VEVENT
DTSTART;TZID=America/Los_Angeles:20260320T170000
DTEND;TZID=America/Los_Angeles:20260320T190000
DTSTAMP:20260423T141931
CREATED:20260319T004750Z
LAST-MODIFIED:20260319T004847Z
UID:8065-1774026000-1774033200@pebblestonecellars.biz
SUMMARY:Jen Ambrose & Jon Galfano
DESCRIPTION:Join us at Pebblestone Cellars for a memorable Friday evening as Jen Ambrose and Jon Galfano take the stage with their dynamic\, genre-blending sound. Featuring flute\, guitar\, and keyboard\, this talented duo creates rich\, layered melodies that pair beautifully with a glass of our handcrafted wines. \nTheir set includes original songs from Jen’s latest album\, Plenty Of Nothin To Do\, alongside inspired takes on classics by The Beatles\, Elton John\, and Led Zeppelin. From soulful moments to familiar favorites that invite you to sing along\, this performance offers something for every music lover. \nSettle in\, sip\, and enjoy an evening where great music\, great wine\, and great company come together. We can’t wait to share this special evening with you at Pebblestone Cellars. \nSee you on Friday\nMarch 20th\, 5 pm to 7 pm \nReservations Highly Recommended\nCall 541-512-1655
URL:https://pebblestonecellars.biz/event/jen-ambrose-jon-galfano-2/
CATEGORIES:Live Music
ATTACH;FMTTYPE=image/jpeg:https://pebblestonecellars.biz/wp-content/uploads/2025/10/ambrosegalfano2025.jpg
END:VEVENT
BEGIN:VEVENT
DTSTART;TZID=America/Los_Angeles:20260321T140000
DTEND;TZID=America/Los_Angeles:20260321T160000
DTSTAMP:20260423T141931
CREATED:20260303T004509Z
LAST-MODIFIED:20260303T004509Z
UID:8043-1774101600-1774108800@pebblestonecellars.biz
SUMMARY:Ukulele Jam - March 2026
DESCRIPTION:Join us for the Jam! The Ukulele Jam is happening again! The Ukulele Jam is gaining in popularity now and is usually attended by 25 to 30 or more ukulele players strumming and singing through a number of popular songs and enjoyed by an growing audience of fans. \nThey are great to watch but you can also sing along while enjoying a glass or bottle of wine. Local ukulele instructor Tish McFadden will again lead the jam. \nIf the weather is cooperative\, the Jam will be held outside on the tasting room deck; spectators are welcome to enjoy the Jam from our lawn area seating. \nSongbooks are available. All acoustic instruments and voices are welcome as well as just those that just want to enjoy the JAM. \nCall Tish at 541-840-8075 for more information.
URL:https://pebblestonecellars.biz/event/ukulele-jam-jan-2026-2/
CATEGORIES:Live Music
ATTACH;FMTTYPE=image/jpeg:https://pebblestonecellars.biz/wp-content/uploads/2023/11/ukulele-jam.jpg
END:VEVENT
BEGIN:VEVENT
DTSTART;TZID=America/Los_Angeles:20260322T150000
DTEND;TZID=America/Los_Angeles:20260322T170000
DTSTAMP:20260423T141931
CREATED:20260303T004701Z
LAST-MODIFIED:20260303T004701Z
UID:8045-1774191600-1774198800@pebblestonecellars.biz
SUMMARY:Paper Moon Duo
DESCRIPTION:We are super thrilled to have the Paper Moon Duo back in the tasting room this weekend. Check out the QR code to hear some of their magical tunes! \nSee you on Sunday\nMarch 22nd\, 3 pm to 5 pm \nReservations Recommended\nCall 541-512-1655
URL:https://pebblestonecellars.biz/event/paper-moon-duo-2-2/
CATEGORIES:Live Music
ATTACH;FMTTYPE=image/jpeg:https://pebblestonecellars.biz/wp-content/uploads/2025/03/PaperMoon2025.jpg
END:VEVENT
BEGIN:VEVENT
DTSTART;TZID=America/Los_Angeles:20260327T170000
DTEND;TZID=America/Los_Angeles:20260327T190000
DTSTAMP:20260423T141931
CREATED:20260303T005028Z
LAST-MODIFIED:20260303T005059Z
UID:8047-1774630800-1774638000@pebblestonecellars.biz
SUMMARY:Femme Fatale
DESCRIPTION:Femme Fatale is Carla Bauer and Kathryn Crystal-Maitas. Carla is a native South African who has lived in the US for 26 years; Kathryn is from Chicago. They are both self-taught and don’t read music – we play by ear and perform an eclectic mix of tunes from the 60’s through to the present day. \nCarla sings\, plays guitar (including bass guitar) and keyboard. Kathryn sings and plays guitar and banjo. We both dabble in a bit of percussion too! Carla has a few originals which they sometimes play. They plan on co-writing more originals in the near future. But most of all\, they play for the sheer delight of sharing our favorite music with the crowd! \nWe’re thrilled to welcome Carla and Kathryn back—they bring an electric energy to the stage every single time and know exactly how to turn a great evening into a full-on celebration. Get ready for an uplifting night of fantastic music\, good vibes\, and plenty of reasons to smile. Join us this Sunday for great tunes\, great company\, and another unforgettable night at the winery! \nSee you on Friday\,\nMarch 27th\, 5 pm to  7pm \nReservations Highly Recommended\nCall 541-512-1655
URL:https://pebblestonecellars.biz/event/carla-bauer-4-2/
CATEGORIES:Live Music
ATTACH;FMTTYPE=image/jpeg:https://pebblestonecellars.biz/wp-content/uploads/2026/01/femme-fatale-2026.jpg
END:VEVENT
BEGIN:VEVENT
DTSTART;TZID=America/Los_Angeles:20260329T150000
DTEND;TZID=America/Los_Angeles:20260329T170000
DTSTAMP:20260423T141931
CREATED:20260303T005253Z
LAST-MODIFIED:20260303T005253Z
UID:8049-1774796400-1774803600@pebblestonecellars.biz
SUMMARY:John Ivey
DESCRIPTION:We’re delighted to welcome back John Ivey\, a multi-talented musician and artist whose creativity is reflected in every part of his life. As diverse as his music\, John’s background includes time as a paraglider pilot and instructor\, cabinet maker\, contractor\, and now a skilled luthier—crafting instruments with the same care and artistry he brings to the stage. \nMusic has been a constant thread throughout John’s life. He picked up the guitar at age ten and began writing songs just a few years later. With more than four decades of experience\, he continues to perform original music shaped by rich life experiences and heartfelt storytelling. Join us at Pebblestone for another memorable performance and enjoy the depth\, talent\, and authenticity of this remarkable artist. \nSee you on Sunday\,\nMarch 29th\, 3 pm to  5pm \nReservations Recommended\nCall 541-512-1655
URL:https://pebblestonecellars.biz/event/john-ivey-5-2/
CATEGORIES:Live Music
ATTACH;FMTTYPE=image/jpeg:https://pebblestonecellars.biz/wp-content/uploads/2023/09/JohnIvey.jpg
END:VEVENT
END:VCALENDAR