BEGIN:VCALENDAR
VERSION:2.0
PRODID:-//Pebblestone Cellars - ECPv6.15.20//NONSGML v1.0//EN
CALSCALE:GREGORIAN
METHOD:PUBLISH
X-WR-CALNAME:Pebblestone Cellars
X-ORIGINAL-URL:https://pebblestonecellars.biz
X-WR-CALDESC:Events for Pebblestone Cellars
REFRESH-INTERVAL;VALUE=DURATION:PT1H
X-Robots-Tag:noindex
X-PUBLISHED-TTL:PT1H
BEGIN:VTIMEZONE
TZID:America/Los_Angeles
BEGIN:DAYLIGHT
TZOFFSETFROM:-0800
TZOFFSETTO:-0700
TZNAME:PDT
DTSTART:20240310T100000
END:DAYLIGHT
BEGIN:STANDARD
TZOFFSETFROM:-0700
TZOFFSETTO:-0800
TZNAME:PST
DTSTART:20241103T090000
END:STANDARD
BEGIN:DAYLIGHT
TZOFFSETFROM:-0800
TZOFFSETTO:-0700
TZNAME:PDT
DTSTART:20250309T100000
END:DAYLIGHT
BEGIN:STANDARD
TZOFFSETFROM:-0700
TZOFFSETTO:-0800
TZNAME:PST
DTSTART:20251102T090000
END:STANDARD
BEGIN:DAYLIGHT
TZOFFSETFROM:-0800
TZOFFSETTO:-0700
TZNAME:PDT
DTSTART:20260308T100000
END:DAYLIGHT
BEGIN:STANDARD
TZOFFSETFROM:-0700
TZOFFSETTO:-0800
TZNAME:PST
DTSTART:20261101T090000
END:STANDARD
END:VTIMEZONE
BEGIN:VEVENT
DTSTART;TZID=America/Los_Angeles:20251102T150000
DTEND;TZID=America/Los_Angeles:20251102T170000
DTSTAMP:20260423T213005
CREATED:20251027T221236Z
LAST-MODIFIED:20251030T171135Z
UID:7836-1762095600-1762102800@pebblestonecellars.biz
SUMMARY:Gary Dunsmoor
DESCRIPTION:Join us at Pebblestone Cellars for an unforgettable evening where great music meets good cheer! Gary Dunsmoor brings his vibrant blend of blues\, rock\, funk\, R&B\, and heartfelt acoustic melodies to the stage. Whether you’re in the mood to relax with smooth\, soulful tunes or dance to high-energy rhythms\, Gary’s dynamic performance has something for everyone. \nSip on our exquisite wines\, soak in the atmosphere\, and let the music move you. It’s sure to be a night of harmony\, laughter\, and memories—one you won’t want to miss! \nSee you on Sunday\nNovember 2nd\, 3pm to 5pm \nReservations Recommended\nCall 541-512-1655
URL:https://pebblestonecellars.biz/event/gary-dunsmoor-5/
LOCATION:Pebblestone Tasting Barn\, 1670 Pioneer Road\, Talent\, OR
CATEGORIES:Live Music
ATTACH;FMTTYPE=image/jpeg:https://pebblestonecellars.biz/wp-content/uploads/2025/01/image-1.jpeg
END:VEVENT
BEGIN:VEVENT
DTSTART;TZID=America/Los_Angeles:20251107T170000
DTEND;TZID=America/Los_Angeles:20251107T190000
DTSTAMP:20260423T213005
CREATED:20251027T221425Z
LAST-MODIFIED:20251107T182443Z
UID:7838-1762534800-1762542000@pebblestonecellars.biz
SUMMARY:Tension Deficit
DESCRIPTION:Tension Deficit delivers an unforgettable mix of music that spans genres and generations — from soulful R&B ballads to powerful Delta and Chicago-style blues. Their set list blends vintage favorites with modern hits\, creating the perfect soundtrack for an evening of dancing\, laughter\, and good wine. \nLet Genevieve Predmore’s velvet-smooth vocals and Russ Carter’s masterful guitar take you on a musical journey through time. With soaring anthems\, heartfelt blues\, and irresistible rhythm\, Tension Deficit will have you feeling every note — and craving more. \nDon’t miss this timeless performance — come sip\, sway\, and strut your stuff with Tension Deficit! \nSee you on Friday\nNovember 7th\, 5pm to 7pm \nReservations Recommended\nCall 541-512-1655
URL:https://pebblestonecellars.biz/event/tension-deficit-7/
LOCATION:Pebblestone Tasting Barn\, 1670 Pioneer Road\, Talent\, OR
CATEGORIES:Live Music
ATTACH;FMTTYPE=image/jpeg:https://pebblestonecellars.biz/wp-content/uploads/2024/04/tensiondeficit2024.jpg
END:VEVENT
BEGIN:VEVENT
DTSTART;TZID=America/Los_Angeles:20251109T150000
DTEND;TZID=America/Los_Angeles:20251109T170000
DTSTAMP:20260423T213005
CREATED:20251027T221629Z
LAST-MODIFIED:20251107T182317Z
UID:7840-1762700400-1762707600@pebblestonecellars.biz
SUMMARY:John Ivey
DESCRIPTION:We’re thrilled to welcome back John Ivey\, a multi-talented musician and artist whose creativity knows no bounds. John’s life has been as dynamic as his music—he’s been a paraglider pilot and instructor\, a cabinet maker\, a contractor\, and now a skilled luthier\, crafting instruments that sing as beautifully as he does. \nMusic has been John’s lifelong passion. He picked up the guitar at just ten years old and began writing songs by fourteen. Now\, with over four decades of experience\, John continues to write and perform his own original music\, blending heartfelt lyrics with the richness of his many life adventures. \nJoin us at Pebblestone for another electric performance and experience the depth\, talent\, and creativity of this remarkable artist. \nSee you on Sunday\nNovember 9th\, 3pm to 5pm \nReservations Recommended\nCall 541-512-1655
URL:https://pebblestonecellars.biz/event/john-ivey-4/
LOCATION:Pebblestone Tasting Barn\, 1670 Pioneer Road\, Talent\, OR
CATEGORIES:Live Music
ATTACH;FMTTYPE=image/jpeg:https://pebblestonecellars.biz/wp-content/uploads/2023/09/JohnIvey.jpg
END:VEVENT
BEGIN:VEVENT
DTSTART;TZID=America/Los_Angeles:20251114T170000
DTEND;TZID=America/Los_Angeles:20251114T190000
DTSTAMP:20260423T213005
CREATED:20251027T221818Z
LAST-MODIFIED:20251112T212633Z
UID:7842-1763139600-1763146800@pebblestonecellars.biz
SUMMARY:Joshua Paul
DESCRIPTION:We’re thrilled to welcome back Joshua Paul\, a talented musician from Southern Oregon\, for another engaging and entertaining performance at Pebblestone this Sunday. \nJoshua’s musical journey began at a young age and has grown into a full-time passion. Originally on the path to a career in chemistry\, he ultimately found his true calling in music. Blending Americana\, rock\, country\, and blues\, Joshua captivates audiences with heartfelt performances that appeal to music lovers of all kinds. \nHe’s recorded with renowned producers and performed at a wide range of venues—from wineries and bars to community gatherings—earning fans wherever he plays. \nJoin us this Sunday to enjoy an afternoon of great music\, fine wine\, and good company as we celebrate Joshua Paul’s talent and dedication to his craft. \nSee you on Friday\, November 14th \n5pm to 7pm \nReservations Recommended\nCall 541-512-1655
URL:https://pebblestonecellars.biz/event/joshua-paul-9/
LOCATION:Pebblestone Tasting Barn\, 1670 Pioneer Road\, Talent\, OR
CATEGORIES:Live Music
ATTACH;FMTTYPE=image/jpeg:https://pebblestonecellars.biz/wp-content/uploads/2025/03/Joshua-Paul-800w.jpg
END:VEVENT
BEGIN:VEVENT
DTSTART;TZID=America/Los_Angeles:20251115T140000
DTEND;TZID=America/Los_Angeles:20251115T160000
DTSTAMP:20260423T213005
CREATED:20251027T222101Z
LAST-MODIFIED:20251027T222214Z
UID:7844-1763215200-1763222400@pebblestonecellars.biz
SUMMARY:Ukulele Jam - November
DESCRIPTION:Join us for the Jam! The Ukulele Jam is happening again! The Ukulele Jam is gaining in popularity now and is usually attended by 25 to 30 or more ukulele players strumming and singing through a number of popular songs and enjoyed by an growing audience of fans. \nThey are great to watch but you can also sing along while enjoying a glass or bottle of wine. Local ukulele instructor Tish McFadden will again lead the jam. \nIf the weather is cooperative\, the Jam will be held outside on the tasting room deck; spectators are welcome to enjoy the Jam from our lawn area seating. \nSongbooks are available. All acoustic instruments and voices are welcome as well as just those that just want to enjoy the JAM. \nCall Tish at 541-840-8075 for more information.
URL:https://pebblestonecellars.biz/event/ukulele-jam-nov-2025/
LOCATION:Pebblestone Tasting Barn\, 1670 Pioneer Road\, Talent\, OR
CATEGORIES:Live Music
ATTACH;FMTTYPE=image/jpeg:https://pebblestonecellars.biz/wp-content/uploads/2023/11/ukulele-jam.jpg
END:VEVENT
BEGIN:VEVENT
DTSTART;TZID=America/Los_Angeles:20251116T150000
DTEND;TZID=America/Los_Angeles:20251116T170000
DTSTAMP:20260423T213005
CREATED:20251027T222351Z
LAST-MODIFIED:20251112T213236Z
UID:7846-1763305200-1763312400@pebblestonecellars.biz
SUMMARY:Pacifica Duo
DESCRIPTION:Join us tonight as we welcome back the Pacifica Duo — the dynamic pairing of vocalist Alissa Weaver and guitarist Jeffrey Judkins (aka Dr. J). Together\, they bring a fresh and distinctive sound to the stage\, blending original songs with a thoughtfully curated mix of covers. \nFrom folk and country to rock and R&B\, Pacifica Duo delivers a captivating performance that’s both soulful and energizing. With Alissa’s rich\, expressive vocals and Dr. J’s masterful guitar work\, their music promises an evening to remember. \nCome enjoy fantastic live music\, fine wine\, and great company Sunday afternoon at Pebblestone Cellars! \nSee you on Sunday\nNovember 16th\, 3pm to 5pm \nReservations Recommended\nCall 541-512-1655
URL:https://pebblestonecellars.biz/event/pacifica-8/
LOCATION:Pebblestone Tasting Barn\, 1670 Pioneer Road\, Talent\, OR
CATEGORIES:Live Music
ATTACH;FMTTYPE=image/jpeg:https://pebblestonecellars.biz/wp-content/uploads/2025/10/PacificaDuo11-2025.jpg
END:VEVENT
BEGIN:VEVENT
DTSTART;TZID=America/Los_Angeles:20251121T170000
DTEND;TZID=America/Los_Angeles:20251121T190000
DTSTAMP:20260423T213005
CREATED:20251027T222540Z
LAST-MODIFIED:20251120T185849Z
UID:7848-1763744400-1763751600@pebblestonecellars.biz
SUMMARY:Sequoia Duo
DESCRIPTION:Sequoia is an Oregon-based bluegrass duo made up of Allen and Deborah Brinkerhoff\, known for their warm sound and engaging blend of original songs and well-loved covers. Together\, they create a rich musical experience: Al brings his skill on the dobro\, banjo\, and viola caipira\, in addition to contributing vocals\, while Deb compliments him with her guitar work and harmonies. Al is especially recognized in the bluegrass community\, having earned notable accolades such as the Oregon State Dobro Championship and a win at the prestigious Rockygrass Dobro Contest. \nThe duo performs regularly at events across the state\, sharing their music at venues like the Eagleview Pickout and the Canyonville Farmers Market\, where their lively sets have helped them build a loyal regional following. Fans can also enjoy recordings of Sequoia’s performances on YouTube\, where the pair can be seen putting their unique spin on songs like “Tennessee Flat Top Box” and “Papa’s on the Housetop\,” showcasing both their technical musicianship and the easy chemistry that defines their sound. \nSee you on Friday\nNovember 21st\, 5pm to 7pm \nReservations Recommended\nCall 541-512-1655
URL:https://pebblestonecellars.biz/event/open-8/
LOCATION:Pebblestone Tasting Barn\, 1670 Pioneer Road\, Talent\, OR
CATEGORIES:Live Music
ATTACH;FMTTYPE=image/jpeg:https://pebblestonecellars.biz/wp-content/uploads/2025/07/Sequoia-2025.jpg
END:VEVENT
BEGIN:VEVENT
DTSTART;TZID=America/Los_Angeles:20251123T150000
DTEND;TZID=America/Los_Angeles:20251123T170000
DTSTAMP:20260423T213005
CREATED:20251120T190037Z
LAST-MODIFIED:20251120T190108Z
UID:7889-1763910000-1763917200@pebblestonecellars.biz
SUMMARY:Holly Gleason Duo
DESCRIPTION:We are thrilled to welcome singer-songwriter Holly Gleason back to Pebblestone for another unforgettable performance. Holly will be joined by Dr. J\, (Jeffery Judkins) whose skill on guitar and dobro (a type of resonator guitar) that adds rich depth and texture to their sound. Together\, they will be previewing several original songs from their forthcoming album\, Tripping into Wonderful\, giving audiences an early glimpse into the heartfelt music they’ve been crafting. \nHolly’s warm\, melodious voice and thoughtfully crafted compositions invite listeners on a nostalgic journey through memories\, sprinkled with wisdom\, gentle humor\, and moments of heartfelt reflection. Her performances flow effortlessly from lighthearted storytelling to deeply moving emotion\, all carried by her soulful guitar work and the dynamic interplay with Dr. J. Join us on Sunday! \nSee you on Sunday\nNovember 23rd\, 3pm to 5pm \nReservations Recommended\nCall 541-512-1655
URL:https://pebblestonecellars.biz/event/holly-gleason-duo-2/
LOCATION:Pebblestone Tasting Barn\, 1670 Pioneer Road\, Talent\, OR
CATEGORIES:Live Music
ATTACH;FMTTYPE=image/jpeg:https://pebblestonecellars.biz/wp-content/uploads/2023/03/HollyGleason2023.jpg
END:VEVENT
BEGIN:VEVENT
DTSTART;TZID=America/Los_Angeles:20251128T170000
DTEND;TZID=America/Los_Angeles:20251128T190000
DTSTAMP:20260423T213005
CREATED:20251027T222938Z
LAST-MODIFIED:20251127T175157Z
UID:7852-1764349200-1764356400@pebblestonecellars.biz
SUMMARY:Cathy Bolton
DESCRIPTION:With over three decades of performing experience\, Cathy Bolton brings audiences a warm\, heartfelt musical style that blends folk\, country\, light pop\, blues\, and even a hint of Irish influence. She intuitively connects with her listeners\, creating performances that soothe the soul and invite you to relax\, sway\, or even dance along. \nThroughout her career\, Cathy has recorded ten albums of both original and cover songs\, with her work featured on two Windham Hill Records compilation albums alongside artists like Yanni\, George Winston\, and Jim Brickman. She’s also opened for Nashville stars Toby Keith and Dan Seals\, adding to her impressive musical journey. \nAt Pebblestone\, Cathy will share a lovely mix of her own songs and timeless favorites from artists such as John Denver\, Dolly Parton\, Joan Baez\, The Beatles\, Joni Mitchell\, Bob Dylan\, Emmylou Harris\, Chris Stapleton\, Miranda Lambert\, Lainey Wilson\, Mary Chapin Carpenter\, and more. \nSee you on Friday\nNovember 28th\, 5pm to 7pm \nReservations Recommended\nCall 541-512-1655
URL:https://pebblestonecellars.biz/event/open-9/
LOCATION:Pebblestone Tasting Barn\, 1670 Pioneer Road\, Talent\, OR
CATEGORIES:Live Music
ATTACH;FMTTYPE=image/jpeg:https://pebblestonecellars.biz/wp-content/uploads/2025/10/CathyBolton2025.jpg
END:VEVENT
BEGIN:VEVENT
DTSTART;TZID=America/Los_Angeles:20251130T150000
DTEND;TZID=America/Los_Angeles:20251130T170000
DTSTAMP:20260423T213005
CREATED:20251027T223137Z
LAST-MODIFIED:20251127T175412Z
UID:7854-1764514800-1764522000@pebblestonecellars.biz
SUMMARY:Twelve Bars Deep
DESCRIPTION:Join us for an unforgettable evening at Pebblestone Cellars as we welcome the dynamic\, soul-stirring sounds of Twelve Bars Deep. This talented group brings a vibrant blend of Blues\, R&B\, and swing—music that fills the room\, lifts the mood\, and has a way of getting everyone moving. With years of live performance experience behind them\, they know exactly how to create a fun\, upbeat atmosphere that pairs beautifully with our relaxed\, community-focused vibe. \nSettle in with a glass of our handcrafted wines\, enjoy the company around you\, and let the music carry you into the evening. It’s the perfect chance to unwind\, connect\, and make a few new memories along the way. We can’t wait to share the night with you at Pebblestone Cellars—come enjoy the wine\, the music\, and the moment. \nSee you on Sunday\nNovember 30th\, 3pm to 5pm \nReservations Recommended\nCall 541-512-1655
URL:https://pebblestonecellars.biz/event/12-bars-deep-4/
LOCATION:Pebblestone Tasting Barn\, 1670 Pioneer Road\, Talent\, OR
CATEGORIES:Live Music
ATTACH;FMTTYPE=image/jpeg:https://pebblestonecellars.biz/wp-content/uploads/2025/03/12BarsDeep2025.jpg
END:VEVENT
END:VCALENDAR