BEGIN:VCALENDAR
VERSION:2.0
PRODID:-//Pebblestone Cellars - ECPv6.15.20//NONSGML v1.0//EN
CALSCALE:GREGORIAN
METHOD:PUBLISH
X-WR-CALNAME:Pebblestone Cellars
X-ORIGINAL-URL:https://pebblestonecellars.biz
X-WR-CALDESC:Events for Pebblestone Cellars
REFRESH-INTERVAL;VALUE=DURATION:PT1H
X-Robots-Tag:noindex
X-PUBLISHED-TTL:PT1H
BEGIN:VTIMEZONE
TZID:America/Los_Angeles
BEGIN:DAYLIGHT
TZOFFSETFROM:-0800
TZOFFSETTO:-0700
TZNAME:PDT
DTSTART:20240310T100000
END:DAYLIGHT
BEGIN:STANDARD
TZOFFSETFROM:-0700
TZOFFSETTO:-0800
TZNAME:PST
DTSTART:20241103T090000
END:STANDARD
BEGIN:DAYLIGHT
TZOFFSETFROM:-0800
TZOFFSETTO:-0700
TZNAME:PDT
DTSTART:20250309T100000
END:DAYLIGHT
BEGIN:STANDARD
TZOFFSETFROM:-0700
TZOFFSETTO:-0800
TZNAME:PST
DTSTART:20251102T090000
END:STANDARD
BEGIN:DAYLIGHT
TZOFFSETFROM:-0800
TZOFFSETTO:-0700
TZNAME:PDT
DTSTART:20260308T100000
END:DAYLIGHT
BEGIN:STANDARD
TZOFFSETFROM:-0700
TZOFFSETTO:-0800
TZNAME:PST
DTSTART:20261101T090000
END:STANDARD
END:VTIMEZONE
BEGIN:VEVENT
DTSTART;TZID=America/Los_Angeles:20251003T170000
DTEND;TZID=America/Los_Angeles:20251003T190000
DTSTAMP:20260423T232148
CREATED:20251002T183533Z
LAST-MODIFIED:20251003T171300Z
UID:7775-1759510800-1759518000@pebblestonecellars.biz
SUMMARY:Cathy Bolton
DESCRIPTION:With a career spanning more than three decades\, Cathy Bolton brings audiences a truly heartfelt musical experience. Her easy-listening style blends folk with country\, light pop with a touch of blues\, and even a sprinkling of Irish folk flavor. Always attuned to what moves her listeners\, Cathy delivers performances that touch both the heart and the soul—perfect for relaxing\, listening\, or even dancing along. \nOver the course of her career\, Cathy has recorded ten albums of original and cover songs\, and her music has been featured on two Windham Hill Records compilation albums alongside renowned artists such as Yanni\, George Winston\, and Jim Brickman. She’s also had the honor of opening in concert for Nashville recording artists Toby Keith and Dan Seals\, marking highlights in her extensive journey as a performer. \nAt Pebblestone\, Cathy will share a delightful mix of her own original compositions along with timeless favorites from beloved artists including John Denver\, Dolly Parton\, Joan Baez\, The Beatles\, Joni Mitchell\, Bob Dylan\, Emmylou Harris\, Chris Stapleton\, Miranda Lambert\, Lainey Wilson\, Mary Chapin Carpenter\, and many more. \nSee you on Friday\nOctober 3rd\, 5pm to 7pm \nReservations Recommended\nCall 541-512-1655
URL:https://pebblestonecellars.biz/event/cathy-bolton-2/
LOCATION:Pebblestone Tasting Barn\, 1670 Pioneer Road\, Talent\, OR
CATEGORIES:Live Music
ATTACH;FMTTYPE=image/jpeg:https://pebblestonecellars.biz/wp-content/uploads/2025/05/CathyBolton2025.jpg
END:VEVENT
BEGIN:VEVENT
DTSTART;TZID=America/Los_Angeles:20251005T150000
DTEND;TZID=America/Los_Angeles:20251005T170000
DTSTAMP:20260423T232148
CREATED:20251002T183827Z
LAST-MODIFIED:20251003T171447Z
UID:7777-1759676400-1759683600@pebblestonecellars.biz
SUMMARY:Gil René
DESCRIPTION:As a solo acoustic artist\, Gil René offers audiences a well-balanced mix of music—sing-along friendly covers that everyone knows and loves\, heartfelt originals that showcase his depth as a songwriter\, and the occasional surprise tune to keep the energy fresh and unexpected. His performances are more than just music; they’re experiences that invite listeners to join him on a journey through story\, emotion\, and song. \nIn 2019\, Gil released his first all-original album\, Las Vegas Rain\, a project that highlights his unique voice and songwriting craft. Now calling the beautiful Rogue Valley home\, he continues to share his eclectic repertoire with Oregon audiences\, bringing authenticity\, joy\, and a touch of nostalgia to every performance. \nWhether he’s playing a familiar classic or one of his own inspired originals\, Gil René’s music resonates deeply with audiences of all ages—making every show a memorable celebration of song. \nSee you on Sunday\, October 5th\, 3pm to 5pm \nReservations Recommended\nCall 541-512-1655
URL:https://pebblestonecellars.biz/event/gil-rene-4/
LOCATION:Pebblestone Tasting Barn\, 1670 Pioneer Road\, Talent\, OR
CATEGORIES:Live Music
ATTACH;FMTTYPE=image/jpeg:https://pebblestonecellars.biz/wp-content/uploads/2024/05/GilRene2024.jpg
END:VEVENT
BEGIN:VEVENT
DTSTART;TZID=America/Los_Angeles:20251010T170000
DTEND;TZID=America/Los_Angeles:20251010T190000
DTSTAMP:20260423T232148
CREATED:20251002T184027Z
LAST-MODIFIED:20251010T172608Z
UID:7779-1760115600-1760122800@pebblestonecellars.biz
SUMMARY:Paper Moon Duo
DESCRIPTION:We are super thrilled to have the Paper Moon Duo back in the tasting room this weekend. Check out the QR code to hear some of their magical tunes! \nSee you on Friday\nOctober 10th\, 5pm to 7pm \nReservations Recommended\nCall 541-512-1655
URL:https://pebblestonecellars.biz/event/paper-moon-duo-2/
LOCATION:Pebblestone Tasting Barn\, 1670 Pioneer Road\, Talent\, OR
CATEGORIES:Live Music
ATTACH;FMTTYPE=image/jpeg:https://pebblestonecellars.biz/wp-content/uploads/2025/03/PaperMoon2025.jpg
END:VEVENT
BEGIN:VEVENT
DTSTART;TZID=America/Los_Angeles:20251012T150000
DTEND;TZID=America/Los_Angeles:20251012T170000
DTSTAMP:20260423T232148
CREATED:20251002T184207Z
LAST-MODIFIED:20251010T172732Z
UID:7781-1760281200-1760288400@pebblestonecellars.biz
SUMMARY:Sonido Alegra
DESCRIPTION:As always we are thrilled to have these guys back in the tasting room on Sunday. With Charles Guy’s roots in North Carolina’s bluegrass and soul\, blended beautifully with Linda Powers’ mastery of the violin from her Gypsy swing days\, this duo promises a lively performance that will get your toes tapping and your spirits soaring! \nExperience the rich tapestry of original music infused with Latin\, Spanish\, flamenco\, and Gypsy influences\, along with popular folk rock favorites. The tasting room at Pebblestone Cellars will be alive with energy\, just like our delicious wines—each sip mirroring the vibrant melodies you’ll hear. Don’t miss out on this joyous celebration of music and craftsmanship; grab your friends and join us for a day that promises to be filled with laughter\, rhythm\, and unforgettable memories! \nSee you on Sunday\nOctober 12th\, 3pm to 5pm \nReservations Recommended\nCall 541-512-1655
URL:https://pebblestonecellars.biz/event/sonido-alegra-2/
LOCATION:Pebblestone Tasting Barn\, 1670 Pioneer Road\, Talent\, OR
CATEGORIES:Live Music
ATTACH;FMTTYPE=image/jpeg:https://pebblestonecellars.biz/wp-content/uploads/2022/07/sonido-allegre-2021.jpg
END:VEVENT
BEGIN:VEVENT
DTSTART;TZID=America/Los_Angeles:20251017T170000
DTEND;TZID=America/Los_Angeles:20251017T190000
DTSTAMP:20260423T232148
CREATED:20251002T185548Z
LAST-MODIFIED:20251016T173118Z
UID:7783-1760720400-1760727600@pebblestonecellars.biz
SUMMARY:Waxen Moon Duo
DESCRIPTION:Get ready to be transported through time with the unforgettable sounds of the ’60s\, ’70s\, and beyond. Rob Bremer and Julie Raefield bring a rich mix of classic folk\, rock\, blues\, and beloved standards that will have you tapping your feet and singing along all night. \nRob’s musical journey has taken him from recording sessions in San Diego to the intimate stages of the Pacific Northwest\, showcasing his talents on guitar and keyboard. Along the way\, he and Julie shared their love of music by teaching guitar\, ukulele\, and voice to adults chasing their rock ‘n’ roll dreams. \nJulie’s background in musical theatre and classical voice laid the foundation for a unique style that truly found its spark during a spellbinding performance of Jefferson Airplane’s White Rabbit. Together\, Rob and Julie create a powerful\, soulful sound that blends storytelling with harmony\, heart\, and a little bit of rock-and-roll edge. \nSee you on Friday\nOctober 17th\, 5pm to 7pm \nReservations Recommended\nCall 541-512-1655
URL:https://pebblestonecellars.biz/event/waxen-moon-duo/
LOCATION:Pebblestone Tasting Barn\, 1670 Pioneer Road\, Talent\, OR
CATEGORIES:Live Music
ATTACH;FMTTYPE=image/jpeg:https://pebblestonecellars.biz/wp-content/uploads/2025/10/waxin-moon2025.jpg
END:VEVENT
BEGIN:VEVENT
DTSTART;TZID=America/Los_Angeles:20251018T140000
DTEND;TZID=America/Los_Angeles:20251018T160000
DTSTAMP:20260423T232148
CREATED:20251002T185732Z
LAST-MODIFIED:20251002T185754Z
UID:7785-1760796000-1760803200@pebblestonecellars.biz
SUMMARY:Ukulele Jam - October
DESCRIPTION:The Ukulele Jam is happening again! The Ukulele Jam is gaining in popularity now usually attended by 25 to 30 or more ukulele players strumming and singing through a number of popular songs and enjoyed by an growing audience of fans. \nThey are great to watch but you can also sing along while enjoying a glass or bottle of wine. Local ukulele instructor Tish McFadden will again lead the jam. \nIf the weather is cooperative\, the Jam will be held outside on the tasting room deck; spectators are welcome to enjoy the Jam from our lawn area seating. \nSongbooks are available. All acoustic instruments and voices are welcome as well as just those that just want to enjoy the JAM. \nCall Tish at 541-840-8075 for more information.
URL:https://pebblestonecellars.biz/event/ukulele-jam-august-2-2/
LOCATION:Pebblestone Tasting Barn\, 1670 Pioneer Road\, Talent\, OR
CATEGORIES:Live Music
ATTACH;FMTTYPE=image/jpeg:https://pebblestonecellars.biz/wp-content/uploads/2023/11/ukulele-jam.jpg
END:VEVENT
BEGIN:VEVENT
DTSTART;TZID=America/Los_Angeles:20251019T150000
DTEND;TZID=America/Los_Angeles:20251019T170000
DTSTAMP:20260423T232148
CREATED:20251002T185915Z
LAST-MODIFIED:20251016T173321Z
UID:7787-1760886000-1760893200@pebblestonecellars.biz
SUMMARY:Carla Bauer
DESCRIPTION:Carla Bauer brings a mix of acoustic rock from the ‘60s onward\, blended with country rock\, blues\, hard rock\, and heartfelt originals. Expect familiar favorites\, hidden gems you haven’t heard in a while\, and maybe even a song that gets you up and dancing! We are stoked as always to have Carla Bauer back with us! Carla never fails to bring an electric energy to the stage\, she really knows how to get the party going! Get ready for an evening of great tunes and good vibes! \nSee you on Sunday\nOctober 19th\, 3pm to 5pm \nReservations Recommended\nCall 541-512-1655
URL:https://pebblestonecellars.biz/event/carla-bauer-3/
LOCATION:Pebblestone Tasting Barn\, 1670 Pioneer Road\, Talent\, OR
CATEGORIES:Live Music
ATTACH;FMTTYPE=image/jpeg:https://pebblestonecellars.biz/wp-content/uploads/2024/08/carlaBauer2024-e1725573448787.jpg
END:VEVENT
BEGIN:VEVENT
DTSTART;TZID=America/Los_Angeles:20251024T170000
DTEND;TZID=America/Los_Angeles:20251024T190000
DTSTAMP:20260423T232148
CREATED:20251002T190049Z
LAST-MODIFIED:20251023T200335Z
UID:7789-1761325200-1761332400@pebblestonecellars.biz
SUMMARY:Ambrose & Galfano
DESCRIPTION:This awesome duo is back! Jen Ambrose and Jon Galfano\, light up the stage with their electrifying performance! \nPicture this: the enchanting sounds of flutes\, the strumming of guitars\, and the rich melodies from the keyboard filling the air\, all while you sip on our handcrafted wines that perfectly complement each note. As they take you on a musical journey\, showcasing and paying tribute to rock legends with their renditions of classics from The Beatles\, Elton John\, and Led Zeppelin\, you’ll find yourself tapping your feet and singing along in no time! This is more than just a concert; it’s a magical experience crafted for both casual wine lovers and seasoned connoisseurs alike. Don’t wait—secure your spot for this enchanting night of music and wine before it’s too late! \nJoin us at Pebblestone\, where community\, quality\, and unforgettable memories come together! \nSee you on Friday\nOctober 24th\, 5pm to 7pm \nReservations Recommended\nCall 541-512-1655
URL:https://pebblestonecellars.biz/event/ambrose-galfano-5/
LOCATION:Pebblestone Tasting Barn\, 1670 Pioneer Road\, Talent\, OR
CATEGORIES:Live Music
ATTACH;FMTTYPE=image/jpeg:https://pebblestonecellars.biz/wp-content/uploads/2025/10/ambrosegalfano2025.jpg
END:VEVENT
BEGIN:VEVENT
DTSTART;TZID=America/Los_Angeles:20251026T150000
DTEND;TZID=America/Los_Angeles:20251026T170000
DTSTAMP:20260423T232148
CREATED:20251002T190206Z
LAST-MODIFIED:20251025T220701Z
UID:7791-1761490800-1761498000@pebblestonecellars.biz
SUMMARY:Mark Hill
DESCRIPTION:Join us for an unforgettable evening as we celebrate the vibrant sounds of Mark Charles Hill\, a beloved fixture of the Rogue Valley music scene for over two decades! With roots tracing back to California and a rich tapestry of Folk\, Rock\, Country\, Gospel\, and Bluegrass influences\, Mark’s performances are a delightful blend of heartfelt storytelling and toe-tapping melodies. Imagine savoring our exquisite Pebblestone Cellars wines while being serenaded by captivating covers of legends like John Denver and James Taylor. \nThis is more than just a concert; it’s a unique experience where wine and music come together in perfect harmony. With limited seating available inside the tasting hall\, don’t miss your chance to enjoy this magical evening\, connecting with both the artistry of winemaking and the soulful tunes of Mark Charles Hill. Let’s raise a glass and celebrate the joy of music and wine together! \nSee you on Sunday\nOctober 26th\, 3pm to 5pm \nReservations Recommended\nCall 541-512-1655
URL:https://pebblestonecellars.biz/event/mark-hill-2/
LOCATION:Pebblestone Tasting Barn\, 1670 Pioneer Road\, Talent\, OR
CATEGORIES:Live Music
ATTACH;FMTTYPE=image/jpeg:https://pebblestonecellars.biz/wp-content/uploads/2023/08/MarkCharlesHill.jpg
END:VEVENT
BEGIN:VEVENT
DTSTART;TZID=America/Los_Angeles:20251031T170000
DTEND;TZID=America/Los_Angeles:20251031T190000
DTSTAMP:20260423T232148
CREATED:20251030T170934Z
LAST-MODIFIED:20251030T171157Z
UID:7863-1761930000-1761937200@pebblestonecellars.biz
SUMMARY:Cathy Bolton
DESCRIPTION:With over 33 years in music\, Cathy Bolton continues to captivate audiences with performances that touch the heart and move the feet. Her music—both soulful and uplifting—invites listeners to connect\, reflect\, and sing and dance along. \nDuring the first 25 years of her career\, Cathy recorded 10 albums featuring both original songs and inspired covers. Her work has also been featured on two Windham Hill Records compilation albums alongside celebrated artists such as Yanni\, George Winston\, and Jim Brickman. Career highlights include opening in concert for Nashville recording artists Toby Keith and Dan Seals. \nDon’t miss this opportunity to experience Cathy perform an evening of beautifully chosen originals and beloved classics by artists including John Denver\, Dolly Parton\, Joan Baez\, The Beatles\, Joni Mitchell\, Bob Dylan\, Emmylou Harris\, Chris Stapleton\, Miranda Lambert\, Lainey Wilson\, Mary Chapin Carpenter—and many more. \nSee you on  Friday\nOctober 31st\, 5pm to 7pm \nReservations Recommended\nCall 541-512-1655
URL:https://pebblestonecellars.biz/event/cathy-bolton-3/
LOCATION:Pebblestone Tasting Barn\, 1670 Pioneer Road\, Talent\, OR
CATEGORIES:Live Music
ATTACH;FMTTYPE=image/jpeg:https://pebblestonecellars.biz/wp-content/uploads/2025/10/CathyBolton2025.jpg
END:VEVENT
END:VCALENDAR