BEGIN:VCALENDAR
VERSION:2.0
PRODID:-//Pebblestone Cellars - ECPv6.15.20//NONSGML v1.0//EN
CALSCALE:GREGORIAN
METHOD:PUBLISH
X-WR-CALNAME:Pebblestone Cellars
X-ORIGINAL-URL:https://pebblestonecellars.biz
X-WR-CALDESC:Events for Pebblestone Cellars
REFRESH-INTERVAL;VALUE=DURATION:PT1H
X-Robots-Tag:noindex
X-PUBLISHED-TTL:PT1H
BEGIN:VTIMEZONE
TZID:America/Los_Angeles
BEGIN:DAYLIGHT
TZOFFSETFROM:-0800
TZOFFSETTO:-0700
TZNAME:PDT
DTSTART:20240310T100000
END:DAYLIGHT
BEGIN:STANDARD
TZOFFSETFROM:-0700
TZOFFSETTO:-0800
TZNAME:PST
DTSTART:20241103T090000
END:STANDARD
BEGIN:DAYLIGHT
TZOFFSETFROM:-0800
TZOFFSETTO:-0700
TZNAME:PDT
DTSTART:20250309T100000
END:DAYLIGHT
BEGIN:STANDARD
TZOFFSETFROM:-0700
TZOFFSETTO:-0800
TZNAME:PST
DTSTART:20251102T090000
END:STANDARD
BEGIN:DAYLIGHT
TZOFFSETFROM:-0800
TZOFFSETTO:-0700
TZNAME:PDT
DTSTART:20260308T100000
END:DAYLIGHT
BEGIN:STANDARD
TZOFFSETFROM:-0700
TZOFFSETTO:-0800
TZNAME:PST
DTSTART:20261101T090000
END:STANDARD
END:VTIMEZONE
BEGIN:VEVENT
DTSTART;TZID=America/Los_Angeles:20250905T170000
DTEND;TZID=America/Los_Angeles:20250905T190000
DTSTAMP:20260424T010517
CREATED:20250805T193217Z
LAST-MODIFIED:20250903T231148Z
UID:7688-1757091600-1757098800@pebblestonecellars.biz
SUMMARY:Dan Doshier and Friends
DESCRIPTION:Get ready for an unforgettable Friday Eve at Pebblestone Cellars\, where the enchanting sounds of Dan Doshier will fill the air\, creating the perfect backdrop for a delightful afternoon of fine wines and soulful melodies. As a seasoned singer-songwriter with over 3\,000 performances under his belt\, Dan’s music transcends genres\, blending classic country\, folk\, and easy listening into a tapestry of sound that resonates with the heart. Picture yourself nestled among the beautiful vines\, sipping on our meticulously crafted wines\, as Dan’s heartfelt tunes invite you to connect with the warmth of our winery’s inviting atmosphere. \nAt Pebblestone Cellars\, we are committed to providing enriching experiences that celebrate quality and authenticity\, and this event is no exception! Bring your friends and fellow wine lovers to share in the joy of live music and exceptional wines—it’s an afternoon you won’t want to miss! \nSee you on Friday!\nSeptember 5th\, 5pm to 7pm \nReservations Recommended\nCall 541-512-1655
URL:https://pebblestonecellars.biz/event/dan-doshier-and-friends/
LOCATION:Pebblestone Tasting Barn\, 1670 Pioneer Road\, Talent\, OR
CATEGORIES:Live Music
ATTACH;FMTTYPE=image/jpeg:https://pebblestonecellars.biz/wp-content/uploads/2025/07/DonDoshier2025.jpg
END:VEVENT
BEGIN:VEVENT
DTSTART;TZID=America/Los_Angeles:20250907T150000
DTEND;TZID=America/Los_Angeles:20250907T170000
DTSTAMP:20260424T010517
CREATED:20250805T193356Z
LAST-MODIFIED:20250903T231301Z
UID:7690-1757257200-1757264400@pebblestonecellars.biz
SUMMARY:Stardust Jazz
DESCRIPTION:Get ready to uncork an unforgettable afternoon on the deck with Stardust Jazz\, where world-class music meets handcrafted wines in an beautiful outdoor setting! With the delightful vocals of Ruth Cohen\, the mesmerizing guitar of Tim Church\, and the smooth bass of Steve Fain\, this talented ensemble is ready to serenade your senses! Adding a special touch\, the soulful saxophone melodies of guest artist Paul Schmeling will take you on a melodious journey through jazz and pop from around the globe. \nDon’t let this harmonious opportunity slip through your fingers—make your reservations now to ensure you join us for a night filled with delightful sips and sweet sounds! Bring your loved ones and create beautiful memories while we toast to good times and great tunes at Pebblestone Cellars! \nSee you on Sunday!\nSeptember 7th\, 3pm to 5pm \nReservations Recommended\nCall 541-512-1655
URL:https://pebblestonecellars.biz/event/stardust-jazz-2/
CATEGORIES:Live Music
ATTACH;FMTTYPE=image/jpeg:https://pebblestonecellars.biz/wp-content/uploads/2023/07/StardustTrio2023.jpg
END:VEVENT
BEGIN:VEVENT
DTSTART;TZID=America/Los_Angeles:20250912T170000
DTEND;TZID=America/Los_Angeles:20250912T190000
DTSTAMP:20260424T010517
CREATED:20250805T193529Z
LAST-MODIFIED:20250910T180208Z
UID:7692-1757696400-1757703600@pebblestonecellars.biz
SUMMARY:J O N E S
DESCRIPTION:Led by the dynamic duo of Joshua Jones and Shelley Kristen Jones\, this talented musical pair brings over 20 years of experience to the stage. With Joshua’s incredible guitar skills and Shelley’s powerful voice and songwriting abilities\, J O N E S is redefining the musical landscape. Get ready to rock\, dance\, and sing along to their unique spin on Classic Rock\, R&B\, Pop\, Folk\, Country\, and Jazz Standards. Don’t miss out on the musical experience of a lifetime – come see J O N E S perform! \nSee you on Friday\nSeptember 12th\, 5pm to 7pm \nReservations Recommended\nCall 541-512-1655
URL:https://pebblestonecellars.biz/event/j-o-n-e-s-8/
LOCATION:Pebblestone Tasting Barn\, 1670 Pioneer Road\, Talent\, OR
CATEGORIES:Live Music
ATTACH;FMTTYPE=image/jpeg:https://pebblestonecellars.biz/wp-content/uploads/2025/08/JONES-2025.jpg
END:VEVENT
BEGIN:VEVENT
DTSTART;TZID=America/Los_Angeles:20250914T150000
DTEND;TZID=America/Los_Angeles:20250914T170000
DTSTAMP:20260424T010517
CREATED:20250805T193720Z
LAST-MODIFIED:20250910T180755Z
UID:7694-1757862000-1757869200@pebblestonecellars.biz
SUMMARY:Shybo Duo
DESCRIPTION:Get ready for an unforgettable Sunday afternoon at Pebblestone Cellars\, where the magic of live music meets the artistry of fine wine! Join us as the local sensation\, Shybo and Twisted Vines\, take the stage to serenade you with their captivating blend of easy listening tunes. Picture this: the soulful vocals of Shybo Torres and the groovy bass lines from Jeff Avila. They’ll be playing a delightful mix of originals and classics from legendary artists such as Cat Stevens\, The Beatles\, Neil Young\, Gordon Lightfoot and many others. that will have you tapping your feet and humming along! \nSee you Sunday\nSeptember 14th\, 3pm to 5pm \nReservations Recommended\nCall 541-512-1655
URL:https://pebblestonecellars.biz/event/shybo-the-twisted-vines/
LOCATION:Pebblestone Tasting Barn\, 1670 Pioneer Road\, Talent\, OR
CATEGORIES:Live Music
ATTACH;FMTTYPE=image/jpeg:https://pebblestonecellars.biz/wp-content/uploads/2024/08/ShyboTorres2024.jpg
END:VEVENT
BEGIN:VEVENT
DTSTART;TZID=America/Los_Angeles:20250919T170000
DTEND;TZID=America/Los_Angeles:20250919T190000
DTSTAMP:20260424T010517
CREATED:20250805T193837Z
LAST-MODIFIED:20250910T182420Z
UID:7696-1758301200-1758308400@pebblestonecellars.biz
SUMMARY:Jeff Kloetzel
DESCRIPTION:Get ready for an unforgettable night of music with singer-songwriter and cover artist Jeff Kloetzel! He’s well known in the area for his rhythmic guitar\, soulful vocals\, and engaging stage presence\, Jeff delivers everything from upbeat modern hits to classic ballads. With influences rooted in pop\, rock\, folk\, blues\, and contemporary island sounds\, his music offers something for every listener. Don’t miss the chance to enjoy Jeff’s dynamic and heartfelt performance live! \nSee you on Friday\nSeptember 19th\, 5pm to 7pm \nReservations Recommended\nCall 541-512-1655
URL:https://pebblestonecellars.biz/event/jeff-kloetzel-10/
LOCATION:Pebblestone Tasting Barn\, 1670 Pioneer Road\, Talent\, OR
CATEGORIES:Live Music
ATTACH;FMTTYPE=image/jpeg:https://pebblestonecellars.biz/wp-content/uploads/2022/07/Jeff-Kloetzel-2022.jpg
END:VEVENT
BEGIN:VEVENT
DTSTART;TZID=America/Los_Angeles:20250920T140000
DTEND;TZID=America/Los_Angeles:20250920T160000
DTSTAMP:20260424T010517
CREATED:20250805T194541Z
LAST-MODIFIED:20250805T194541Z
UID:7704-1758376800-1758384000@pebblestonecellars.biz
SUMMARY:Ukulele Jam - Sept.
DESCRIPTION:The Ukulele Jam is happening again! The Ukulele Jam is gaining in popularity now usually attended by 25 to 30 or more ukulele players strumming and singing through a number of popular songs and enjoyed by an growing audience of fans. \nThey are great to watch but you can also sing along while enjoying a glass or bottle of wine. Local ukulele instructor Tish McFadden will again lead the jam. \nIf the weather is cooperative\, the Jam will be held outside on the tasting room deck; spectators are welcome to enjoy the Jam from our lawn area seating. \nSongbooks are available. All acoustic instruments and voices are welcome as well as just those that just want to enjoy the JAM. \nCall Tish at 541-840-8075 for more information.
URL:https://pebblestonecellars.biz/event/ukulele-jam-august-2/
LOCATION:Pebblestone Tasting Barn\, 1670 Pioneer Road\, Talent\, OR
CATEGORIES:Live Music
ATTACH;FMTTYPE=image/jpeg:https://pebblestonecellars.biz/wp-content/uploads/2023/11/ukulele-jam.jpg
END:VEVENT
BEGIN:VEVENT
DTSTART;TZID=America/Los_Angeles:20250926T170000
DTEND;TZID=America/Los_Angeles:20250926T190000
DTSTAMP:20260424T010517
CREATED:20250805T194151Z
LAST-MODIFIED:20250925T220319Z
UID:7700-1758906000-1758913200@pebblestonecellars.biz
SUMMARY:Valley Duo
DESCRIPTION:Friday Evening Magic\nHailing from the picturesque Rogue Valley in Southern Oregon\, The Valley Duo brings audiences a heartfelt blend of songs from the ‘60s\, ‘70s\, and timeless classics across a variety of genres. Known for their tight two-part vocal harmonies and a refreshingly authentic sound\, The Valley Duo delivers music the old-school way—without computer-generated backing tracks or drum machines—just pure voices and acoustic charm. \nLaura was born in Waukegan\, Illinois\, and grew up surrounded by music. Her father was a drummer and vocalist in a swing band\, her mother played piano\, and her siblings sang and played guitar—so it was only natural that harmonizing became second nature to her. Over the years\, Laura has lent her voice to community choirs\, barbershop quartets\, and gospel groups\, including two decades as a member of Kirby Shaw’s Community Choir. \nScott found his musical inspiration in the 1960s\, learning guitar as bands like The Beatles and The Rolling Stones shaped the soundtrack of a generation. After a career as an educator\, he now devotes his time to making music\, performing with The Valley Duo\, and experimenting in his home recording studio\, Medford Studio\, where he collaborates with other musicians purely for the joy of creating. \nTogether\, Laura and Scott form The Valley Duo\, offering audiences a nostalgic\, harmony-rich experience that celebrates the golden era of music with warmth and authenticity. \nSee you on Friday\, September 26th\, 5pm to 7pm \nReservations Recommended \nCall 541-512-1655
URL:https://pebblestonecellars.biz/event/music-tbd-3/
LOCATION:Pebblestone Tasting Barn\, 1670 Pioneer Road\, Talent\, OR
CATEGORIES:Live Music
ATTACH;FMTTYPE=image/jpeg:https://pebblestonecellars.biz/wp-content/uploads/2025/08/ValleyDuo2025.jpg
END:VEVENT
BEGIN:VEVENT
DTSTART;TZID=America/Los_Angeles:20250928T150000
DTEND;TZID=America/Los_Angeles:20250928T170000
DTSTAMP:20260424T010517
CREATED:20250805T194346Z
LAST-MODIFIED:20250925T220511Z
UID:7702-1759071600-1759078800@pebblestonecellars.biz
SUMMARY:SHINE ON
DESCRIPTION:Sunday Sounds\nwith \nSHINE ON! \nGet ready for an unforgettable afternoon of music with SHINE ON\, a talented trio bringing their own unique spin to Grateful Americana. Featuring Steve Shine on guitar\, John Galloway on bass\, and Cathy Dorris on drums\, SHINE ON delivers a soulful\, harmony-rich sound that celebrates the legendary music of the Grateful Dead\, Jerry Garcia\, The Beatles\, Bob Dylan\, Van Morrison\, and more. \nWith their blend of intricate musicianship and smooth three-part harmonies\, SHINE ON takes you on a laid-back\, feel-good musical journey that perfectly pairs with a glass of wine and good company. Whether you’re a long-time Deadhead or simply love classic tunes with heart and soul\, this is a show you won’t want to miss. \nCome experience the magic of SHINE ON—where timeless music meets unforgettable vibes. \nSee you on Sunday! \nSeptember 28th\, 3pm to 5pm \nReservations Recommended \nCall 541-512-1655
URL:https://pebblestonecellars.biz/event/shine-on-9/
LOCATION:Pebblestone Tasting Barn\, 1670 Pioneer Road\, Talent\, OR
CATEGORIES:Live Music
ATTACH;FMTTYPE=image/jpeg:https://pebblestonecellars.biz/wp-content/uploads/2023/01/shineontrio-2023.jpg
END:VEVENT
END:VCALENDAR