BEGIN:VCALENDAR
VERSION:2.0
PRODID:-//Pebblestone Cellars - ECPv6.15.20//NONSGML v1.0//EN
CALSCALE:GREGORIAN
METHOD:PUBLISH
X-ORIGINAL-URL:https://pebblestonecellars.biz
X-WR-CALDESC:Events for Pebblestone Cellars
REFRESH-INTERVAL;VALUE=DURATION:PT1H
X-Robots-Tag:noindex
X-PUBLISHED-TTL:PT1H
BEGIN:VTIMEZONE
TZID:America/Los_Angeles
BEGIN:DAYLIGHT
TZOFFSETFROM:-0800
TZOFFSETTO:-0700
TZNAME:PDT
DTSTART:20240310T100000
END:DAYLIGHT
BEGIN:STANDARD
TZOFFSETFROM:-0700
TZOFFSETTO:-0800
TZNAME:PST
DTSTART:20241103T090000
END:STANDARD
BEGIN:DAYLIGHT
TZOFFSETFROM:-0800
TZOFFSETTO:-0700
TZNAME:PDT
DTSTART:20250309T100000
END:DAYLIGHT
BEGIN:STANDARD
TZOFFSETFROM:-0700
TZOFFSETTO:-0800
TZNAME:PST
DTSTART:20251102T090000
END:STANDARD
BEGIN:DAYLIGHT
TZOFFSETFROM:-0800
TZOFFSETTO:-0700
TZNAME:PDT
DTSTART:20260308T100000
END:DAYLIGHT
BEGIN:STANDARD
TZOFFSETFROM:-0700
TZOFFSETTO:-0800
TZNAME:PST
DTSTART:20261101T090000
END:STANDARD
END:VTIMEZONE
BEGIN:VEVENT
DTSTART;TZID=America/Los_Angeles:20250302T150000
DTEND;TZID=America/Los_Angeles:20250302T170000
DTSTAMP:20260424T104428
CREATED:20250228T213254Z
LAST-MODIFIED:20250228T213254Z
UID:7322-1740927600-1740934800@pebblestonecellars.biz
SUMMARY:Sunday Music with Gil René
DESCRIPTION:For nearly five decades\, Gil René has captivated audiences with his soulful performances! From the 1970s coffeehouse scene in upstate New York to rocking stages across the Puget Sound\, he’s always delivered music with heart. As a solo acoustic artist\, Gil blends beloved sing-along covers\, heartfelt originals\, and a few surprises along the way. In 2019\, he released his first all-original album\, Las Vegas Rain. Now calling the Rogue Valley home\, he’s thrilled to share his diverse mix of music with Oregon audiences! 🎶✨
URL:https://pebblestonecellars.biz/event/sunday-music-with-gil-rene/
LOCATION:Pebblestone Tasting Barn\, 1670 Pioneer Road\, Talent\, OR
CATEGORIES:Live Music
ATTACH;FMTTYPE=image/jpeg:https://pebblestonecellars.biz/wp-content/uploads/2024/05/GilRene2024.jpg
END:VEVENT
BEGIN:VEVENT
DTSTART;TZID=America/Los_Angeles:20250307T080000
DTEND;TZID=America/Los_Angeles:20250307T170000
DTSTAMP:20260424T104428
CREATED:20250307T184620Z
LAST-MODIFIED:20250307T184634Z
UID:7336-1741334400-1741366800@pebblestonecellars.biz
SUMMARY:Friday Music with Marshall Thompson – Featuring Fred Epping
DESCRIPTION:Looking for top-notch live music? Marshall Thompson and Fred Epping deliver an incredible performance filled with rich vocals\, masterful guitar\, and an eclectic mix of songs. Marshall’s deep baritone and decades of experience shine\, while Fred’s virtuoso guitar\, rooted in country\, adds a dynamic edge. Together\, they bring you Americana\, acoustic rock\, crossover country\, folk\, and heartfelt originals—plus iconic covers from legends like Willie Nelson\, Johnny Cash\, Bob Dylan\, and Lyle Lovett. With plenty of sing-along moments and an energy that fills the room\, you might just find yourself dancing! \nDon’t miss this unforgettable evening of music\, wine\, and fun!  🎶✨ \n5pm to 7pm\, March 7th \nReservations Recommended – Call 541-512-1655
URL:https://pebblestonecellars.biz/event/friday-music-with-marshall-thompson-featuring-fred-epping/
LOCATION:Pebblestone Tasting Barn\, 1670 Pioneer Road\, Talent\, OR
CATEGORIES:Live Music
ATTACH;FMTTYPE=image/jpeg:https://pebblestonecellars.biz/wp-content/uploads/2025/03/thompson-epping2025.jpg
END:VEVENT
BEGIN:VEVENT
DTSTART;TZID=America/Los_Angeles:20250309T150000
DTEND;TZID=America/Los_Angeles:20250309T170000
DTSTAMP:20260424T104428
CREATED:20250307T184030Z
LAST-MODIFIED:20250307T184102Z
UID:7334-1741532400-1741539600@pebblestonecellars.biz
SUMMARY:Carla Bauer
DESCRIPTION:Get ready for an evening of great tunes and good vibes! Carla Bauer brings a mix of acoustic rock from the ‘60s onward\, blended with country rock\, blues\, hard rock\, and heartfelt originals. Expect familiar favorites\, hidden gems you haven’t heard in a while\, and maybe even a song that gets you up and dancing! \nJoin us for a night of music\, wine\, and fun—you won’t want to miss it! \nCome out this Sunday \nand enjoy a great performance with some great wine!
URL:https://pebblestonecellars.biz/event/carla-bauer/
LOCATION:Pebblestone Tasting Barn\, 1670 Pioneer Road\, Talent\, OR
CATEGORIES:Live Music
ATTACH;FMTTYPE=image/jpeg:https://pebblestonecellars.biz/wp-content/uploads/2024/08/carlaBauer2024-e1725573448787.jpg
END:VEVENT
BEGIN:VEVENT
DTSTART;TZID=America/Los_Angeles:20250314T170000
DTEND;TZID=America/Los_Angeles:20250314T190000
DTSTAMP:20260424T104428
CREATED:20250312T203642Z
LAST-MODIFIED:20250312T203717Z
UID:7348-1741971600-1741978800@pebblestonecellars.biz
SUMMARY:Paper Moon
DESCRIPTION:
URL:https://pebblestonecellars.biz/event/paper-moon/
LOCATION:Pebblestone Tasting Barn\, 1670 Pioneer Road\, Talent\, OR
CATEGORIES:Live Music
ATTACH;FMTTYPE=image/jpeg:https://pebblestonecellars.biz/wp-content/uploads/2025/03/PaperMoon2025.jpg
END:VEVENT
BEGIN:VEVENT
DTSTART;TZID=America/Los_Angeles:20250315T140000
DTEND;TZID=America/Los_Angeles:20250315T160000
DTSTAMP:20260424T104428
CREATED:20250316T220528Z
LAST-MODIFIED:20250316T220602Z
UID:7358-1742047200-1742054400@pebblestonecellars.biz
SUMMARY:Ukulele Jam
DESCRIPTION:The Ukulele Jam is happening again! The Ukulele Jam is gaining in popularity now usually attended by 25 to 30 or more ukulele players strumming and singing through a number of popular songs and enjoyed by an growing audience of fans. \nThey are great to watch but you can also sing along while enjoying a glass or bottle of wine. Local ukulele instructor Tish McFadden will again lead the jam. \nIf the weather is cooperative\, the Jam will be held outside on the tasting room deck; spectators are welcome to enjoy the Jam from our lawn area seating. (But since it’s December\, we will probably be indoors in our spacious tasting room.) \nSongbooks are available. All acoustic instruments and voices are welcome as well as just those that just want to enjoy the JAM. \nCall Tish at 541-840-8075 for more information.
URL:https://pebblestonecellars.biz/event/ukulele-jam-6/
LOCATION:Pebblestone Tasting Barn\, 1670 Pioneer Road\, Talent\, OR
CATEGORIES:Live Music
ATTACH;FMTTYPE=image/jpeg:https://pebblestonecellars.biz/wp-content/uploads/2023/11/ukulele-jam.jpg
END:VEVENT
BEGIN:VEVENT
DTSTART;TZID=America/Los_Angeles:20250316T150000
DTEND;TZID=America/Los_Angeles:20250316T170000
DTSTAMP:20260424T104428
CREATED:20250312T204206Z
LAST-MODIFIED:20250312T204344Z
UID:7351-1742137200-1742144400@pebblestonecellars.biz
SUMMARY:Sunday Music with Joshua Paul
DESCRIPTION:Initially set on a path toward chemistry\, Joshua discovered that his true formula for happiness lies in strumming strings and belting out tunes that blend Americana\, rock\, country\, and blues. 🎶 Joshua’s captivating performances have had him playing at a variety of venues\, from lively bars to serene retirement communities\, and now he’s ready to pour his heart out right here at Pebblestone Cellars! Just like our handcrafted wines\, which are lovingly made from the finest grapes\, Joshua’s music is crafted with passion and dedication. You can taste the love in every note\, and we can’t wait for you to experience it! \nCome out this Sunday and enjoy \na great performance with some great wine!\nPlease call 541-512-1655 for reservations
URL:https://pebblestonecellars.biz/event/sunday-music-with-joshua-paul/
LOCATION:Pebblestone Tasting Barn\, 1670 Pioneer Road\, Talent\, OR
CATEGORIES:Live Music
ATTACH;FMTTYPE=image/jpeg:https://pebblestonecellars.biz/wp-content/uploads/2025/03/Joshua-Paul-800w.jpg
END:VEVENT
BEGIN:VEVENT
DTSTART;TZID=America/Los_Angeles:20250321T170000
DTEND;TZID=America/Los_Angeles:20250321T190000
DTSTAMP:20260424T104428
CREATED:20250316T220808Z
LAST-MODIFIED:20250320T170702Z
UID:7361-1742576400-1742583600@pebblestonecellars.biz
SUMMARY:Friday Fun with Waxin' Moon
DESCRIPTION:We are totally stoked to have this duo back in the tasting room. These two bring a blend of the 60’s and 70’s rock\, blues and standards. With Julie’s remarkable vocal range\, these two can really do it all. If you missed the incredible performance last time\, you will definitely want to be there on Friday! These two really bring a fun atmosphere wherever they go\, so put on some dancing shoes and come down to Pebblestone! \nFriday\, March 21st \n5pm-7pm \nReservations Recommended \nCall 541-512-1655
URL:https://pebblestonecellars.biz/event/open-tba/
LOCATION:Pebblestone Tasting Barn\, 1670 Pioneer Road\, Talent\, OR
CATEGORIES:Live Music
ATTACH;FMTTYPE=image/jpeg:https://pebblestonecellars.biz/wp-content/uploads/2025/02/waxin-moon-2025.jpg
END:VEVENT
BEGIN:VEVENT
DTSTART;TZID=America/Los_Angeles:20250323T150000
DTEND;TZID=America/Los_Angeles:20250323T170000
DTSTAMP:20260424T104428
CREATED:20250316T221333Z
LAST-MODIFIED:20250320T170851Z
UID:7363-1742742000-1742749200@pebblestonecellars.biz
SUMMARY:Skye Lee Duo
DESCRIPTION:We are pumped to have the Skye Lee Duo join us this weekend as well! \nWith a Bachelor’s in Vocal Performance and a Master’s of Music under her belt\, Michaela has wowed audiences alongside legends like Kristin Chenoweth and graced the operatic stage at The University of Memphis. Meanwhile\, Albert\, a musical maestro since age six\, has strummed his way through life\, earning the title of Composer of the Year while creating melodies that will make your heart sing. Together\, they’ll harmonize beautifully with our exquisite wines\, turning your tasting experience into a symphony of flavor and sound. \nCome out this Sunday\nand enjoy a great performance with some great wine!
URL:https://pebblestonecellars.biz/event/skye-lee-duo/
LOCATION:Pebblestone Tasting Barn\, 1670 Pioneer Road\, Talent\, OR
CATEGORIES:Live Music
ATTACH;FMTTYPE=image/jpeg:https://pebblestonecellars.biz/wp-content/uploads/2023/03/skyelee2023.jpg
END:VEVENT
BEGIN:VEVENT
DTSTART;TZID=America/Los_Angeles:20250328T170000
DTEND;TZID=America/Los_Angeles:20250328T190000
DTSTAMP:20260424T104428
CREATED:20250316T221615Z
LAST-MODIFIED:20250327T171356Z
UID:7366-1743181200-1743188400@pebblestonecellars.biz
SUMMARY:12 Bars Deep
DESCRIPTION:We are stoked to have the 12 Bars Deep band back in the tasting room this weekend! They will cover a variety of genres\, including Blues\, RB\, and swing\, by some of the top artists you know and love. With years of live performance experience\, Twelve Bars Deep is sure to bring a mix of music that will get the party started. \nJoin us for a lovely evening of wine\, food\, and dance! \nFriday\, March 28th \n5pm-7pm \nReservations Recommended \nCall 541-512-1655
URL:https://pebblestonecellars.biz/event/12-bars-deep-2/
LOCATION:Pebblestone Tasting Barn\, 1670 Pioneer Road\, Talent\, OR
CATEGORIES:Live Music
ATTACH;FMTTYPE=image/jpeg:https://pebblestonecellars.biz/wp-content/uploads/2025/03/12BarsDeep2025.jpg
END:VEVENT
BEGIN:VEVENT
DTSTART;TZID=America/Los_Angeles:20250330T150000
DTEND;TZID=America/Los_Angeles:20250330T170000
DTSTAMP:20260424T104428
CREATED:20250327T172002Z
LAST-MODIFIED:20250327T173208Z
UID:7399-1743346800-1743354000@pebblestonecellars.biz
SUMMARY:Sunday Music with Mark Hill
DESCRIPTION:Singer and Guitarist Mark Charles Hill has played and performed music in the Rogue Valley for over 20 years. Mark grew up in California and played in a trio at Lake Tahoe in 1974 and then moved to Medford from Santa Cruz in 1990. He plays mostly Folk\, Rock\, Country\, Gospel and Bluegrass with a wide range of covers of music from John Denver\, John Prine to James Taylor. This weekend he will be joined by Dan! Enjoy a lovely afternoon with us this weekend. \nPlease call 541-512-1655 for reservations
URL:https://pebblestonecellars.biz/event/sunday-music-with-mark-hill/
LOCATION:Pebblestone Tasting Barn\, 1670 Pioneer Road\, Talent\, OR
CATEGORIES:Live Music
ATTACH;FMTTYPE=image/jpeg:https://pebblestonecellars.biz/wp-content/uploads/2025/03/MarkHillDan-2025.jpg
END:VEVENT
END:VCALENDAR