BEGIN:VCALENDAR
VERSION:2.0
PRODID:-//Pebblestone Cellars - ECPv6.15.20//NONSGML v1.0//EN
CALSCALE:GREGORIAN
METHOD:PUBLISH
X-WR-CALNAME:Pebblestone Cellars
X-ORIGINAL-URL:https://pebblestonecellars.biz
X-WR-CALDESC:Events for Pebblestone Cellars
REFRESH-INTERVAL;VALUE=DURATION:PT1H
X-Robots-Tag:noindex
X-PUBLISHED-TTL:PT1H
BEGIN:VTIMEZONE
TZID:America/Los_Angeles
BEGIN:DAYLIGHT
TZOFFSETFROM:-0800
TZOFFSETTO:-0700
TZNAME:PDT
DTSTART:20230312T100000
END:DAYLIGHT
BEGIN:STANDARD
TZOFFSETFROM:-0700
TZOFFSETTO:-0800
TZNAME:PST
DTSTART:20231105T090000
END:STANDARD
BEGIN:DAYLIGHT
TZOFFSETFROM:-0800
TZOFFSETTO:-0700
TZNAME:PDT
DTSTART:20240310T100000
END:DAYLIGHT
BEGIN:STANDARD
TZOFFSETFROM:-0700
TZOFFSETTO:-0800
TZNAME:PST
DTSTART:20241103T090000
END:STANDARD
BEGIN:DAYLIGHT
TZOFFSETFROM:-0800
TZOFFSETTO:-0700
TZNAME:PDT
DTSTART:20250309T100000
END:DAYLIGHT
BEGIN:STANDARD
TZOFFSETFROM:-0700
TZOFFSETTO:-0800
TZNAME:PST
DTSTART:20251102T090000
END:STANDARD
END:VTIMEZONE
BEGIN:VEVENT
DTSTART;TZID=America/Los_Angeles:20241201T150000
DTEND;TZID=America/Los_Angeles:20241201T170000
DTSTAMP:20260424T152541
CREATED:20241126T194239Z
LAST-MODIFIED:20241126T194239Z
UID:7101-1733065200-1733072400@pebblestonecellars.biz
SUMMARY:Mark Hill & Friends
DESCRIPTION:More to come…
URL:https://pebblestonecellars.biz/event/mark-hill-friends/
LOCATION:Pebblestone Tasting Barn\, 1670 Pioneer Road\, Talent\, OR
CATEGORIES:Live Music
ATTACH;FMTTYPE=image/jpeg:https://pebblestonecellars.biz/wp-content/uploads/2023/08/MarkCharlesHill.jpg
END:VEVENT
BEGIN:VEVENT
DTSTART;TZID=America/Los_Angeles:20241206T170000
DTEND;TZID=America/Los_Angeles:20241206T190000
DTSTAMP:20260424T152541
CREATED:20241112T215403Z
LAST-MODIFIED:20241206T174955Z
UID:7052-1733504400-1733511600@pebblestonecellars.biz
SUMMARY:Pacifica
DESCRIPTION:Once again Pebblestone welcomes back Pacifica\, a dynamic musical duo consisting of Alissa Weaver\, a talented vocalist\, and Jeffrey Judkins aka Dr. J on guitar. \nThey bring a fresh and unique sound to the stage with their original songs and a range of well-curated covers. With Alissa’s soulful vocals and Dr. J’s exceptional guitar skills\, they create a musical experience that is both entertaining and memorable. From folk to country\, rock to RB\, Pacifica delivers a captivating performance that will leave you mesmerized. \nJoin us at Pebblestone Cellars for an evening of fantastic live music and great wine. Sit back\, relax and let the Pacifica transport you on a musical journey you won’t soon forget!
URL:https://pebblestonecellars.biz/event/pacifica-6/
LOCATION:Pebblestone Tasting Barn\, 1670 Pioneer Road\, Talent\, OR
CATEGORIES:Live Music
ATTACH;FMTTYPE=image/jpeg:https://pebblestonecellars.biz/wp-content/uploads/2023/01/pacifica-duo-sq.jpg
END:VEVENT
BEGIN:VEVENT
DTSTART;TZID=America/Los_Angeles:20241208T150000
DTEND;TZID=America/Los_Angeles:20241208T170000
DTSTAMP:20260424T152541
CREATED:20241112T215638Z
LAST-MODIFIED:20241206T175132Z
UID:7055-1733670000-1733677200@pebblestonecellars.biz
SUMMARY:Jeff Kloetzel
DESCRIPTION:Get ready to tap your feet and sway to the beat because Jeff Kloetzel is back at Pebblestone Cellars! This Friday evening\, join us in welcoming this talented local singer-songwriter and cover artist as he takes the stage. Jeff performs a diverse catalog of music that runs the gamut from driving modern tunes to subtle timeless ballads. With his rhythmic guitar work and soulful vocals\, Jeff’s original songs are sure to captivate and inspire. And with influences spanning pop\, rock\, folk\, blues\, and contemporary island\, there’s something for everyone in his set list. \nBut that’s not all! As you enjoy Jeff’s incredible performance\, you’ll also have the opportunity to savor our exceptional wines and soak up the unique and community-oriented atmosphere that makes Pebblestone Cellars such a special place. So gather your friends and loved ones\, and join us for an unforgettable evening of music\, wine\, and fun. Don’t miss out on the chance to witness this musical maestro in action – sip\, sip\, hooray!
URL:https://pebblestonecellars.biz/event/jeff-kloetzel-8-2/
LOCATION:Pebblestone Tasting Barn\, 1670 Pioneer Road\, Talent\, OR
CATEGORIES:Live Music
ATTACH;FMTTYPE=image/jpeg:https://pebblestonecellars.biz/wp-content/uploads/2022/07/Jeff-Kloetzel-2022.jpg
END:VEVENT
BEGIN:VEVENT
DTSTART;TZID=America/Los_Angeles:20241213T170000
DTEND;TZID=America/Los_Angeles:20241213T190000
DTSTAMP:20260424T152541
CREATED:20241112T215810Z
LAST-MODIFIED:20241212T175324Z
UID:7057-1734109200-1734116400@pebblestonecellars.biz
SUMMARY:Shine On
DESCRIPTION:Get ready to be blown away by the melodic sounds of SHINE ON! Featuring the amazing talents of Steve Shine on guitar\, John Galloway on bass\, and Cathy Dorris on drums\, this trio is bringing the best of Grateful Americana to the stage. From the iconic music of the Grateful Dead and the Beatles to the soulful sounds of Bob Dylan and Van Morrison\, SHINE ON will take you on a musical journey like no other. \nSo don’t wait—make your reservation now and get ready to experience the ultimate Grateful Americana experience with SHINE ON! and Pebblestone wine!
URL:https://pebblestonecellars.biz/event/shine-on-7-2/
LOCATION:Pebblestone Tasting Barn\, 1670 Pioneer Road\, Talent\, OR
CATEGORIES:Live Music
ATTACH;FMTTYPE=image/jpeg:https://pebblestonecellars.biz/wp-content/uploads/2023/01/shineontrio-2023.jpg
END:VEVENT
BEGIN:VEVENT
DTSTART;TZID=America/Los_Angeles:20241215T150000
DTEND;TZID=America/Los_Angeles:20241215T170000
DTSTAMP:20260424T152541
CREATED:20241112T220355Z
LAST-MODIFIED:20241212T175609Z
UID:7064-1734274800-1734282000@pebblestonecellars.biz
SUMMARY:Ann Kelly & Mark Ross
DESCRIPTION:We are pleased to welcome back the talented duo of Ann Kelly and Mark Ross who will be gracing the Pebblestone Tasting Room once again for another incredible performance! \nAnn is a talented vocalist and songwriter originally from California\, who has been captivating audiences with her unique blend of pop\, jazz\, and blues. Her dark\, sultry\, and emotional vocals have earned her critical acclaim\, and we are honored to have her perform again at Pebblestone. \nBut Ann is not alone in her musical talents—she will be accompanied by her husband\, Mark Ross\, a fantastic keyboardist and an Emmy award-winning composer. Together\, this dynamic duo is sure to impress and leave you wanting more. So mark your calendars and join us for an unforgettable afternoon of music and entertainment with Ann Kelly and Mark Ross at Pebblestone!
URL:https://pebblestonecellars.biz/event/ann-kelly-8-2/
LOCATION:Pebblestone Tasting Barn\, 1670 Pioneer Road\, Talent\, OR
CATEGORIES:Live Music
ATTACH;FMTTYPE=image/jpeg:https://pebblestonecellars.biz/wp-content/uploads/2023/11/AnnKelly1123.jpg
END:VEVENT
BEGIN:VEVENT
DTSTART;TZID=America/Los_Angeles:20241220T170000
DTEND;TZID=America/Los_Angeles:20241220T190000
DTSTAMP:20260424T152541
CREATED:20241112T220516Z
LAST-MODIFIED:20241220T174027Z
UID:7066-1734714000-1734721200@pebblestonecellars.biz
SUMMARY:J O N E S
DESCRIPTION:Are you tired of the same old music and looking for something fresh and exciting?\nLook no further than J O N E S! \nLed by the dynamic duo of Joshua Jones and Shelley Kristen Jones\, this talented musical pair brings over 20 years of experience to the stage. With Joshua’s incredible guitar skills and Shelley’s powerful voice and songwriting abilities\, J O N E S is redefining the musical landscape. \nGet ready to rock\, dance\, and sing along to their unique spin on Classic Rock\, R B\, Pop\, Folk\, Country\, and Jazz Standards. Don’t miss out on the musical experience of a lifetime – come see J O N E S perform!
URL:https://pebblestonecellars.biz/event/j-o-n-e-s-5-2/
LOCATION:Pebblestone Tasting Barn\, 1670 Pioneer Road\, Talent\, OR
CATEGORIES:Live Music
ATTACH;FMTTYPE=image/jpeg:https://pebblestonecellars.biz/wp-content/uploads/2023/06/Jones-2023.jpg
END:VEVENT
BEGIN:VEVENT
DTSTART;TZID=America/Los_Angeles:20241221T140000
DTEND;TZID=America/Los_Angeles:20241221T160000
DTSTAMP:20260424T152541
CREATED:20241112T220030Z
LAST-MODIFIED:20241126T194008Z
UID:7059-1734789600-1734796800@pebblestonecellars.biz
SUMMARY:Ukulele Jam
DESCRIPTION:The Ukulele Jam is happening again! The Ukulele Jam is gaining in popularity now usually attended by 25 to 30 or more ukulele players strumming and singing through a number of popular songs and enjoyed by an growing audience of fans. \nThey are great to watch but you can also sing along while enjoying a glass or bottle of wine. Local ukulele instructor Tish McFadden will again lead the jam. \nIf the weather is cooperative\, the Jam will be held outside on the tasting room deck; spectators are welcome to enjoy the Jam from our lawn area seating. (But since it’s December\, we will probably be indoors in our spacious tasting room.) \nSongbooks are available. All acoustic instruments and voices are welcome as well as just those that just want to enjoy the JAM. \nCall Tish at 541-840-8075 for more information.
URL:https://pebblestonecellars.biz/event/ukelele-jam-8-2/
LOCATION:Pebblestone Tasting Barn\, 1670 Pioneer Road\, Talent\, OR
CATEGORIES:Live Music
ATTACH;FMTTYPE=image/jpeg:https://pebblestonecellars.biz/wp-content/uploads/2024/03/ukelele-jam2024.jpg
END:VEVENT
BEGIN:VEVENT
DTSTART;TZID=America/Los_Angeles:20241222T150000
DTEND;TZID=America/Los_Angeles:20241222T170000
DTSTAMP:20260424T152541
CREATED:20241112T220655Z
LAST-MODIFIED:20241220T174121Z
UID:7068-1734879600-1734886800@pebblestonecellars.biz
SUMMARY:Jen Ambrose
DESCRIPTION:Get ready to uncork an unforgettable afternoon at Pebblestone Cellars\, where the atmosphere is as inviting as a warm hug and music by the incredibly talented Jen Ambrose that is sure to strike a chord. Her playlist is a unique blend of Blues\, Jazz\, Americana\, and Rock that will have you tapping your toes and raising your glass. From her original tunes off her latest album\, Plenty Of Nothin’ To Do\, to beloved classics spanning from Bonnie Raitt to Led Zeppelin\, there’s something for every music lover to enjoy. \nPair her mesmerizing melodies with our fine wines\, and you’ve got the perfect recipe for a memorable outing! So gather your friends and family\, and create some beautiful memories together because at Pebblestone\, we believe that great music and fine wine make the best duet!
URL:https://pebblestonecellars.biz/event/jen-ambrose-2/
LOCATION:Pebblestone Tasting Barn\, 1670 Pioneer Road\, Talent\, OR
CATEGORIES:Live Music
ATTACH;FMTTYPE=image/jpeg:https://pebblestonecellars.biz/wp-content/uploads/2024/02/JenAmbrose2024.jpg
END:VEVENT
BEGIN:VEVENT
DTSTART;TZID=America/Los_Angeles:20241227T170000
DTEND;TZID=America/Los_Angeles:20241227T190000
DTSTAMP:20260424T152541
CREATED:20241112T220929Z
LAST-MODIFIED:20241112T221017Z
UID:7070-1735318800-1735326000@pebblestonecellars.biz
SUMMARY:Music TBD
DESCRIPTION:
URL:https://pebblestonecellars.biz/event/music-tbd/
LOCATION:Pebblestone Tasting Barn\, 1670 Pioneer Road\, Talent\, OR
CATEGORIES:Live Music
END:VEVENT
BEGIN:VEVENT
DTSTART;TZID=America/Los_Angeles:20241229T150000
DTEND;TZID=America/Los_Angeles:20241229T170000
DTSTAMP:20260424T152541
CREATED:20241112T221219Z
LAST-MODIFIED:20241112T221219Z
UID:7072-1735484400-1735491600@pebblestonecellars.biz
SUMMARY:Music TBD
DESCRIPTION:
URL:https://pebblestonecellars.biz/event/music-tbd-2/
LOCATION:Pebblestone Tasting Barn\, 1670 Pioneer Road\, Talent\, OR
CATEGORIES:Live Music
END:VEVENT
END:VCALENDAR