BEGIN:VCALENDAR
VERSION:2.0
PRODID:-//Pebblestone Cellars - ECPv6.15.20//NONSGML v1.0//EN
CALSCALE:GREGORIAN
METHOD:PUBLISH
X-ORIGINAL-URL:https://pebblestonecellars.biz
X-WR-CALDESC:Events for Pebblestone Cellars
REFRESH-INTERVAL;VALUE=DURATION:PT1H
X-Robots-Tag:noindex
X-PUBLISHED-TTL:PT1H
BEGIN:VTIMEZONE
TZID:America/Los_Angeles
BEGIN:DAYLIGHT
TZOFFSETFROM:-0800
TZOFFSETTO:-0700
TZNAME:PDT
DTSTART:20230312T100000
END:DAYLIGHT
BEGIN:STANDARD
TZOFFSETFROM:-0700
TZOFFSETTO:-0800
TZNAME:PST
DTSTART:20231105T090000
END:STANDARD
BEGIN:DAYLIGHT
TZOFFSETFROM:-0800
TZOFFSETTO:-0700
TZNAME:PDT
DTSTART:20240310T100000
END:DAYLIGHT
BEGIN:STANDARD
TZOFFSETFROM:-0700
TZOFFSETTO:-0800
TZNAME:PST
DTSTART:20241103T090000
END:STANDARD
BEGIN:DAYLIGHT
TZOFFSETFROM:-0800
TZOFFSETTO:-0700
TZNAME:PDT
DTSTART:20250309T100000
END:DAYLIGHT
BEGIN:STANDARD
TZOFFSETFROM:-0700
TZOFFSETTO:-0800
TZNAME:PST
DTSTART:20251102T090000
END:STANDARD
END:VTIMEZONE
BEGIN:VEVENT
DTSTART;TZID=America/Los_Angeles:20241101T170000
DTEND;TZID=America/Los_Angeles:20241101T190000
DTSTAMP:20260424T164806
CREATED:20241017T183959Z
LAST-MODIFIED:20241017T183959Z
UID:6990-1730480400-1730487600@pebblestonecellars.biz
SUMMARY:Gil René
DESCRIPTION:Gil René has been entertaining music loving audiences for almost 50 years! From the 1970’s coffee house circuit in upstate New York\, to fronting rock\, blues\, and R&B bands in the Puget Sound region\, he has always put the emphasis on delivering a powerful and emotional performance. As a solo acoustic artist\, he plays well-known sing-along friendly cover songs\, mixed with heart-felt original songs\, and the occasional surprise. \nIn 2019\, he released his first all original album\, “Las Vegas Rain.” Now located in the Rogue Valley\, he enjoys bringing his eclectic mix of songs to Oregon audiences. Come out and enjoy a great performance from this great artist. \nCome out and welcome Gil to the area and enjoy his show!
URL:https://pebblestonecellars.biz/event/gil-rene-2/
LOCATION:Pebblestone Tasting Barn\, 1670 Pioneer Road\, Talent\, OR
CATEGORIES:Live Music
ATTACH;FMTTYPE=image/jpeg:https://pebblestonecellars.biz/wp-content/uploads/2024/05/GilRene2024.jpg
END:VEVENT
BEGIN:VEVENT
DTSTART;TZID=America/Los_Angeles:20241103T150000
DTEND;TZID=America/Los_Angeles:20241103T170000
DTSTAMP:20260424T164806
CREATED:20241017T184337Z
LAST-MODIFIED:20241031T194428Z
UID:6993-1730646000-1730653200@pebblestonecellars.biz
SUMMARY:Holly Gleason
DESCRIPTION:Holly Gleason returns to Pebblestone bring her sweet and sour levity combined with humble and refined self-reflection. She lures the listener from quirky pillow talk to soul-wrenching heartache in one sentence. Her beautiful-to-brass style of singing around her fettered guitar playing is raw\, sincere\, and elegantly self-effacing. \nHolly Gleason’s vocal and compositional stylings vary vast and wide as she meanders down a musical memory lane with her audience in melancholic characters spouting self-reflective bits of wisdom learned too late. You can find her music\, including her first publicly released album “Light Show”and her newly released single “Getting Better” on Spotify\, iTunes\, or ask Alexa to play Holly Gleason! \nCome out on the first day of the time change back to Standard time and enjoy a truly talented songwriter and musician.
URL:https://pebblestonecellars.biz/event/holly-gleason-duo/
LOCATION:Pebblestone Tasting Barn\, 1670 Pioneer Road\, Talent\, OR
CATEGORIES:Live Music
ATTACH;FMTTYPE=image/jpeg:https://pebblestonecellars.biz/wp-content/uploads/2023/03/HollyGleason2023.jpg
END:VEVENT
BEGIN:VEVENT
DTSTART;TZID=America/Los_Angeles:20241108T170000
DTEND;TZID=America/Los_Angeles:20241108T190000
DTSTAMP:20260424T164806
CREATED:20241017T190208Z
LAST-MODIFIED:20241108T220519Z
UID:7009-1731085200-1731092400@pebblestonecellars.biz
SUMMARY:Marshall Thompson and Fred Epping
DESCRIPTION:If you’re looking for a night of top-notch music entertainment\, look no further than Marshall Thompson and Fred Epping. Marshall’s rich baritone voice and lifelong experience in classical and popular performance make him a standout vocalist\, while Fred’s virtuoso guitar style with a strong country background adds an extra layer of musical depth.
URL:https://pebblestonecellars.biz/event/open-3/
LOCATION:Pebblestone Tasting Barn\, 1670 Pioneer Road\, Talent\, OR
CATEGORIES:Live Music
ATTACH;FMTTYPE=image/jpeg:https://pebblestonecellars.biz/wp-content/uploads/2023/03/marshall-thompson.jpg
END:VEVENT
BEGIN:VEVENT
DTSTART;TZID=America/Los_Angeles:20241110T150000
DTEND;TZID=America/Los_Angeles:20241110T170000
DTSTAMP:20260424T164806
CREATED:20241017T184813Z
LAST-MODIFIED:20241017T184942Z
UID:6995-1731250800-1731258000@pebblestonecellars.biz
SUMMARY:Carla Bauer & John Galloway
DESCRIPTION:Carla Bauer\, accompanied by bassist John Galloway\, will entertain you with acoustic rock from the 60s forward\, sprinkled with some country rock\, hard rock\, blues\, and originals. It’s music you’ll recognize; music you loved but seldom hear these days; and music that just might get you up and dancing. \nCome enjoy fall in the vineyard and a glass of wine with us.
URL:https://pebblestonecellars.biz/event/carla-bauer-john-galloway-3/
LOCATION:Pebblestone Tasting Barn\, 1670 Pioneer Road\, Talent\, OR
CATEGORIES:Live Music
ATTACH;FMTTYPE=image/jpeg:https://pebblestonecellars.biz/wp-content/uploads/2024/08/carlaBauer2024-e1725573448787.jpg
END:VEVENT
BEGIN:VEVENT
DTSTART;TZID=America/Los_Angeles:20241115T170000
DTEND;TZID=America/Los_Angeles:20241115T190000
DTSTAMP:20260424T164806
CREATED:20241017T185123Z
LAST-MODIFIED:20241017T185123Z
UID:6999-1731690000-1731697200@pebblestonecellars.biz
SUMMARY:Skye & Lee
DESCRIPTION:
URL:https://pebblestonecellars.biz/event/skye-lee-3/
LOCATION:Pebblestone Tasting Barn\, 1670 Pioneer Road\, Talent\, OR
CATEGORIES:Live Music
ATTACH;FMTTYPE=image/jpeg:https://pebblestonecellars.biz/wp-content/uploads/2023/05/skyeandlee2023.jpg
END:VEVENT
BEGIN:VEVENT
DTSTART;TZID=America/Los_Angeles:20241116T140000
DTEND;TZID=America/Los_Angeles:20241116T160000
DTSTAMP:20260424T164806
CREATED:20241017T190627Z
LAST-MODIFIED:20241116T195605Z
UID:7013-1731765600-1731772800@pebblestonecellars.biz
SUMMARY:Ukulele Jam
DESCRIPTION:The Ukulele Jam will be happening again this Saturday November 16. Due to the cold rainy weather\, the Jam will be held inside the tasting room hall; there will be seating as well for spectators who are always welcome to enjoy the Jam. \nThe Ukulele Jam is gaining in popularity now usually attended by 25 to 30 or more ukulele players strumming and singing through a number of popular songs and enjoyed by an growing audience of fans. \nThey are great to watch but you can also sing along while enjoying a glass or bottle of wine. Local ukulele instructor Tish McFadden will again lead the jam. \nSongbooks are available. All acoustic instruments and voices are welcome as well as just those that just want to enjoy the JAM. \nCall Tish at 541-840-8075 for more information.
URL:https://pebblestonecellars.biz/event/ukelele-jam-8/
LOCATION:Pebblestone Tasting Barn\, 1670 Pioneer Road\, Talent\, OR
CATEGORIES:Live Music
ATTACH;FMTTYPE=image/jpeg:https://pebblestonecellars.biz/wp-content/uploads/2024/03/ukelele-jam2024.jpg
END:VEVENT
BEGIN:VEVENT
DTSTART;TZID=America/Los_Angeles:20241117T150000
DTEND;TZID=America/Los_Angeles:20241117T170000
DTSTAMP:20260424T164806
CREATED:20241017T185308Z
LAST-MODIFIED:20241116T195646Z
UID:7001-1731855600-1731862800@pebblestonecellars.biz
SUMMARY:Stardust Trio
DESCRIPTION:Get ready for an afternoon of musical magic as Pebblestone continues The Stardust Trio\, featuring Tim Church on guitar and Dave Miller on bass\, join forces with the multilingual songstress Ruth Cohen. \nFrom jazz standards to pop tunes\, and songs from France\, Spain\, and Mexico\, this dynamic group will deliver an eclectic blend of music that is sure to please all musical tastes. So mark your calendars and join us for a night of foot-tapping beats and soulful melodies that will leave you wanting more!
URL:https://pebblestonecellars.biz/event/stardust-trio-4/
LOCATION:Pebblestone Tasting Barn\, 1670 Pioneer Road\, Talent\, OR
CATEGORIES:Live Music
ATTACH;FMTTYPE=image/jpeg:https://pebblestonecellars.biz/wp-content/uploads/2023/07/StardustTrio2023.jpg
END:VEVENT
BEGIN:VEVENT
DTSTART;TZID=America/Los_Angeles:20241122T170000
DTEND;TZID=America/Los_Angeles:20241122T190000
DTSTAMP:20260424T164806
CREATED:20241017T185629Z
LAST-MODIFIED:20241122T000049Z
UID:7003-1732294800-1732302000@pebblestonecellars.biz
SUMMARY:Sonido Allegre
DESCRIPTION:We are pleased to announce the return to Pebblestone this season of Sonido Allegre\, a melodious col talented Musicians: Charles Guy\, Linda Powers and John Galloway. \nRaised in North Carolina\, Charles Guy was exposed to bluegrass\, soul\, and Carolina beach music. These influences\, coupled with Linda Powers’ experience playing violin in Gypsy swing bands\, creates an eclectic sound! They will be playing original material with Latin\, Spanish\, flamenco and Gypsy influences as well other popular folk rock music. \nIt will be a Friday night full of enchanting musical experiences inside the tasting room hall that promise to entertain all present!
URL:https://pebblestonecellars.biz/event/sonido-allegre-6/
LOCATION:Pebblestone Tasting Barn\, 1670 Pioneer Road\, Talent\, OR
CATEGORIES:Live Music
ATTACH;FMTTYPE=image/jpeg:https://pebblestonecellars.biz/wp-content/uploads/2022/07/sonido-allegre-2021.jpg
END:VEVENT
BEGIN:VEVENT
DTSTART;TZID=America/Los_Angeles:20241124T150000
DTEND;TZID=America/Los_Angeles:20241124T170000
DTSTAMP:20260424T164806
CREATED:20241017T185757Z
LAST-MODIFIED:20241122T000143Z
UID:7005-1732460400-1732467600@pebblestonecellars.biz
SUMMARY:Crutcher & Dunsmoor
DESCRIPTION:Allen Crutcher and Gary Dunsmoor have found a shared love of music\, songwriting craft\, and playing each other’s music\, and want to share some wonderful music with you. \nAllen Crutcher is a gifted song writer and multi-instrumentalist. He has been a part of the local music scene for years\, collaborating both in bands and with individual musicians. Allen’s original songs are not only artfully crafted\, their lyrics capture all the beauty and humanity of everyday life\, in songs about love\, friendship\, loss\, and the joy of living. \nGary Dunsmoor has a love for all kinds of music\, and is a sucker for melody\, harmony\, and expressive lyrics. Over the years\, he has played as a lead and rhythm guitar player in several rock bands\, an electric bass player with New Orleans-style R&B\, funk\, and rock bands\, and an acoustic guitarist / singer performing as a solo act\, as well as collaborating and performing with other local artists.
URL:https://pebblestonecellars.biz/event/crutcher-dunsmoor-2/
LOCATION:Pebblestone Tasting Barn\, 1670 Pioneer Road\, Talent\, OR
CATEGORIES:Live Music
ATTACH;FMTTYPE=image/jpeg:https://pebblestonecellars.biz/wp-content/uploads/2024/10/dunsmoor-crutcher2024-e1751496131556.jpg
END:VEVENT
BEGIN:VEVENT
DTSTART;VALUE=DATE:20241128
DTEND;VALUE=DATE:20241129
DTSTAMP:20260424T164806
CREATED:20241017T190425Z
LAST-MODIFIED:20241017T190425Z
UID:7011-1732752000-1732838399@pebblestonecellars.biz
SUMMARY:Thanksgiving
DESCRIPTION:Blessings to you and your family on this day of giving thanks.
URL:https://pebblestonecellars.biz/event/thanksgiving-2/
LOCATION:Pebblestone Tasting Barn\, 1670 Pioneer Road\, Talent\, OR
CATEGORIES:Live Music
END:VEVENT
BEGIN:VEVENT
DTSTART;TZID=America/Los_Angeles:20241129T170000
DTEND;TZID=America/Los_Angeles:20241129T190000
DTSTAMP:20260424T164806
CREATED:20241017T190032Z
LAST-MODIFIED:20241017T190039Z
UID:7007-1732899600-1732906800@pebblestonecellars.biz
SUMMARY:John & Jen
DESCRIPTION:
URL:https://pebblestonecellars.biz/event/john-jen/
LOCATION:Pebblestone Tasting Barn\, 1670 Pioneer Road\, Talent\, OR
CATEGORIES:Live Music
END:VEVENT
END:VCALENDAR