BEGIN:VCALENDAR
VERSION:2.0
PRODID:-//Pebblestone Cellars - ECPv6.15.20//NONSGML v1.0//EN
CALSCALE:GREGORIAN
METHOD:PUBLISH
X-WR-CALNAME:Pebblestone Cellars
X-ORIGINAL-URL:https://pebblestonecellars.biz
X-WR-CALDESC:Events for Pebblestone Cellars
REFRESH-INTERVAL;VALUE=DURATION:PT1H
X-Robots-Tag:noindex
X-PUBLISHED-TTL:PT1H
BEGIN:VTIMEZONE
TZID:America/Los_Angeles
BEGIN:DAYLIGHT
TZOFFSETFROM:-0800
TZOFFSETTO:-0700
TZNAME:PDT
DTSTART:20230312T100000
END:DAYLIGHT
BEGIN:STANDARD
TZOFFSETFROM:-0700
TZOFFSETTO:-0800
TZNAME:PST
DTSTART:20231105T090000
END:STANDARD
BEGIN:DAYLIGHT
TZOFFSETFROM:-0800
TZOFFSETTO:-0700
TZNAME:PDT
DTSTART:20240310T100000
END:DAYLIGHT
BEGIN:STANDARD
TZOFFSETFROM:-0700
TZOFFSETTO:-0800
TZNAME:PST
DTSTART:20241103T090000
END:STANDARD
BEGIN:DAYLIGHT
TZOFFSETFROM:-0800
TZOFFSETTO:-0700
TZNAME:PDT
DTSTART:20250309T100000
END:DAYLIGHT
BEGIN:STANDARD
TZOFFSETFROM:-0700
TZOFFSETTO:-0800
TZNAME:PST
DTSTART:20251102T090000
END:STANDARD
END:VTIMEZONE
BEGIN:VEVENT
DTSTART;TZID=America/Los_Angeles:20241006T150000
DTEND;TZID=America/Los_Angeles:20241006T170000
DTSTAMP:20260424T182629
CREATED:20241007T191832Z
LAST-MODIFIED:20241007T191832Z
UID:6962-1728226800-1728234000@pebblestonecellars.biz
SUMMARY:John Ivey
DESCRIPTION:John Ivey\, a multi-talented musician and artist\, who has had a diverse range of life experiences and careers is returning to Pebblestone for another electric performance. From being a paraglider pilot and instructor to a cabinet maker\, contractor\, and now a luther\, John has always expressed his creative talents in unique ways. \nMusic has been a constant passion in John’s life\, and he began playing guitar at the age of 10\, learning to write songs at the age of 14. With over 41 years of experience\, John writes and performs most of his own music\, drawing inspiration from his varied life experiences. \nDon’t miss this opportunity to hear his music and experience the talent and creativity of this remarkable artist.
URL:https://pebblestonecellars.biz/event/john-ivey-3/
LOCATION:Pebblestone Tasting Barn\, 1670 Pioneer Road\, Talent\, OR
CATEGORIES:Live Music
ATTACH;FMTTYPE=image/jpeg:https://pebblestonecellars.biz/wp-content/uploads/2023/09/JohnIvey.jpg
END:VEVENT
BEGIN:VEVENT
DTSTART;TZID=America/Los_Angeles:20241011T170000
DTEND;TZID=America/Los_Angeles:20241011T190000
DTSTAMP:20260424T182629
CREATED:20241011T235520Z
LAST-MODIFIED:20241011T235520Z
UID:6969-1728666000-1728673200@pebblestonecellars.biz
SUMMARY:J O N E S
DESCRIPTION:Pebblestone welcomes back J O N E S who are bringing their fresh and exciting style of music to entertain all of us. \nLed by the dynamic duo of Joshua Jones and Shelley Kristen Jones\, this talented musical pair brings over 20 years of experience to the stage. With Joshua’s incredible guitar skills and Shelley’s powerful voice and songwriting abilities\, J O N E S is redefining the musical landscape. \nGet ready to rock\, dance\, and sing along to their unique spin on Classic Rock\, R B\, Pop\, Folk\, Country\, and Jazz Standards. Don’t miss out on the musical experience of a lifetime – come see J O N E S perform!
URL:https://pebblestonecellars.biz/event/j-o-n-e-s-5/
CATEGORIES:Live Music
ATTACH;FMTTYPE=image/jpeg:https://pebblestonecellars.biz/wp-content/uploads/2023/06/Jones-2023.jpg
END:VEVENT
BEGIN:VEVENT
DTSTART;TZID=America/Los_Angeles:20241013T150000
DTEND;TZID=America/Los_Angeles:20241013T170000
DTSTAMP:20260424T182629
CREATED:20241011T235947Z
LAST-MODIFIED:20241011T235947Z
UID:6972-1728831600-1728838800@pebblestonecellars.biz
SUMMARY:Sterling Vintage Jazz
DESCRIPTION:Pebblestone  is pleased to welcome back Sterling Vintage Jazz. This talented group of musicians includes lead vocalist and percussionist Margaret Reno\, Tim Church on guitar\, Steve Fain on bass and Paul Schmeling on sax. \nThey cover a wide variety of tunes that have withstood the test of time and have brought joy for generations. Their songbook is diverse and includes classic Jazz and swing hits from the 30’s\, 40’s\, and 50’s in a style inspired by the greats such as Anita O’ Day and Peggy Lee\, with just the right amount of 60’s and 70’s soulful R&B. \nVisit Pebblestone for a special musical experience with Sterling Vintage Jazz this Sunday afternoon.
URL:https://pebblestonecellars.biz/event/sterling-vintage-jazz-6/
LOCATION:Pebblestone Tasting Barn\, 1670 Pioneer Road\, Talent\, OR
CATEGORIES:Live Music
ATTACH;FMTTYPE=image/jpeg:https://pebblestonecellars.biz/wp-content/uploads/2023/05/SterlingVintageJazz2023.jpg
END:VEVENT
BEGIN:VEVENT
DTSTART;TZID=America/Los_Angeles:20241018T170000
DTEND;TZID=America/Los_Angeles:20241018T190000
DTSTAMP:20260424T182629
CREATED:20241017T182229Z
LAST-MODIFIED:20241017T182229Z
UID:6977-1729270800-1729278000@pebblestonecellars.biz
SUMMARY:JustaDuo
DESCRIPTION:Get ready to be serenaded by the melodious tunes of JustaDuo\, featuring the powerhouse duo of Alois Henderson and Albert Lee. With soulful vocals\, mesmerizing guitar melodies\, and captivating stage presence\, JustaDuo is taking the Rogue Valley by storm. \nFounded by the talented Albert Lee after his departure from Hog Wild\, this duo brings a fresh and unique sound that is sure to leave you wanting more. Join us in welcoming JustaDuo as they continue to dazzle audiences with their incredible musical talents and undeniable chemistry on stage!
URL:https://pebblestonecellars.biz/event/justaduo-2/
LOCATION:Pebblestone Tasting Barn\, 1670 Pioneer Road\, Talent\, OR
CATEGORIES:Live Music
ATTACH;FMTTYPE=image/jpeg:https://pebblestonecellars.biz/wp-content/uploads/2022/09/JustaDuo2022.jpg
END:VEVENT
BEGIN:VEVENT
DTSTART;TZID=America/Los_Angeles:20241019T140000
DTEND;TZID=America/Los_Angeles:20241019T160000
DTSTAMP:20260424T182629
CREATED:20241017T183547Z
LAST-MODIFIED:20241017T183547Z
UID:6988-1729346400-1729353600@pebblestonecellars.biz
SUMMARY:Ukulele Jam
DESCRIPTION:
URL:https://pebblestonecellars.biz/event/ukulele-jam-5/
LOCATION:Pebblestone Tasting Barn\, 1670 Pioneer Road\, Talent\, OR
CATEGORIES:Live Music
ATTACH;FMTTYPE=image/jpeg:https://pebblestonecellars.biz/wp-content/uploads/2023/11/ukulele-jam.jpg
END:VEVENT
BEGIN:VEVENT
DTSTART;TZID=America/Los_Angeles:20241020T150000
DTEND;TZID=America/Los_Angeles:20241020T170000
DTSTAMP:20260424T182629
CREATED:20241017T182807Z
LAST-MODIFIED:20241022T173628Z
UID:6980-1729436400-1729443600@pebblestonecellars.biz
SUMMARY:Gary Dunsmoor & Alan Crutcher
DESCRIPTION:Allen Crutcher and Gary Dunsmoor have found a shared love of music\, songwriting craft\, and playing each other’s music\, and want to share some wonderful music with you. \nAllen Crutcher is a gifted song writer and multi-instrumentalist. He has been a part of the local music scene for years\, collaborating both in bands and with individual musicians. Allen’s original songs are not only artfully crafted\, their lyrics capture all the beauty and humanity of everyday life\, in songs about love\, friendship\, loss\, and the joy of living. \nGary Dunsmoor has a love for all kinds of music\, and is a sucker for melody\, harmony\, and expressive lyrics. Over the years\, he has played as a lead and rhythm guitar player in several rock bands\, an electric bass player with New Orleans-style R&B\, funk\, and rock bands\, and an acoustic guitarist / singer performing as a solo act\, as well as collaborating and performing with other local artists.at foster connection and joy\, so come make some beautiful memories with us!
URL:https://pebblestonecellars.biz/event/gary-dunsmoor-alan-crutcher/
LOCATION:Pebblestone Tasting Barn\, 1670 Pioneer Road\, Talent\, OR
CATEGORIES:Live Music
ATTACH;FMTTYPE=image/jpeg:https://pebblestonecellars.biz/wp-content/uploads/2024/10/dunsmoor-crutcher2024-e1751496131556.jpg
END:VEVENT
BEGIN:VEVENT
DTSTART;TZID=America/Los_Angeles:20241025T170000
DTEND;TZID=America/Los_Angeles:20241025T190000
DTSTAMP:20260424T182629
CREATED:20241017T183103Z
LAST-MODIFIED:20241017T183103Z
UID:6983-1729875600-1729882800@pebblestonecellars.biz
SUMMARY:Joshua Paul
DESCRIPTION:We are pleased to welcome back Joshua Paul\, a talented musician hailing from Southern Oregon. Joshua’s musical journey began at a young age and has since evolved into a full-time passion. \nWhile initially pursuing a career in chemistry after graduating in the field\, Joshua found his true calling to be music and has been captivating audiences with his blend of Americana\, rock\, country\, and blues tunes. \nHaving recorded songs with renowned producers and performing at various venues\, including wineries\, bars\, and retirement communities\, Joshua’s music resonates with a wide audience. Join us in celebrating Joshua Paul’s musical talent and dedication to his craft.
URL:https://pebblestonecellars.biz/event/joshua-paul-6/
LOCATION:Pebblestone Tasting Barn\, 1670 Pioneer Road\, Talent\, OR
CATEGORIES:Live Music
ATTACH;FMTTYPE=image/jpeg:https://pebblestonecellars.biz/wp-content/uploads/2022/07/JoshuaPaul-2022.jpg
END:VEVENT
BEGIN:VEVENT
DTSTART;TZID=America/Los_Angeles:20241027T150000
DTEND;TZID=America/Los_Angeles:20241027T170000
DTSTAMP:20260424T182629
CREATED:20241017T183350Z
LAST-MODIFIED:20241028T210445Z
UID:6986-1730041200-1730048400@pebblestonecellars.biz
SUMMARY:Bekkah McAlvage & Jef Fretwell
DESCRIPTION:Bekkah McAlvage and Jef Fretwell have paired up to perform as the as the Folk/ Country duo of McAlvage and Fretwell. \nBased in southern Oregon\, Bekkah McAlvage plays a mix of country & folk music in a fresh approach to traditional American roots music. Born on the Oregon Coast & raised in the far-flung mountain towns of the Pacific Northwest\, she resonates with music of rural life\, rugged landscapes & stories that have been passed down of lives lived painfully or beautifully or both.
URL:https://pebblestonecellars.biz/event/bekkah-mcalvage/
LOCATION:Pebblestone Tasting Barn\, 1670 Pioneer Road\, Talent\, OR
CATEGORIES:Live Music
ATTACH;FMTTYPE=image/jpeg:https://pebblestonecellars.biz/wp-content/uploads/2024/03/BekkaMcAlvage2024.jpg
END:VEVENT
END:VCALENDAR