BEGIN:VCALENDAR
VERSION:2.0
PRODID:-//Pebblestone Cellars - ECPv6.15.20//NONSGML v1.0//EN
CALSCALE:GREGORIAN
METHOD:PUBLISH
X-ORIGINAL-URL:https://pebblestonecellars.biz
X-WR-CALDESC:Events for Pebblestone Cellars
REFRESH-INTERVAL;VALUE=DURATION:PT1H
X-Robots-Tag:noindex
X-PUBLISHED-TTL:PT1H
BEGIN:VTIMEZONE
TZID:America/Los_Angeles
BEGIN:DAYLIGHT
TZOFFSETFROM:-0800
TZOFFSETTO:-0700
TZNAME:PDT
DTSTART:20230312T100000
END:DAYLIGHT
BEGIN:STANDARD
TZOFFSETFROM:-0700
TZOFFSETTO:-0800
TZNAME:PST
DTSTART:20231105T090000
END:STANDARD
BEGIN:DAYLIGHT
TZOFFSETFROM:-0800
TZOFFSETTO:-0700
TZNAME:PDT
DTSTART:20240310T100000
END:DAYLIGHT
BEGIN:STANDARD
TZOFFSETFROM:-0700
TZOFFSETTO:-0800
TZNAME:PST
DTSTART:20241103T090000
END:STANDARD
BEGIN:DAYLIGHT
TZOFFSETFROM:-0800
TZOFFSETTO:-0700
TZNAME:PDT
DTSTART:20250309T100000
END:DAYLIGHT
BEGIN:STANDARD
TZOFFSETFROM:-0700
TZOFFSETTO:-0800
TZNAME:PST
DTSTART:20251102T090000
END:STANDARD
END:VTIMEZONE
BEGIN:VEVENT
DTSTART;TZID=America/Los_Angeles:20240901T150000
DTEND;TZID=America/Los_Angeles:20240901T170000
DTSTAMP:20260424T200953
CREATED:20240821T215256Z
LAST-MODIFIED:20240821T222539Z
UID:6867-1725202800-1725210000@pebblestonecellars.biz
SUMMARY:Gary Dunsmoor
DESCRIPTION:Gary Dunsmoor\, a talented musician who has been passionate about music since his early days in middle school will be returning for a solo performance at Pebblestone this Sunday. \nWith a diverse background in various genres such as blues\, rock\, funk\, RB\, and acoustic singer/songwriter\, Gary brings an eclectic and diverse catalogue of songs and lyrics to share. From popular hits to obscure gems\, his music ranges from gentle and heartfelt melodies to get-out-of-your-seat dance tunes. \nFor Gary\, it’s all about the power of the song and the joy of sharing music with others. Join us and be captivated by his unique musical style and infectious passion for music.
URL:https://pebblestonecellars.biz/event/gary-dunsmoor-4/
LOCATION:Pebblestone Tasting Barn\, 1670 Pioneer Road\, Talent\, OR
CATEGORIES:Live Music
ATTACH;FMTTYPE=image/jpeg:https://pebblestonecellars.biz/wp-content/uploads/2023/06/GaryDunsmoor2023.jpg
END:VEVENT
BEGIN:VEVENT
DTSTART;TZID=America/Los_Angeles:20240906T170000
DTEND;TZID=America/Los_Angeles:20240906T190000
DTSTAMP:20260424T200953
CREATED:20240821T215457Z
LAST-MODIFIED:20240905T215744Z
UID:6869-1725642000-1725649200@pebblestonecellars.biz
SUMMARY:Carla Bauer
DESCRIPTION:Carla Bauer\, accompanied by bassist John Galloway\, will entertain you with acoustic rock from the 60s forward\, sprinkled with some country rock\, hard rock\, blues\, and originals. It’s music you’ll recognize; music you loved but seldom hear these days; and music that just might get you up and dancing. \nCome enjoy the last of summer and a glass of wine with us.
URL:https://pebblestonecellars.biz/event/rob-julie/
LOCATION:Pebblestone Tasting Barn\, 1670 Pioneer Road\, Talent\, OR
CATEGORIES:Live Music
ATTACH;FMTTYPE=image/jpeg:https://pebblestonecellars.biz/wp-content/uploads/2024/08/carlaBauer2024-e1725573448787.jpg
END:VEVENT
BEGIN:VEVENT
DTSTART;TZID=America/Los_Angeles:20240908T150000
DTEND;TZID=America/Los_Angeles:20240908T170000
DTSTAMP:20260424T200953
CREATED:20240821T215619Z
LAST-MODIFIED:20240821T222332Z
UID:6871-1725807600-1725814800@pebblestonecellars.biz
SUMMARY:Positively First Street
DESCRIPTION:We are pleased to announce that Mary Boucher and Allen Crutcher\, better known as Positively First Street\, will be returning to Pebblestone and performing their unique blend of vocal harmony and acoustic instrumentation. \nTheir repertoire includes a wide range of songs from both traditional and contemporary artists\, such as Patsy Cline\, Brandi Carlisle\, Willy Nelson\, and Tom Petty. The duo also performs a select few well-crafted originals\, all while engaging in friendly banter with their audience. Don’t miss this opportunity to experience Positively First Street’s captivating performance!
URL:https://pebblestonecellars.biz/event/positively-first-street-4/
LOCATION:Pebblestone Tasting Barn\, 1670 Pioneer Road\, Talent\, OR
CATEGORIES:Live Music
ATTACH;FMTTYPE=image/jpeg:https://pebblestonecellars.biz/wp-content/uploads/2023/06/PositivelyFirstStreet2023.jpg
END:VEVENT
BEGIN:VEVENT
DTSTART;TZID=America/Los_Angeles:20240913T170000
DTEND;TZID=America/Los_Angeles:20240913T190000
DTSTAMP:20260424T200953
CREATED:20240821T215755Z
LAST-MODIFIED:20240821T222158Z
UID:6873-1726246800-1726254000@pebblestonecellars.biz
SUMMARY:Pacifica
DESCRIPTION:Pebblestone welcomes back Pacifica\, a dynamic musical duo consisting of Alissa Weaver\, a talented vocalist\, and Jeffrey Judkins aka Dr. J on guitar. \nThey bring a fresh and unique sound to the stage with their original songs and a range of well-curated covers. With Alissa’s soulful vocals and Dr. J’s exceptional guitar skills\, they create a musical experience that is both entertaining and memorable. From folk to country\, rock to RB\, Pacifica delivers a captivating performance that will leave you mesmerized. \nJoin us at Pebblestone Cellars for an evening of fantastic live music and great wine. Sit back\, relax and let the Pacifica transport you on a musical journey you won’t soon forget!
URL:https://pebblestonecellars.biz/event/pacifica-5/
LOCATION:Pebblestone Tasting Barn\, 1670 Pioneer Road\, Talent\, OR
CATEGORIES:Live Music
ATTACH;FMTTYPE=image/jpeg:https://pebblestonecellars.biz/wp-content/uploads/2023/01/pacifica-duo-sq.jpg
END:VEVENT
BEGIN:VEVENT
DTSTART;TZID=America/Los_Angeles:20240914T140000
DTEND;TZID=America/Los_Angeles:20240914T160000
DTSTAMP:20260424T200953
CREATED:20240821T220035Z
LAST-MODIFIED:20240821T220035Z
UID:6875-1726322400-1726329600@pebblestonecellars.biz
SUMMARY:Ukulele Jam
DESCRIPTION:The Ukulele Jam is be happening again this Saturday\, September 14th. If the weather is cooperative\, the Jam will be held outside on the tasting room deck; spectators are welcome to enjoy the Jam from our lawn area seating. \nThe Ukulele Jam is gaining in popularity now usually attended by 25 to 30 or more ukulele players strumming and singing through a number of popular songs and enjoyed by an growing audience of fans. \nThey are great to watch but you can also sing along while enjoying a glass or bottle of wine. Local ukulele instructor Tish McFadden will again lead the jam. \nSongbooks are available. All acoustic instruments and voices are welcome as well as just those that just want to enjoy the JAM. \nCall Tish at 541-840-8075 for more information.
URL:https://pebblestonecellars.biz/event/ukulele-jam-4/
LOCATION:Pebblestone Tasting Barn\, 1670 Pioneer Road\, Talent\, OR
CATEGORIES:Live Music
ATTACH;FMTTYPE=image/jpeg:https://pebblestonecellars.biz/wp-content/uploads/2024/03/ukelele-jam2024.jpg
END:VEVENT
BEGIN:VEVENT
DTSTART;TZID=America/Los_Angeles:20240915T150000
DTEND;TZID=America/Los_Angeles:20240915T170000
DTSTAMP:20260424T200953
CREATED:20240821T220353Z
LAST-MODIFIED:20240821T220353Z
UID:6878-1726412400-1726419600@pebblestonecellars.biz
SUMMARY:Shine On
DESCRIPTION:Get ready to be blown away by the melodic sounds of SHINE ON! Featuring the amazing talents of Steve Shine on guitar\, John Galloway on bass\, and Cathy Dorris on drums\, this trio is bringing the best of Grateful Americana to the stage. From the iconic music of the Grateful Dead and the Beatles to the soulful sounds of Bob Dylan and Van Morrison\, SHINE ON will take you on a musical journey like no other. \nSo don’t wait—make your reservation now and get ready to experience the ultimate Grateful Americana experience with SHINE ON! and Pebblestone wine!
URL:https://pebblestonecellars.biz/event/shine-on-7/
LOCATION:Pebblestone Tasting Barn\, 1670 Pioneer Road\, Talent\, OR
CATEGORIES:Live Music
ATTACH;FMTTYPE=image/jpeg:https://pebblestonecellars.biz/wp-content/uploads/2023/01/shineontrio-2023.jpg
END:VEVENT
BEGIN:VEVENT
DTSTART;TZID=America/Los_Angeles:20240920T170000
DTEND;TZID=America/Los_Angeles:20240920T190000
DTSTAMP:20260424T200953
CREATED:20240821T220612Z
LAST-MODIFIED:20240920T203724Z
UID:6881-1726851600-1726858800@pebblestonecellars.biz
SUMMARY:Jon Galfano
DESCRIPTION:Get ready to be entertained by the amazing talent of Jon Galfano. Jon is a versatile guitarist\, singer\, and pianist who knows how to captivate audiences with his live performances. With a specialization in classic rock hits from legendary artists like The Beatles\, Eric Clapton\, Creedence Clearwater\, and more\, Jon’s shows are guaranteed to leave you wanting more. \nBut Jon doesn’t just stick to one genre — he effortlessly incorporates elements of country\, blues\, and oldies into his sets\, adding a unique twist to his performances. His repertoire also includes a treasure trove of original compositions\, showcasing his exceptional skills as a composer and pianist. \nWith a music career spanning decades\, Jon is no stranger to the stage. He has entertained audiences across the country with his professional presentation and outstanding musicianship. So make your reservations today for his performance. \nCome out and enjoy this amazing and talented musician!
URL:https://pebblestonecellars.biz/event/jon-galfano-4/
LOCATION:Pebblestone Tasting Barn\, 1670 Pioneer Road\, Talent\, OR
CATEGORIES:Live Music
ATTACH;FMTTYPE=image/jpeg:https://pebblestonecellars.biz/wp-content/uploads/2023/12/johnGalfano12-2023.jpg
END:VEVENT
BEGIN:VEVENT
DTSTART;TZID=America/Los_Angeles:20240922T150000
DTEND;TZID=America/Los_Angeles:20240922T170000
DTSTAMP:20260424T200953
CREATED:20240821T220802Z
LAST-MODIFIED:20240917T183810Z
UID:6884-1727017200-1727024400@pebblestonecellars.biz
SUMMARY:Encore Five
DESCRIPTION:Get ready to be blown away by Encore Five\, a group of seasoned and talented musicians who have been rocking the Rogue Valley for the past decade. Encore Five’s lineup features amazing musicians like Michael Wells on guitar and vocals\, Jim Doren on drums and vocals\, Mark Longshore on bass\, Sheila Winn on lead vocals and percussion\, Rob Bremer on keyboards and vocals\, and the newest addition Julie Raefield on vocals\, \nEncore Five offers a diverse range of music from classic hits to originals that will keep you dancing all night long. Whether you’re a fan of Doobie Brothers\, Eric Clapton\, Santana\, Norah Jones\, or looking to groove to classics like Brown Eyed Girl and Start it Up\, Encore Five has something for everyone. \nMake your reservations now for the opportunity to experience the magic of Encore Five live in action!
URL:https://pebblestonecellars.biz/event/sonido-allegre-5/
LOCATION:Pebblestone Tasting Barn\, 1670 Pioneer Road\, Talent\, OR
CATEGORIES:Live Music
ATTACH;FMTTYPE=image/jpeg:https://pebblestonecellars.biz/wp-content/uploads/2024/07/encore5-2024.jpg
END:VEVENT
BEGIN:VEVENT
DTSTART;TZID=America/Los_Angeles:20240927T170000
DTEND;TZID=America/Los_Angeles:20240927T190000
DTSTAMP:20260424T200953
CREATED:20240821T221011Z
LAST-MODIFIED:20240924T235758Z
UID:6888-1727456400-1727463600@pebblestonecellars.biz
SUMMARY:Ann Kelly & Mark Ross
DESCRIPTION:Ann and Mark are returning to Pebblestone Friday evening so get ready to be serenaded by the enchanting sounds of this amazing duo. \nHailing from Los Angeles\, this talented vocalist and songwriter have been wowing audiences along the West Coast with their unique blend of pop\, jazz\, and blues. Teaming up with her Emmy award-winning composer husband\, Mark Ross\, Ann’s performances are described as a perfect harmony of assertiveness\, playfulness\, and vulnerability. Don’t miss the chance to experience the magic of Ann Kelly and Mark Ross live at Pebblestone!
URL:https://pebblestonecellars.biz/event/ann-kelly-9/
LOCATION:Pebblestone Tasting Barn\, 1670 Pioneer Road\, Talent\, OR
CATEGORIES:Live Music
ATTACH;FMTTYPE=image/jpeg:https://pebblestonecellars.biz/wp-content/uploads/2023/11/AnnKelly1123.jpg
END:VEVENT
BEGIN:VEVENT
DTSTART;TZID=America/Los_Angeles:20240929T150000
DTEND;TZID=America/Los_Angeles:20240929T170000
DTSTAMP:20260424T200953
CREATED:20240821T221849Z
LAST-MODIFIED:20240925T001006Z
UID:6891-1727622000-1727629200@pebblestonecellars.biz
SUMMARY:Shybo & the Twisted Vines
DESCRIPTION:Shybo and the Twisted Vines is a local Rogue Valley band playing a broad variety of easy listening music. Band members include Shybo Torres on Vocals and guitar\, Jeff Avila on Bass and vocals\, Orion Torres on Drums and Rico Salas on Saxophone and vocals. \nThey will serenade you with an enchanting mix of tunes\, including beloved classics from Santana\, Pink Floyd\, CCR\, and their own original songs. Picture yourself nestled in our picturesque site either on the grass or on the deck\, sipping on exquisite wines while the soothing melodies from the Pergola create an unforgettable atmosphere. \nThis event is all about community\, inviting both wine enthusiasts and casual drinkers to come together for a relaxing afternoon filled with great music\, good company\, and delightful flavors. At Pebblestone Cellars\, we’re committed to providing quality experiences that foster connection and joy\, so come make some beautiful memories with us!
URL:https://pebblestonecellars.biz/event/shybo-twisted-vines/
LOCATION:Pebblestone Tasting Barn\, 1670 Pioneer Road\, Talent\, OR
CATEGORIES:Live Music
ATTACH;FMTTYPE=image/jpeg:https://pebblestonecellars.biz/wp-content/uploads/2024/08/Shybo-twistedvines.jpg
END:VEVENT
END:VCALENDAR