BEGIN:VCALENDAR
VERSION:2.0
PRODID:-//Pebblestone Cellars - ECPv6.15.20//NONSGML v1.0//EN
CALSCALE:GREGORIAN
METHOD:PUBLISH
X-ORIGINAL-URL:https://pebblestonecellars.biz
X-WR-CALDESC:Events for Pebblestone Cellars
REFRESH-INTERVAL;VALUE=DURATION:PT1H
X-Robots-Tag:noindex
X-PUBLISHED-TTL:PT1H
BEGIN:VTIMEZONE
TZID:America/Los_Angeles
BEGIN:DAYLIGHT
TZOFFSETFROM:-0800
TZOFFSETTO:-0700
TZNAME:PDT
DTSTART:20230312T100000
END:DAYLIGHT
BEGIN:STANDARD
TZOFFSETFROM:-0700
TZOFFSETTO:-0800
TZNAME:PST
DTSTART:20231105T090000
END:STANDARD
BEGIN:DAYLIGHT
TZOFFSETFROM:-0800
TZOFFSETTO:-0700
TZNAME:PDT
DTSTART:20240310T100000
END:DAYLIGHT
BEGIN:STANDARD
TZOFFSETFROM:-0700
TZOFFSETTO:-0800
TZNAME:PST
DTSTART:20241103T090000
END:STANDARD
BEGIN:DAYLIGHT
TZOFFSETFROM:-0800
TZOFFSETTO:-0700
TZNAME:PDT
DTSTART:20250309T100000
END:DAYLIGHT
BEGIN:STANDARD
TZOFFSETFROM:-0700
TZOFFSETTO:-0800
TZNAME:PST
DTSTART:20251102T090000
END:STANDARD
END:VTIMEZONE
BEGIN:VEVENT
DTSTART;TZID=America/Los_Angeles:20240402T190000
DTEND;TZID=America/Los_Angeles:20240402T190000
DTSTAMP:20260425T035850
CREATED:20240323T171420Z
LAST-MODIFIED:20240323T171420Z
UID:6443-1712084400-1712084400@pebblestonecellars.biz
SUMMARY:Ukelele Jam
DESCRIPTION:
URL:https://pebblestonecellars.biz/event/ukelele-jam-6/
LOCATION:Pebblestone Tasting Barn\, 1670 Pioneer Road\, Talent\, OR
CATEGORIES:Live Music
ATTACH;FMTTYPE=image/jpeg:https://pebblestonecellars.biz/wp-content/uploads/2023/11/ukulele-jam.jpg
END:VEVENT
BEGIN:VEVENT
DTSTART;TZID=America/Los_Angeles:20240405T170000
DTEND;TZID=America/Los_Angeles:20240405T190000
DTSTAMP:20260425T035850
CREATED:20240323T171321Z
LAST-MODIFIED:20240323T171321Z
UID:6441-1712336400-1712343600@pebblestonecellars.biz
SUMMARY:Sonido Allegre
DESCRIPTION:
URL:https://pebblestonecellars.biz/event/sonido-allegre-4/
LOCATION:Pebblestone Tasting Barn\, 1670 Pioneer Road\, Talent\, OR
CATEGORIES:Live Music
ATTACH;FMTTYPE=image/jpeg:https://pebblestonecellars.biz/wp-content/uploads/2022/07/sonido-allegre-2021.jpg
END:VEVENT
BEGIN:VEVENT
DTSTART;TZID=America/Los_Angeles:20240406T160000
DTEND;TZID=America/Los_Angeles:20240406T180000
DTSTAMP:20260425T035850
CREATED:20240323T171539Z
LAST-MODIFIED:20240323T171539Z
UID:6445-1712419200-1712426400@pebblestonecellars.biz
SUMMARY:Ukelele Clinic
DESCRIPTION:
URL:https://pebblestonecellars.biz/event/ukelele-clinic/
LOCATION:Pebblestone Tasting Barn\, 1670 Pioneer Road\, Talent\, OR
CATEGORIES:Live Music
END:VEVENT
BEGIN:VEVENT
DTSTART;TZID=America/Los_Angeles:20240407T150000
DTEND;TZID=America/Los_Angeles:20240407T170000
DTSTAMP:20260425T035850
CREATED:20240323T171650Z
LAST-MODIFIED:20240323T171650Z
UID:6447-1712502000-1712509200@pebblestonecellars.biz
SUMMARY:Ambrose and Galfano
DESCRIPTION:
URL:https://pebblestonecellars.biz/event/ambrose-and-galfano-2/
LOCATION:Pebblestone Tasting Barn\, 1670 Pioneer Road\, Talent\, OR
CATEGORIES:Live Music
ATTACH;FMTTYPE=image/jpeg:https://pebblestonecellars.biz/wp-content/uploads/2023/09/Ambrose-Galfano.jpg
END:VEVENT
BEGIN:VEVENT
DTSTART;TZID=America/Los_Angeles:20240412T170000
DTEND;TZID=America/Los_Angeles:20240412T190000
DTSTAMP:20260425T035850
CREATED:20240412T194619Z
LAST-MODIFIED:20240412T194619Z
UID:6482-1712941200-1712948400@pebblestonecellars.biz
SUMMARY:J O N E S
DESCRIPTION:Are you tired of the same old music and looking for something fresh and exciting? Look no further than J O N E S! \nLed by the dynamic duo of Joshua Jones and Shelley Kristen Jones\, this talented musical pair brings over 20 years of experience to the stage. With Joshua’s incredible guitar skills and Shelley’s powerful voice and songwriting abilities\, J O N E S is redefining the musical landscape. \nGet ready to rock\, dance\, and sing along to their unique spin on Classic Rock\, R B\, Pop\, Folk\, Country\, and Jazz Standards. Don’t miss out on the musical experience of a lifetime—come see J O N E S perform.
URL:https://pebblestonecellars.biz/event/j-o-n-e-s-4/
LOCATION:Pebblestone Tasting Barn\, 1670 Pioneer Road\, Talent\, OR
CATEGORIES:Live Music
ATTACH;FMTTYPE=image/jpeg:https://pebblestonecellars.biz/wp-content/uploads/2023/06/Jones-2023.jpg
END:VEVENT
BEGIN:VEVENT
DTSTART;TZID=America/Los_Angeles:20240413T140000
DTEND;TZID=America/Los_Angeles:20240413T160000
DTSTAMP:20260425T035850
CREATED:20240323T171916Z
LAST-MODIFIED:20240412T200219Z
UID:6449-1713016800-1713024000@pebblestonecellars.biz
SUMMARY:Special Event!  Saturday Ukulele Clinic
DESCRIPTION:Hello Strummers! \nNo need to travel to Reno or Portland to experience the magic of Dani Joy and Perry Stauffer. Come to Pebblestone Cellars is hosting a special event featuring this wonderful duo of Ukulele performers and instructors from the Starlight Ukulele Academy in Portland. \nThey will offer a workshop followed by a concert. Then we’ll take a refreshment break\, followed by a jam. So\, bring your instruments and your friends and experience the magic some of us had at the Reno Ukefest! Wine by the glass and the bottle are of course available at all times. \n  \nApril 13\, Saturday\, 2pm \nSuggested donation: $20
URL:https://pebblestonecellars.biz/event/ukelele-jam-7/
LOCATION:Pebblestone Tasting Barn\, 1670 Pioneer Road\, Talent\, OR
CATEGORIES:Live Music
ATTACH;FMTTYPE=image/jpeg:https://pebblestonecellars.biz/wp-content/uploads/2024/03/ukulele-clinic2024.jpg
END:VEVENT
BEGIN:VEVENT
DTSTART;TZID=America/Los_Angeles:20240414T150000
DTEND;TZID=America/Los_Angeles:20240414T170000
DTSTAMP:20260425T035850
CREATED:20240412T195354Z
LAST-MODIFIED:20240412T200916Z
UID:6484-1713106800-1713114000@pebblestonecellars.biz
SUMMARY:PAINT
DESCRIPTION:Join us at Pebblestone this Sunday for a truly special musical experience with the “Paint” duo of artists\, Aaron Korpa and Daniel Myre. With more than 50 years combined experience\, they have played many styles of music ranging from hard rock to classical. \nSharing a mindset for creativity that reaches beyond everyday expectations\, the duo have created a performance that showcases their talents by combining performance art with the visual art of painting\, thus creating a unique show where music and painting come together. \nWatch as Aaron mesmerizes with his guitar looping techniques\, and Daniel alternatively sings and plays drums while periodically switching to creating a watercolor painting. Don’t miss this opportunity to witness the harmonious fusion of two art forms this weekend at Pebblestone!
URL:https://pebblestonecellars.biz/event/paint/
LOCATION:Pebblestone Tasting Barn\, 1670 Pioneer Road\, Talent\, OR
CATEGORIES:Live Music
ATTACH;FMTTYPE=image/jpeg:https://pebblestonecellars.biz/wp-content/uploads/2024/04/PAINT-2024.jpg
END:VEVENT
BEGIN:VEVENT
DTSTART;TZID=America/Los_Angeles:20240419T170000
DTEND;TZID=America/Los_Angeles:20240419T190000
DTSTAMP:20260425T035850
CREATED:20240323T172123Z
LAST-MODIFIED:20240419T041328Z
UID:6453-1713546000-1713553200@pebblestonecellars.biz
SUMMARY:Rogue Rage Duo
DESCRIPTION:Pebblestone is pleased to welcome back The Rogue Rage Duo who bring electrifying blues performances! With Harpo De Roma’s soulful harmonica and Dan Tiller’s masterful guitar and dobro skills\, this dynamic duo from Medford\, Oregon\, has taken the blues scene by storm. Their unique blend of country-blues and Delta Blues will transport you to the heart of where it all began. Don’t miss the opportunity to experience the magic of the Rogue Rage Duo live ot Pebblestone!
URL:https://pebblestonecellars.biz/event/rogue-rage/
LOCATION:Pebblestone Tasting Barn\, 1670 Pioneer Road\, Talent\, OR
CATEGORIES:Live Music
ATTACH;FMTTYPE=image/jpeg:https://pebblestonecellars.biz/wp-content/uploads/2024/01/RogueRageDuo2024.jpg
END:VEVENT
BEGIN:VEVENT
DTSTART;TZID=America/Los_Angeles:20240421T150000
DTEND;TZID=America/Los_Angeles:20240421T170000
DTSTAMP:20260425T035850
CREATED:20240419T041948Z
LAST-MODIFIED:20240419T041948Z
UID:6499-1713711600-1713718800@pebblestonecellars.biz
SUMMARY:Tension Deficit
DESCRIPTION:Are you ready for a musical adventure like no other? Look no further than Tension Deficit and drain that tension from the week with wine and a perfect blend of vintage classics and modern hits from the Duo. \nLet the velvet vocals of Genevieve Predmore and the unfailing style of guitarist Russ Carter take you on a journey through time. With soaring anthems and just a tinge of blue\, Tension Deficit will have you feeling all the emotions and wanting more. Don’t miss out on this timeless appeal – come enjoy an afternoon with wine and Tension Deficit
URL:https://pebblestonecellars.biz/event/tension-deficit-3/
LOCATION:Pebblestone Tasting Barn\, 1670 Pioneer Road\, Talent\, OR
CATEGORIES:Live Music
ATTACH;FMTTYPE=image/jpeg:https://pebblestonecellars.biz/wp-content/uploads/2024/04/tensiondeficit2024.jpg
END:VEVENT
BEGIN:VEVENT
DTSTART;TZID=America/Los_Angeles:20240426T170000
DTEND;TZID=America/Los_Angeles:20240426T190000
DTSTAMP:20260425T035850
CREATED:20240323T172342Z
LAST-MODIFIED:20240426T203249Z
UID:6457-1714150800-1714158000@pebblestonecellars.biz
SUMMARY:Positively First Street
DESCRIPTION:We are pleased to announce that Mary Boucher and Allen Crutcher\, better known as Positively First Street\, will be returning to Pebblestone and performing their unique blend of vocal harmony and acoustic instrumentation. \nTheir repertoire includes a wide range of songs from both traditional and contemporary artists\, such as Patsy Cline\, Brandi Carlisle\, Willy Nelson\, and Tom Petty. The duo also performs a select few well-crafted originals\, all while engaging in friendly banter with their audience. Don’t miss this opportunity to experience Positively First Street’s captivating performance!
URL:https://pebblestonecellars.biz/event/positively-first-street-3/
LOCATION:Pebblestone Tasting Barn\, 1670 Pioneer Road\, Talent\, OR
CATEGORIES:Live Music
ATTACH;FMTTYPE=image/jpeg:https://pebblestonecellars.biz/wp-content/uploads/2023/06/PositivelyFirstStreet2023.jpg
END:VEVENT
BEGIN:VEVENT
DTSTART;TZID=America/Los_Angeles:20240428T150000
DTEND;TZID=America/Los_Angeles:20240428T170000
DTSTAMP:20260425T035850
CREATED:20240323T172511Z
LAST-MODIFIED:20240426T203442Z
UID:6459-1714316400-1714323600@pebblestonecellars.biz
SUMMARY:Ann Kelly & Mark Ross
DESCRIPTION:We are pleased to announce that Ann Kelly and Mark Ross will be gracing the Pebblestone Tasting Room once again Sunday\, April 28th for another incredible performance! Ann\, a talented vocalist and songwriter\, originally from California\, has been captivating audiences with her unique blend of pop\, jazz\, and blues. Her dark\, sultry\, and emotional vocals have earned her critical acclaim\, and we are honored to have her perform again at Pebblestone. \nBut Ann is not alone in her musical talents—she is accompanied by her husband\, Mark Ross\, a fantastic keyboardist and an Emmy award-winning composer. Together\, this dynamic duo is sure to impress and leave you wanting more. So mark your calendars and join us for an unforgettable evening of music and entertainment with Ann Kelly and Mark Ross at Pebblestone!
URL:https://pebblestonecellars.biz/event/ann-kelly-7/
LOCATION:Pebblestone Tasting Barn\, 1670 Pioneer Road\, Talent\, OR
CATEGORIES:Live Music
ATTACH;FMTTYPE=image/jpeg:https://pebblestonecellars.biz/wp-content/uploads/2023/03/AnnKelly-MarkRoss0523.jpg
END:VEVENT
END:VCALENDAR