BEGIN:VCALENDAR
VERSION:2.0
PRODID:-//Pebblestone Cellars - ECPv6.15.20//NONSGML v1.0//EN
CALSCALE:GREGORIAN
METHOD:PUBLISH
X-ORIGINAL-URL:https://pebblestonecellars.biz
X-WR-CALDESC:Events for Pebblestone Cellars
REFRESH-INTERVAL;VALUE=DURATION:PT1H
X-Robots-Tag:noindex
X-PUBLISHED-TTL:PT1H
BEGIN:VTIMEZONE
TZID:America/Los_Angeles
BEGIN:DAYLIGHT
TZOFFSETFROM:-0800
TZOFFSETTO:-0700
TZNAME:PDT
DTSTART:20230312T100000
END:DAYLIGHT
BEGIN:STANDARD
TZOFFSETFROM:-0700
TZOFFSETTO:-0800
TZNAME:PST
DTSTART:20231105T090000
END:STANDARD
BEGIN:DAYLIGHT
TZOFFSETFROM:-0800
TZOFFSETTO:-0700
TZNAME:PDT
DTSTART:20240310T100000
END:DAYLIGHT
BEGIN:STANDARD
TZOFFSETFROM:-0700
TZOFFSETTO:-0800
TZNAME:PST
DTSTART:20241103T090000
END:STANDARD
BEGIN:DAYLIGHT
TZOFFSETFROM:-0800
TZOFFSETTO:-0700
TZNAME:PDT
DTSTART:20250309T100000
END:DAYLIGHT
BEGIN:STANDARD
TZOFFSETFROM:-0700
TZOFFSETTO:-0800
TZNAME:PST
DTSTART:20251102T090000
END:STANDARD
END:VTIMEZONE
BEGIN:VEVENT
DTSTART;TZID=America/Los_Angeles:20240202T170000
DTEND;TZID=America/Los_Angeles:20240202T190000
DTSTAMP:20260425T070311
CREATED:20240202T210122Z
LAST-MODIFIED:20240202T210122Z
UID:6319-1706893200-1706900400@pebblestonecellars.biz
SUMMARY:J O N E S
DESCRIPTION:Pebblestone Cellars is pleased to announce the return of J O N E S for the first time in the 2024 music season! \nLed by the dynamic duo of Joshua Jones and Shelley Kristen Jones\, this talented musical pair brings over 20 years of experience to the stage. With Joshua’s incredible guitar skills and Shelley’s powerful voice and songwriting abilities\, J O N E S is redefining the musical landscape. \nGet ready to rock\, dance\, and sing along to their unique spin on Classic Rock\, R B\, Pop\, Folk\, Country\, and Jazz Standards. Don’t miss out on the musical experience of a lifetime — come see J O N E S perform!
URL:https://pebblestonecellars.biz/event/j-o-n-e-s-3/
LOCATION:Pebblestone Tasting Barn\, 1670 Pioneer Road\, Talent\, OR
CATEGORIES:Live Music
ATTACH;FMTTYPE=image/jpeg:https://pebblestonecellars.biz/wp-content/uploads/2023/06/Jones-2023.jpg
END:VEVENT
BEGIN:VEVENT
DTSTART;TZID=America/Los_Angeles:20240204T150000
DTEND;TZID=America/Los_Angeles:20240204T170000
DTSTAMP:20260425T070311
CREATED:20240202T210410Z
LAST-MODIFIED:20240202T210410Z
UID:6321-1707058800-1707066000@pebblestonecellars.biz
SUMMARY:Jeff Kloetzel
DESCRIPTION:We are thrilled to welcome back the talented singer-songwriter and cover artist\, Jeff Kloetzel who is returning to Pebblestone for his 13th year of performances. \nJeff has been a crowd favorite for years\, and for good reason. His diverse catalog of music ranges from driving modern tunes to subtle timeless ballads\, all fueled by his rhythmic guitar work and soulful vocals. With influences spanning pop\, rock\, folk\, blues\, and contemporary island music\, there’s sure to be something for everyone in Jeff’s set list. \nDon’t miss out on this incredible opportunity to experience Jeff Kloetzel’s music live in the Pebblestone tasting hall.
URL:https://pebblestonecellars.biz/event/jeff-kloetzel-7/
LOCATION:Pebblestone Tasting Barn\, 1670 Pioneer Road\, Talent\, OR
CATEGORIES:Live Music
ATTACH;FMTTYPE=image/jpeg:https://pebblestonecellars.biz/wp-content/uploads/2022/07/Jeff-Kloetzel-2022.jpg
END:VEVENT
BEGIN:VEVENT
DTSTART;TZID=America/Los_Angeles:20240209T170000
DTEND;TZID=America/Los_Angeles:20240209T190000
DTSTAMP:20260425T070311
CREATED:20240202T223058Z
LAST-MODIFIED:20240208T235213Z
UID:6327-1707498000-1707505200@pebblestonecellars.biz
SUMMARY:Jen Ambrose
DESCRIPTION:Get ready for an unforgettable musical experience as Pebblestone welcomes back multi-instrumentalist Jen Ambrose with her one-woman-live-looping show. Combining her talents on acoustic guitar\, flute\, and vocals\, Jen showcases a unique blend of Blues\, Jazz\, Americana\, and Rock music that will leave you wanting more. \nWith original tracks from her newest album\, Plenty Of Nothin’ To Do\, and an eclectic mix of familiar songs from legendary artists such as Bonnie Raitt\, Patsy Cline\, Ella Fitzgerald\, and Led Zeppelin\, Jen’s performance is a true delight for music lovers. \nDon’t miss out on the opportunity to witness the magic of Jen Ambrose’s one-woman-live-looping show.
URL:https://pebblestonecellars.biz/event/jen-ambrose/
LOCATION:Pebblestone Tasting Barn\, 1670 Pioneer Road\, Talent\, OR
CATEGORIES:Live Music
ATTACH;FMTTYPE=image/jpeg:https://pebblestonecellars.biz/wp-content/uploads/2024/02/JenAmbrose2024.jpg
END:VEVENT
BEGIN:VEVENT
DTSTART;TZID=America/Los_Angeles:20240210T130000
DTEND;TZID=America/Los_Angeles:20240210T150000
DTSTAMP:20260425T070311
CREATED:20240202T223337Z
LAST-MODIFIED:20240202T223348Z
UID:6329-1707570000-1707577200@pebblestonecellars.biz
SUMMARY:Saturday Ukulele Jam
DESCRIPTION:The Ukulele Jam is happening again this Saturday inside the tasting room due to cool weather conditions. \nThe Ukulele jam is usually always well attended by 20 or more ukulele players strumming and singing through a number of popular songs. \nThey are great to watch but you can also sing along while enjoying a glass or bottle of wine. Local ukulele instructor Tish McFadden will again lead the jam. \nSongbooks are available. All acoustic instruments and voices are welcome as well as just those that just want to enjoy the JAM. Call Tish at 541-840-8075 for more information.
URL:https://pebblestonecellars.biz/event/saturday-ukulele-jam-2-2/
LOCATION:Pebblestone Tasting Barn\, 1670 Pioneer Road\, Talent\, OR
CATEGORIES:Live Music
ATTACH;FMTTYPE=image/jpeg:https://pebblestonecellars.biz/wp-content/uploads/2023/09/tasting-rm-indoors.jpg
END:VEVENT
BEGIN:VEVENT
DTSTART;TZID=America/Los_Angeles:20240216T170000
DTEND;TZID=America/Los_Angeles:20240216T190000
DTSTAMP:20260425T070311
CREATED:20240202T223747Z
LAST-MODIFIED:20240216T183628Z
UID:6334-1708102800-1708110000@pebblestonecellars.biz
SUMMARY:Sterling Vintage Jazz
DESCRIPTION:Sterling Vintage Jazz is returning to Pebblestone for the first time this season to again transport you to a musical era of timeless classics and soulful RB. \nLed by the talented Margaret Reno on vocals and percussion\, and accompanied by Tim Church on Guitar and Steve Fain on bass\, this band’s songbook is diverse and covers hits from the 30’s\, 40’s\, and 50’s with just the right amount of 60s and 70s flair. \nCome join us tonight for a night of swing\, jazz\, and soulful tunes that are sure to lift your spirits and make you tap your feet!
URL:https://pebblestonecellars.biz/event/sterling-vintage-jazz-5/
LOCATION:Pebblestone Tasting Barn\, 1670 Pioneer Road\, Talent\, OR
CATEGORIES:Live Music
ATTACH;FMTTYPE=image/jpeg:https://pebblestonecellars.biz/wp-content/uploads/2023/05/SterlingVintageJazz2023.jpg
END:VEVENT
BEGIN:VEVENT
DTSTART;TZID=America/Los_Angeles:20240218T150000
DTEND;TZID=America/Los_Angeles:20240218T170000
DTSTAMP:20260425T070311
CREATED:20240202T224035Z
LAST-MODIFIED:20240216T183801Z
UID:6336-1708268400-1708275600@pebblestonecellars.biz
SUMMARY:Ann Kelly & Mark Ross
DESCRIPTION:We are pleased to announce that Ann Kelly and Mark Ross will be returning to the Pebblestone Tasting Room once again for another incredible performance! \nAnn\, a talented vocalist and songwriter originally from California\, has been captivating audiences with her unique blend of pop\, jazz\, and blues. Her dark\, sultry\, and emotional vocals have earned her critical acclaim\, and we are honored to have her perform again at Pebblestone. \nBut Ann is not alone in her musical talents – she is accompanied by her husband\, Mark Ross\, a fantastic keyboardist and an Emmy award-winning composer. Together\, this dynamic duo is sure to impress and leave you wanting more. So mark your calendars and join us for an unforgettable evening of music and entertainment with Ann Kelly and Mark Ross at Pebblestone!
URL:https://pebblestonecellars.biz/event/ann-kelly-6/
LOCATION:Pebblestone Tasting Barn\, 1670 Pioneer Road\, Talent\, OR
CATEGORIES:Live Music
ATTACH;FMTTYPE=image/jpeg:https://pebblestonecellars.biz/wp-content/uploads/2023/11/AnnKelly1123.jpg
END:VEVENT
BEGIN:VEVENT
DTSTART;TZID=America/Los_Angeles:20240223T170000
DTEND;TZID=America/Los_Angeles:20240223T190000
DTSTAMP:20260425T070311
CREATED:20240202T224207Z
LAST-MODIFIED:20240222T235015Z
UID:6338-1708707600-1708714800@pebblestonecellars.biz
SUMMARY:John Ivey
DESCRIPTION:John Ivey\, a multi-talented musician and artist\, who has had a diverse range of life experiences and careers is returning to Pebblestone for another electric performance. From being a paraglider pilot and instructor to a cabinet maker\, contractor\, and now a luther\, John has always expressed his creative talents in unique ways. \nMusic has been a constant passion in John’s life\, and he began playing guitar at the age of 10\, learning to write songs at the age of 14. With over 41 years of experience\, John writes and performs most of his own music\, drawing inspiration from his varied life experiences. Come out tomorrow night to hear his music and experience the talent and creativity of this remarkable artist.
URL:https://pebblestonecellars.biz/event/john-ivey/
LOCATION:Pebblestone Tasting Barn\, 1670 Pioneer Road\, Talent\, OR
CATEGORIES:Live Music
ATTACH;FMTTYPE=image/jpeg:https://pebblestonecellars.biz/wp-content/uploads/2023/09/JohnIvey.jpg
END:VEVENT
BEGIN:VEVENT
DTSTART;TZID=America/Los_Angeles:20240225T150000
DTEND;TZID=America/Los_Angeles:20240225T170000
DTSTAMP:20260425T070311
CREATED:20240202T224352Z
LAST-MODIFIED:20240222T235049Z
UID:6340-1708873200-1708880400@pebblestonecellars.biz
SUMMARY:Joshua Paul
DESCRIPTION:We are pleased to welcome back Joshua Paul\, a talented musician hailing from Southern Oregon. Joshua’s musical journey began at a young age and has since evolved into a full-time passion. \nWhile initially pursuing a career in chemistry after graduating in the field\, Joshua found his true calling to be music and has been captivating audiences with his blend of Americana\, rock\, country\, and blues tunes. \nHaving recorded songs with renowned producers and performing at various venues\, including wineries\, bars\, and retirement communities\, Joshua’s music resonates with a wide audience. Join us in celebrating Joshua Paul’s musical talent and dedication to his craft.
URL:https://pebblestonecellars.biz/event/joshua-paul-4/
LOCATION:Pebblestone Tasting Barn\, 1670 Pioneer Road\, Talent\, OR
CATEGORIES:Live Music
ATTACH;FMTTYPE=image/jpeg:https://pebblestonecellars.biz/wp-content/uploads/2022/07/JoshuaPaul-2022.jpg
END:VEVENT
END:VCALENDAR