BEGIN:VCALENDAR
VERSION:2.0
PRODID:-//Pebblestone Cellars - ECPv6.15.20//NONSGML v1.0//EN
CALSCALE:GREGORIAN
METHOD:PUBLISH
X-WR-CALNAME:Pebblestone Cellars
X-ORIGINAL-URL:https://pebblestonecellars.biz
X-WR-CALDESC:Events for Pebblestone Cellars
REFRESH-INTERVAL;VALUE=DURATION:PT1H
X-Robots-Tag:noindex
X-PUBLISHED-TTL:PT1H
BEGIN:VTIMEZONE
TZID:America/Los_Angeles
BEGIN:DAYLIGHT
TZOFFSETFROM:-0800
TZOFFSETTO:-0700
TZNAME:PDT
DTSTART:20230312T100000
END:DAYLIGHT
BEGIN:STANDARD
TZOFFSETFROM:-0700
TZOFFSETTO:-0800
TZNAME:PST
DTSTART:20231105T090000
END:STANDARD
BEGIN:DAYLIGHT
TZOFFSETFROM:-0800
TZOFFSETTO:-0700
TZNAME:PDT
DTSTART:20240310T100000
END:DAYLIGHT
BEGIN:STANDARD
TZOFFSETFROM:-0700
TZOFFSETTO:-0800
TZNAME:PST
DTSTART:20241103T090000
END:STANDARD
BEGIN:DAYLIGHT
TZOFFSETFROM:-0800
TZOFFSETTO:-0700
TZNAME:PDT
DTSTART:20250309T100000
END:DAYLIGHT
BEGIN:STANDARD
TZOFFSETFROM:-0700
TZOFFSETTO:-0800
TZNAME:PST
DTSTART:20251102T090000
END:STANDARD
END:VTIMEZONE
BEGIN:VEVENT
DTSTART;TZID=America/Los_Angeles:20240112T170000
DTEND;TZID=America/Los_Angeles:20240112T190000
DTSTAMP:20260425T083129
CREATED:20240112T181403Z
LAST-MODIFIED:20240112T181403Z
UID:6267-1705078800-1705086000@pebblestonecellars.biz
SUMMARY:Jon Galfano
DESCRIPTION:Opening up the 2024 Music Scene at Pebblestone\, get ready to be entertained by the amazing talent of Jon Galfano. Jon is a versatile guitarist\, singer\, and pianist who knows how to captivate audiences with his live performances. With a specialization in classic rock hits from legendary artists like The Beatles\, Eric Clapton\, Creedence Clearwater\, and more\, Jon’s shows are guaranteed to leave you wanting more. \nBut Jon doesn’t just stick to one genre – he effortlessly incorporates elements of country\, blues\, and oldies into his sets\, adding a unique twist to his performances. His repertoire also includes a treasure trove of original compositions\, showcasing his exceptional skills as a composer and pianist. \nWith a music career spanning decades\, Jon is no stranger to the stage. He has entertained audiences across the country with his professional presentation and outstanding musicianship. So make your reservations today for his performance.
URL:https://pebblestonecellars.biz/event/jon-galfano-3/
LOCATION:Pebblestone Tasting Barn\, 1670 Pioneer Road\, Talent\, OR
CATEGORIES:Live Music
ATTACH;FMTTYPE=image/jpeg:https://pebblestonecellars.biz/wp-content/uploads/2023/12/johnGalfano12-2023.jpg
END:VEVENT
BEGIN:VEVENT
DTSTART;TZID=America/Los_Angeles:20240113T130000
DTEND;TZID=America/Los_Angeles:20240113T150000
DTSTAMP:20260425T083129
CREATED:20240112T181735Z
LAST-MODIFIED:20240112T181735Z
UID:6269-1705150800-1705158000@pebblestonecellars.biz
SUMMARY:Saturday Ukulele Jam
DESCRIPTION:The Ukulele Jam is happening again this Saturday inside the tasting room due to cool weather conditions. \nThe Ukulele jam is usually always well attended by 20 or more ukulele players strumming and singing through a number of popular songs. \nThey are great to watch but you can also sing along while enjoying a glass or bottle of wine. Local ukulele instructor Tish McFadden will again lead the jam. \nSongbooks are available. All acoustic instruments and voices are welcome as well as just those that just want to enjoy the JAM. Call Tish at 541-840-8075 for more information.
URL:https://pebblestonecellars.biz/event/saturday-ukulele-jam-2/
CATEGORIES:Live Music
ATTACH;FMTTYPE=image/jpeg:https://pebblestonecellars.biz/wp-content/uploads/2023/08/CooloftheSummer.jpg
END:VEVENT
BEGIN:VEVENT
DTSTART;TZID=America/Los_Angeles:20240119T170000
DTEND;TZID=America/Los_Angeles:20240119T190000
DTSTAMP:20260425T083129
CREATED:20240117T195902Z
LAST-MODIFIED:20240117T195902Z
UID:6279-1705683600-1705690800@pebblestonecellars.biz
SUMMARY:Rebekka Swan
DESCRIPTION:Rebekka Swan\nperforms\nVintage Ukulele Jazz\nPebblestone is pleased to announce a trip back in time with Rebekka Swan’s vintage ukulele jazz show! Rebekka is a native Oregonian who got her start in musical theater where she discovered her passion for jazz and all things old-fashioned. \nHer setlist includes optimistic jazz songs and Golden Era movie musical hits\, inspired by music legends such as Dorris Day\, Billy Holiday\, Judy Garland\, and Shirley Temple. \nWith her love for the ukulele\, Rebekka has created a show that will transport you to a time capsule of wonderful old-time hits. So come on over\, sip on some Pebblestone wine\, and let Rebekka Swan take you on a swingin’ journey through time. \n 
URL:https://pebblestonecellars.biz/event/rebekka-swan/
LOCATION:Pebblestone Tasting Barn\, 1670 Pioneer Road\, Talent\, OR
CATEGORIES:Live Music
ATTACH;FMTTYPE=image/jpeg:https://pebblestonecellars.biz/wp-content/uploads/2024/01/rebekka-swan-2024.jpg
END:VEVENT
BEGIN:VEVENT
DTSTART;TZID=America/Los_Angeles:20240121T150000
DTEND;TZID=America/Los_Angeles:20240121T170000
DTSTAMP:20260425T083129
CREATED:20240117T200456Z
LAST-MODIFIED:20240117T200456Z
UID:6283-1705849200-1705856400@pebblestonecellars.biz
SUMMARY:PFR Swing
DESCRIPTION:Introducing\nPFR Swing!\nWe are excited to welcome the first performance at Pebblestone of a talented and newly formed trio of seasoned musicians: Linda Powers\, Dan Fellman\, and Bob Rawlings. \nWith years of experience in diverse musical genres and performances in almost all venues in the valley\, they are a force to be reckoned with. Powers and Fellman have previously played together in one of the valley’s first “Django” bands\, and Bob Rawlings is a multi-instrumentalist who has played with just about every musical group in the valley\, from jazz to bluegrass to symphony. \nLinda Powers is a skilled violinist\, guitarist\, and vocalist\, while Dan Fellman is a master of lead jazz guitar\, and Bob Rawlings brings his expertise in bass and vocals to the group. Together\, they create a dynamic sound that blends swing and swing jazz tunes\, from Django compositions and vintage jazz ballads to up-tempo songs like the swing music of “Dan Hicks and the Hot Licks.”
URL:https://pebblestonecellars.biz/event/pfr-swing/
LOCATION:Pebblestone Tasting Barn\, 1670 Pioneer Road\, Talent\, OR
CATEGORIES:Live Music
ATTACH;FMTTYPE=image/jpeg:https://pebblestonecellars.biz/wp-content/uploads/2024/01/PFR-Swing2024.jpg
END:VEVENT
BEGIN:VEVENT
DTSTART;TZID=America/Los_Angeles:20240126T170000
DTEND;TZID=America/Los_Angeles:20240126T190000
DTSTAMP:20260425T083129
CREATED:20240127T003733Z
LAST-MODIFIED:20240127T003733Z
UID:6300-1706288400-1706295600@pebblestonecellars.biz
SUMMARY:Rogue Rage Duo
DESCRIPTION:Rogue Rage Duo\nperforms\nDelta Blues\nPebblestone Cellars is pleased to announce the return of The Rogue Rage Duo\, featuring the immensely talented Harpo De Roma on harmonica and Dan Tiller on guitar and dobro. \nTheir unique blend of country-blues and Delta Blues is sure to captivate the audience and leave them wanting more. Originating from Medford\, Oregon\, the duo has gained a reputation for delivering dynamic performances steeped in traditional roots of blues music. \nWith their impressive collaborations with Buddy Miles (Santana/Hendrix) and Rolling Stones keyboardist Chuck Leavell\, it’s no wonder why they are considered the real deal. Join us for a night of blues music that will transport you to the birthplace of blues and leave you with memories to last a lifetime.
URL:https://pebblestonecellars.biz/event/rogue-rage-duo/
LOCATION:Pebblestone Tasting Barn\, 1670 Pioneer Road\, Talent\, OR
CATEGORIES:Live Music
ATTACH;FMTTYPE=image/jpeg:https://pebblestonecellars.biz/wp-content/uploads/2024/01/RogueRageDuo2024.jpg
END:VEVENT
END:VCALENDAR