BEGIN:VCALENDAR
VERSION:2.0
PRODID:-//Pebblestone Cellars - ECPv6.15.20//NONSGML v1.0//EN
CALSCALE:GREGORIAN
METHOD:PUBLISH
X-WR-CALNAME:Pebblestone Cellars
X-ORIGINAL-URL:https://pebblestonecellars.biz
X-WR-CALDESC:Events for Pebblestone Cellars
REFRESH-INTERVAL;VALUE=DURATION:PT1H
X-Robots-Tag:noindex
X-PUBLISHED-TTL:PT1H
BEGIN:VTIMEZONE
TZID:America/Los_Angeles
BEGIN:DAYLIGHT
TZOFFSETFROM:-0800
TZOFFSETTO:-0700
TZNAME:PDT
DTSTART:20220313T100000
END:DAYLIGHT
BEGIN:STANDARD
TZOFFSETFROM:-0700
TZOFFSETTO:-0800
TZNAME:PST
DTSTART:20221106T090000
END:STANDARD
BEGIN:DAYLIGHT
TZOFFSETFROM:-0800
TZOFFSETTO:-0700
TZNAME:PDT
DTSTART:20230312T100000
END:DAYLIGHT
BEGIN:STANDARD
TZOFFSETFROM:-0700
TZOFFSETTO:-0800
TZNAME:PST
DTSTART:20231105T090000
END:STANDARD
BEGIN:DAYLIGHT
TZOFFSETFROM:-0800
TZOFFSETTO:-0700
TZNAME:PDT
DTSTART:20240310T100000
END:DAYLIGHT
BEGIN:STANDARD
TZOFFSETFROM:-0700
TZOFFSETTO:-0800
TZNAME:PST
DTSTART:20241103T090000
END:STANDARD
END:VTIMEZONE
BEGIN:VEVENT
DTSTART;TZID=America/Los_Angeles:20231201T170000
DTEND;TZID=America/Los_Angeles:20231201T190000
DTSTAMP:20260425T100339
CREATED:20231129T231625Z
LAST-MODIFIED:20231130T192345Z
UID:6200-1701450000-1701457200@pebblestonecellars.biz
SUMMARY:Shybo Torres
DESCRIPTION:Born in Puerto Rico\, Shybo Torres moved to New York when he was 8 years old. He started his passionate journey into music when he learned to play drums at age 10 in a little rock band with some friends. He began playing guitar at 13 and the flute at age 16. After moving to South Carolina\, he began to write original songs and performed at coffee houses in the 70’s. Shybo has continued his musical career in the Rogue Valley for many years and has been well known for his baritone voice and broad range of songs.
URL:https://pebblestonecellars.biz/event/shybo/
LOCATION:Pebblestone Tasting Barn\, 1670 Pioneer Road\, Talent\, OR
CATEGORIES:Live Music
ATTACH;FMTTYPE=image/jpeg:https://pebblestonecellars.biz/wp-content/uploads/2023/11/shyboTorres1223.jpg
END:VEVENT
BEGIN:VEVENT
DTSTART;TZID=America/Los_Angeles:20231203T150000
DTEND;TZID=America/Los_Angeles:20231203T170000
DTSTAMP:20260425T100339
CREATED:20231129T231835Z
LAST-MODIFIED:20231130T190916Z
UID:6203-1701615600-1701622800@pebblestonecellars.biz
SUMMARY:Ann Kelly & Mark Ross
DESCRIPTION:We are pleased to announce that Ann Kelly and Mark Ross will be gracing the Pebblestone Tasting Room once again for another incredible performance! Ann\, a talented vocalist and songwriter originally from California\, has been captivating audiences with her unique blend of pop\, jazz\, and blues. Her dark\, sultry\, and emotional vocals have earned her critical acclaim\, and we are honored to have her perform again at Pebblestone. \nBut Ann is not alone in her musical talents—she will be accompanied by her husband\, Mark Ross\, a fantastic keyboardist and an Emmy award-winning composer. Together\, this dynamic duo is sure to impress and leave you wanting more. So mark your calendars and join us for an unforgettable afternoon of music and entertainment with Ann Kelly and Mark Ross at Pebblestone!
URL:https://pebblestonecellars.biz/event/ann-kelly-5/
LOCATION:Pebblestone Tasting Barn\, 1670 Pioneer Road\, Talent\, OR
CATEGORIES:Live Music
ATTACH;FMTTYPE=image/jpeg:https://pebblestonecellars.biz/wp-content/uploads/2023/11/AnnKelly1123.jpg
END:VEVENT
BEGIN:VEVENT
DTSTART;TZID=America/Los_Angeles:20231208T170000
DTEND;TZID=America/Los_Angeles:20231208T190000
DTSTAMP:20260425T100339
CREATED:20231129T232056Z
LAST-MODIFIED:20231208T230059Z
UID:6206-1702054800-1702062000@pebblestonecellars.biz
SUMMARY:J O N E S
DESCRIPTION:Are you tired of the same old music and looking for something fresh and exciting? Tonight\, Pebblestone is pleased to announce the return of the dynamic duo of Joshua Jones and Shelley Kristen Jones. This talented musical pair brings over 20 years of experience to the stage. With Joshua’s incredible guitar skills and Shelley’s powerful voice and songwriting abilities\, J O N E S is redefining the musical landscape. \nGet ready to rock\, dance\, and sing along to their unique spin on Classic Rock\, R B\, Pop\, Folk\, Country\, and Jazz Standards. Don’t miss out on the musical experience of a lifetime – come see J O N E S perform!
URL:https://pebblestonecellars.biz/event/j-o-n-e-s-2/
LOCATION:Pebblestone Tasting Barn\, 1670 Pioneer Road\, Talent\, OR
CATEGORIES:Live Music
ATTACH;FMTTYPE=image/jpeg:https://pebblestonecellars.biz/wp-content/uploads/2023/06/Jones-2023.jpg
END:VEVENT
BEGIN:VEVENT
DTSTART;TZID=America/Los_Angeles:20231210T150000
DTEND;TZID=America/Los_Angeles:20231210T170000
DTSTAMP:20260425T100339
CREATED:20231129T232223Z
LAST-MODIFIED:20231208T230240Z
UID:6208-1702220400-1702227600@pebblestonecellars.biz
SUMMARY:Pacifica
DESCRIPTION:On Sunday\, Pebblestone welcomes back Pacifica\, a dynamic musical duo consisting of Alissa Weaver\, a talented vocalist\, and Jeffrey Judkins aka Dr. J on guitar. \nThey bring a fresh and unique sound to the stage with their original songs and a range of well-curated covers. With Alissa’s soulful vocals and Dr. J’s exceptional guitar skills\, they create a musical experience that is both entertaining and memorable. From folk to country\, rock to RB\, Pacifica delivers a captivating performance that will leave you mesmerized. \nJoin us at Pebblestone Cellars for an evening of fantastic live music and great wine. Sit back\, relax and let the Pacifica transport you on a musical journey you won’t soon forget!
URL:https://pebblestonecellars.biz/event/pacifica-3/
LOCATION:Pebblestone Tasting Barn\, 1670 Pioneer Road\, Talent\, OR
CATEGORIES:Live Music
ATTACH;FMTTYPE=image/jpeg:https://pebblestonecellars.biz/wp-content/uploads/2023/01/pacifica-duo-sq.jpg
END:VEVENT
BEGIN:VEVENT
DTSTART;TZID=America/Los_Angeles:20231215T170000
DTEND;TZID=America/Los_Angeles:20231215T190000
DTSTAMP:20260425T100339
CREATED:20231129T232355Z
LAST-MODIFIED:20231129T232355Z
UID:6210-1702659600-1702666800@pebblestonecellars.biz
SUMMARY:Shine On
DESCRIPTION:
URL:https://pebblestonecellars.biz/event/shine-on-4/
LOCATION:Pebblestone Tasting Barn\, 1670 Pioneer Road\, Talent\, OR
CATEGORIES:Live Music
ATTACH;FMTTYPE=image/jpeg:https://pebblestonecellars.biz/wp-content/uploads/2023/01/shineontrio-2023.jpg
END:VEVENT
BEGIN:VEVENT
DTSTART;TZID=America/Los_Angeles:20231217T150000
DTEND;TZID=America/Los_Angeles:20231217T170000
DTSTAMP:20260425T100339
CREATED:20231129T232521Z
LAST-MODIFIED:20231129T232521Z
UID:6212-1702825200-1702832400@pebblestonecellars.biz
SUMMARY:Jeff Kloetzel ~ Christmas Show
DESCRIPTION:
URL:https://pebblestonecellars.biz/event/jeff-kloetzel-christmas-show/
LOCATION:Pebblestone Tasting Barn\, 1670 Pioneer Road\, Talent\, OR
CATEGORIES:Live Music
ATTACH;FMTTYPE=image/jpeg:https://pebblestonecellars.biz/wp-content/uploads/2022/07/Jeff-Kloetzel-2022.jpg
END:VEVENT
BEGIN:VEVENT
DTSTART;TZID=America/Los_Angeles:20231222T170000
DTEND;TZID=America/Los_Angeles:20231222T190000
DTSTAMP:20260425T100339
CREATED:20231222T213128Z
LAST-MODIFIED:20231222T213128Z
UID:6257-1703264400-1703271600@pebblestonecellars.biz
SUMMARY:TGIFriday Music  Featuring Jon Galfano
DESCRIPTION:Friday night\, December 22nd\, get ready to be transported back in time with the electrifying performances of Jon Galfano\, a talented guitarist\, singer\, and pianist. With years of experience\, Jon is a master of classic rock hits by legendary artists such as The Beatles\, Eric Clapton\, Creedence Clearwater\, Roy Orbison\, The Eagles\, and Johnny Rivers\, just to name a few. \nBut Jon’s talent doesn’t stop there. He also has a knack for infusing a touch of country\, blues\, and oldies favorites into his sets\, ensuring a diverse and unforgettable musical experience. With his exceptional skills as a composer and pianist\, Jon effortlessly blends contemporary and classic arrangements\, including a treasure trove of mesmerizing original compositions showcased on his YouTube channel. \nPrepare to be captivated by Jon Galfano’s soulful renditions and infectious energy as he takes you on a musical journey like no other. So whether you’re a die-hard fan of classic rock or simply appreciate exceptional musicianship\, Jon’s performances at Pebblestone are not to be missed. Mark your calendars and get ready to groove to the sounds of Jon Galfano\, a true maestro of his craft.
URL:https://pebblestonecellars.biz/event/tgifriday-music-featuring-jon-galfano/
LOCATION:Pebblestone Tasting Barn\, 1670 Pioneer Road\, Talent\, OR
CATEGORIES:Live Music
ATTACH;FMTTYPE=image/jpeg:https://pebblestonecellars.biz/wp-content/uploads/2023/12/johnGalfano12-2023.jpg
END:VEVENT
BEGIN:VEVENT
DTSTART;TZID=America/Los_Angeles:20231224T150000
DTEND;TZID=America/Los_Angeles:20231224T170000
DTSTAMP:20260425T100339
CREATED:20231129T232903Z
LAST-MODIFIED:20231129T232903Z
UID:6216-1703430000-1703437200@pebblestonecellars.biz
SUMMARY:OPEN
DESCRIPTION:MUSIC TBA
URL:https://pebblestonecellars.biz/event/open-2/
LOCATION:Pebblestone Tasting Barn\, 1670 Pioneer Road\, Talent\, OR
CATEGORIES:Live Music
END:VEVENT
END:VCALENDAR