BEGIN:VCALENDAR
VERSION:2.0
PRODID:-//Pebblestone Cellars - ECPv6.15.20//NONSGML v1.0//EN
CALSCALE:GREGORIAN
METHOD:PUBLISH
X-WR-CALNAME:Pebblestone Cellars
X-ORIGINAL-URL:https://pebblestonecellars.biz
X-WR-CALDESC:Events for Pebblestone Cellars
REFRESH-INTERVAL;VALUE=DURATION:PT1H
X-Robots-Tag:noindex
X-PUBLISHED-TTL:PT1H
BEGIN:VTIMEZONE
TZID:America/Los_Angeles
BEGIN:DAYLIGHT
TZOFFSETFROM:-0800
TZOFFSETTO:-0700
TZNAME:PDT
DTSTART:20220313T100000
END:DAYLIGHT
BEGIN:STANDARD
TZOFFSETFROM:-0700
TZOFFSETTO:-0800
TZNAME:PST
DTSTART:20221106T090000
END:STANDARD
BEGIN:DAYLIGHT
TZOFFSETFROM:-0800
TZOFFSETTO:-0700
TZNAME:PDT
DTSTART:20230312T100000
END:DAYLIGHT
BEGIN:STANDARD
TZOFFSETFROM:-0700
TZOFFSETTO:-0800
TZNAME:PST
DTSTART:20231105T090000
END:STANDARD
BEGIN:DAYLIGHT
TZOFFSETFROM:-0800
TZOFFSETTO:-0700
TZNAME:PDT
DTSTART:20240310T100000
END:DAYLIGHT
BEGIN:STANDARD
TZOFFSETFROM:-0700
TZOFFSETTO:-0800
TZNAME:PST
DTSTART:20241103T090000
END:STANDARD
END:VTIMEZONE
BEGIN:VEVENT
DTSTART;TZID=America/Los_Angeles:20231103T170000
DTEND;TZID=America/Los_Angeles:20231103T190000
DTSTAMP:20260425T114014
CREATED:20230919T224946Z
LAST-MODIFIED:20230919T224946Z
UID:6056-1699030800-1699038000@pebblestonecellars.biz
SUMMARY:Sterling Vintage Jazz
DESCRIPTION:Sterling Vintage Jazz returns to Pebblestone to celebrate the timeless classics in a way that is both authentic and fresh. Their extensive repertoire includes captivating Jazz and swing hits from the 30s\, 40s\, and 50s\, with a soulful RB twist that makes every performance unforgettable. \nMargaret Reno’s vocals and percussion bring a unique touch to the band’s sound\, while Tim Church on lead guitar\, Ted Whiting’s bass\, and Linda Powers on fiddle and guitar provide the perfect backbone for their captivating performances. Whether you’re a Jazz aficionado or a casual listener\, Sterling Vintage Jazz is a band that guarantees an evening to remember.
URL:https://pebblestonecellars.biz/event/sterling-vintage-jazz-4-2/
LOCATION:Pebblestone Tasting Barn\, 1670 Pioneer Road\, Talent\, OR
CATEGORIES:Live Music
ATTACH;FMTTYPE=image/jpeg:https://pebblestonecellars.biz/wp-content/uploads/2023/05/SterlingVintageJazz2023.jpg
END:VEVENT
BEGIN:VEVENT
DTSTART;TZID=America/Los_Angeles:20231105T150000
DTEND;TZID=America/Los_Angeles:20231105T170000
DTSTAMP:20260425T114014
CREATED:20231101T163616Z
LAST-MODIFIED:20231104T221458Z
UID:6126-1699196400-1699203600@pebblestonecellars.biz
SUMMARY:Nick Garrett-Powell
DESCRIPTION:Nick Garrett-Powell\, a multi-talented musician hailing from Southern Oregon is returning to Pebblestone for another amazing performance. Nick’s impressive skills as a multi-instrumentalist\, singer-songwriter\, and recording engineer come alive during his live looping performances. With each layer recorded live before the audience\, Nick blends rhythm\, bass\, leads\, percussion\, and more using only his guitar. \nBut Nick’s talents don’t stop there. As a classically trained musician\, he has mastered a range of musical styles\, including pop\, blues\, gypsy jazz\, rock\, reggae\, jazz standards\, acoustic fingerstyle\, tapping\, and slapping. And with his solo show\, audiences can enjoy his tenor vocals\, mandolin\, melodica\, jaw harp\, and of course\, his incredible acoustic guitar skills. \nDon’t miss your chance to experience the unique talents of Nick Garrett-Powell.
URL:https://pebblestonecellars.biz/event/nick-garrett-powell-5/
LOCATION:Pebblestone Tasting Barn\, 1670 Pioneer Road\, Talent\, OR
CATEGORIES:Live Music
ATTACH;FMTTYPE=image/jpeg:https://pebblestonecellars.biz/wp-content/uploads/2022/07/Nick-Garrett-Powell-2022-e1663175962753.jpg
END:VEVENT
BEGIN:VEVENT
DTSTART;TZID=America/Los_Angeles:20231110T170000
DTEND;TZID=America/Los_Angeles:20231110T190000
DTSTAMP:20260425T114014
CREATED:20231101T164345Z
LAST-MODIFIED:20231101T164345Z
UID:6129-1699635600-1699642800@pebblestonecellars.biz
SUMMARY:Bill Scholer
DESCRIPTION:Brace yourself for the electrifying and soul-stirring blues of the Rogue Valley’s very own musical genius\, Bill Scholer. With a reputation that precedes him\, Scholer\, a revered member of the prestigious Sacramento Blues Hall Of Fame\, is captivating our hearts. \nHaving recently relocated to Talent\, Oregon\, after an incredible stint in Japan where he garnered accolades and left audiences in awe\, Scholer brings a fresh and innovative approach to the blues. His unique sound effortlessly blends the soulful essence of blues with elements of jazz\, rock\, avant-garde\, and various other musical traditions\, creating an electrifying experience that transcends genres. \nDon’t miss this opportunity to witness the magic of Bill Scholer live in action. Join us as we welcome this musical maestro to Pebblestone\, and let his music sweep you off your feet. Get ready for a night of unforgettable melodies\, soulful tunes\, and a whole lot of bluesy goodness. It’s time to let loose and let the music take control as Bill Scholer brings the house down with his exceptional talent.
URL:https://pebblestonecellars.biz/event/bill-scholer-2/
LOCATION:Pebblestone Tasting Barn\, 1670 Pioneer Road\, Talent\, OR
CATEGORIES:Live Music
ATTACH;FMTTYPE=image/jpeg:https://pebblestonecellars.biz/wp-content/uploads/2023/11/Bill-Scholer-solo-2023-date-removed.jpg
END:VEVENT
BEGIN:VEVENT
DTSTART;TZID=America/Los_Angeles:20231112T150000
DTEND;TZID=America/Los_Angeles:20231112T170000
DTSTAMP:20260425T114014
CREATED:20231101T164910Z
LAST-MODIFIED:20231110T174902Z
UID:6133-1699801200-1699808400@pebblestonecellars.biz
SUMMARY:Stardust Quartet
DESCRIPTION:Are you ready to be transported to the golden era of music? Then look no further than the Stardust Quartet’s upcoming performance at Pebblestone! With special guest Margaret Reno on vocals and percussion\, Tim Church on guitar\, Todd Ragland on bass\, and Paul Schmeling on sax\, this talented group of musicians will have you tapping your toes and swaying to the beat. Their vast experience and expertise in various styles guarantee a lively show with something for everyone\, from the 40’s to the 90’s plus a few contemporary songs as well. Don’t miss out on this unforgettable performance!
URL:https://pebblestonecellars.biz/event/stardust-trio-3/
LOCATION:Pebblestone Tasting Barn\, 1670 Pioneer Road\, Talent\, OR
CATEGORIES:Live Music
ATTACH;FMTTYPE=image/jpeg:https://pebblestonecellars.biz/wp-content/uploads/2023/07/StardustTrio2023.jpg
END:VEVENT
BEGIN:VEVENT
DTSTART;TZID=America/Los_Angeles:20231117T170000
DTEND;TZID=America/Los_Angeles:20231117T190000
DTSTAMP:20260425T114014
CREATED:20231101T165625Z
LAST-MODIFIED:20231101T165625Z
UID:6136-1700240400-1700247600@pebblestonecellars.biz
SUMMARY:Gary Dunsmoor
DESCRIPTION:Gary Dunsmoor\, a talented musician who has been passionate about music since his early days in middle school\, will be performing solo at Pebblestone tonight. \nWith a diverse background in various genres such as blues\, rock\, funk\, RB\, and acoustic singer/songwriter\, Gary brings an eclectic and diverse catalogue of songs and lyrics to share. From popular hits to obscure gems\, his music ranges from gentle and heartfelt melodies to get-out-of-your-seat dance tunes. \nFor Gary\, it’s all about the power of the song and the joy of sharing music with others. Get ready to be captivated by his unique musical style and infectious passion for music.
URL:https://pebblestonecellars.biz/event/gary-dunsmoor-2/
LOCATION:Pebblestone Tasting Barn\, 1670 Pioneer Road\, Talent\, OR
CATEGORIES:Live Music
ATTACH;FMTTYPE=image/jpeg:https://pebblestonecellars.biz/wp-content/uploads/2023/06/GaryDunsmoor2023.jpg
END:VEVENT
BEGIN:VEVENT
DTSTART;TZID=America/Los_Angeles:20231118T130000
DTEND;TZID=America/Los_Angeles:20231118T150000
DTSTAMP:20260425T114014
CREATED:20231117T184744Z
LAST-MODIFIED:20231117T185500Z
UID:6180-1700312400-1700319600@pebblestonecellars.biz
SUMMARY:Ukulele Jam
DESCRIPTION:The Ukulele Jam is be happening again this Saturday inside the tasting room hall due to cool weather conditions. The Ukulele jam is usually always well attended by 20 or more ukulele players strumming and singing through a number of popular songs. They are great to watch but you can also sing along while enjoying a glass or bottle of wine. Local ukulele instructor Tish McFadden will again lead the jam.
URL:https://pebblestonecellars.biz/event/ukulele-jam-2/
LOCATION:Pebblestone Tasting Barn\, 1670 Pioneer Road\, Talent\, OR
CATEGORIES:Live Music
ATTACH;FMTTYPE=image/jpeg:https://pebblestonecellars.biz/wp-content/uploads/2023/11/ukulele-jam.jpg
END:VEVENT
BEGIN:VEVENT
DTSTART;TZID=America/Los_Angeles:20231119T150000
DTEND;TZID=America/Los_Angeles:20231119T170000
DTSTAMP:20260425T114014
CREATED:20231101T170029Z
LAST-MODIFIED:20231117T184908Z
UID:6139-1700406000-1700413200@pebblestonecellars.biz
SUMMARY:Jeff Kloetzel
DESCRIPTION:Get ready for an afternoon of musical magic from Jeff Kloetzel as he returns to the stage at Pebblestone this Sunday. With a diverse catalog that spans across various genres\, Jeff’s performance promises to be a treat for music lovers of all tastes. His rhythmic guitar work and his soulful vocals plus Jeff’s original songs are sure to leave you mesmerized. \nWhether you’re in the mood for driving modern tunes or subtle timeless ballads\, Jeff’s set list has you covered. Come and join us for an unforgettable performance of musical entertainment with Jeff Kloetzel at Pebblestone.
URL:https://pebblestonecellars.biz/event/jeff-kloetzel-6/
LOCATION:Pebblestone Tasting Barn\, 1670 Pioneer Road\, Talent\, OR
CATEGORIES:Live Music
ATTACH;FMTTYPE=image/jpeg:https://pebblestonecellars.biz/wp-content/uploads/2022/07/Jeff-Kloetzel-2022.jpg
END:VEVENT
BEGIN:VEVENT
DTSTART;TZID=America/Los_Angeles:20231124T170000
DTEND;TZID=America/Los_Angeles:20231124T190000
DTSTAMP:20260425T114014
CREATED:20231122T174922Z
LAST-MODIFIED:20231122T175009Z
UID:6190-1700845200-1700852400@pebblestonecellars.biz
SUMMARY:Nick Garrett-Powell
DESCRIPTION:Nick Garrett-Powell is returning to Pebblestone this Friday for an encore performance. Nick is a skilled multi-instrumentalist\, singer-songwriter\, and recording artist who captivates his audience with his looping technique. His solo shows are a musical adventure\, featuring live layering of rhythm\, bass\, leads\, percussion\, and tenor vocals on the guitar. Not just limited to the guitar\, Nick also plays mandolin\, melodica\, and jaw harp\, showcasing his versatility as a musician. \nWith a wide range of genres in his repertoire\, from pop and blues to gypsy jazz and rock\, he offers a unique musical experience that appeals to all. Don’t miss the chance to witness his “stunt guitar” skills and acoustic fingerstyle\, tapping and slapping techniques in action. \nJoin Nick on his musical journey and be mesmerized by his exceptional talent.style and infectious passion for music.
URL:https://pebblestonecellars.biz/event/nick-garrett-powell-6/
LOCATION:Pebblestone Tasting Barn\, 1670 Pioneer Road\, Talent\, OR
CATEGORIES:Live Music
ATTACH;FMTTYPE=image/jpeg:https://pebblestonecellars.biz/wp-content/uploads/2023/11/nick-garrett-powell-2023.jpg
END:VEVENT
BEGIN:VEVENT
DTSTART;TZID=America/Los_Angeles:20231126T150000
DTEND;TZID=America/Los_Angeles:20231126T170000
DTSTAMP:20260425T114014
CREATED:20231101T170511Z
LAST-MODIFIED:20231122T175130Z
UID:6142-1701010800-1701018000@pebblestonecellars.biz
SUMMARY:Sonido Allegre
DESCRIPTION:Join us for an afternoon of eclectic music as Sonido Allegre returns to Pebblestone. Charles Guy and Linda Powers bring together their diverse backgrounds to create a unique sound. Charles\, hailing from North Carolina\, brings influences of bluegrass\, soul\, and Carolina beach music\, while Linda’s experience playing violin in Gypsy swing bands adds a touch of Gypsy flair. They will be performing original material with Latin\, Spanish\, Flamenco\, and Gypsy influences\, as well as other popular folk rock music. \nDon’t miss out on this fun-filled musical experience!
URL:https://pebblestonecellars.biz/event/sonido-allegre-3/
LOCATION:Pebblestone Tasting Barn\, 1670 Pioneer Road\, Talent\, OR
CATEGORIES:Live Music
ATTACH;FMTTYPE=image/jpeg:https://pebblestonecellars.biz/wp-content/uploads/2022/07/sonido-allegre-2021.jpg
END:VEVENT
END:VCALENDAR