BEGIN:VCALENDAR
VERSION:2.0
PRODID:-//Pebblestone Cellars - ECPv6.15.20//NONSGML v1.0//EN
CALSCALE:GREGORIAN
METHOD:PUBLISH
X-ORIGINAL-URL:https://pebblestonecellars.biz
X-WR-CALDESC:Events for Pebblestone Cellars
REFRESH-INTERVAL;VALUE=DURATION:PT1H
X-Robots-Tag:noindex
X-PUBLISHED-TTL:PT1H
BEGIN:VTIMEZONE
TZID:America/Los_Angeles
BEGIN:DAYLIGHT
TZOFFSETFROM:-0800
TZOFFSETTO:-0700
TZNAME:PDT
DTSTART:20220313T100000
END:DAYLIGHT
BEGIN:STANDARD
TZOFFSETFROM:-0700
TZOFFSETTO:-0800
TZNAME:PST
DTSTART:20221106T090000
END:STANDARD
BEGIN:DAYLIGHT
TZOFFSETFROM:-0800
TZOFFSETTO:-0700
TZNAME:PDT
DTSTART:20230312T100000
END:DAYLIGHT
BEGIN:STANDARD
TZOFFSETFROM:-0700
TZOFFSETTO:-0800
TZNAME:PST
DTSTART:20231105T090000
END:STANDARD
BEGIN:DAYLIGHT
TZOFFSETFROM:-0800
TZOFFSETTO:-0700
TZNAME:PDT
DTSTART:20240310T100000
END:DAYLIGHT
BEGIN:STANDARD
TZOFFSETFROM:-0700
TZOFFSETTO:-0800
TZNAME:PST
DTSTART:20241103T090000
END:STANDARD
END:VTIMEZONE
BEGIN:VEVENT
DTSTART;TZID=America/Los_Angeles:20231001T150000
DTEND;TZID=America/Los_Angeles:20231001T170000
DTSTAMP:20260425T131157
CREATED:20230919T210643Z
LAST-MODIFIED:20230929T210908Z
UID:6031-1696172400-1696179600@pebblestonecellars.biz
SUMMARY:The Pozitronics
DESCRIPTION:We are pleased to announce that Pebblestone will be hosting the talented Pozitronics for a lively R&B and blues performance under the pergola this Sunday. \nThe Pozitronics are well-known for their brand of R&B\, blues\, and classics spanning the decades\, and have been entertaining crowds all summer long. \nThe weather looks great for an outside performance on Sunday with no chance for rain and temperatures in the 70s. This is a show you won’t want to miss! Grab your dancing shoes and come join us for an unforgettable afternoon of wine\, music and fun. We can’t wait to see you there! For more information\, please visit the Pozitronic’s Facebook page at facebook.com/Pozitronics.
URL:https://pebblestonecellars.biz/event/the-pozitronics/
LOCATION:Pebblestone Tasting Barn\, 1670 Pioneer Road\, Talent\, OR
CATEGORIES:Live Music
ATTACH;FMTTYPE=image/jpeg:https://pebblestonecellars.biz/wp-content/uploads/2023/09/pozitronics-1023.jpg
END:VEVENT
BEGIN:VEVENT
DTSTART;TZID=America/Los_Angeles:20231006T170000
DTEND;TZID=America/Los_Angeles:20231006T190000
DTSTAMP:20260425T131157
CREATED:20230919T211118Z
LAST-MODIFIED:20231006T201729Z
UID:6033-1696611600-1696618800@pebblestonecellars.biz
SUMMARY:Alan Crutchner
DESCRIPTION:Do you enjoy the sweet melodies of Americana\, Folk\, Country\, Bluegrass\, and even a bit of rock and roll? Then you’re in for a treat! \nAllen Crutcher\, the talented solo songwriter/musician\, has been performing in the Rogue Valley for about 20 years and has wowed audiences with his acoustic-based music. He’s got the perfect blend of traditional styles and ballads that will surely leave you wanting more. So make your reservations and get ready to be entertained by Allen’s amazing performance!
URL:https://pebblestonecellars.biz/event/alan-crutchner/
LOCATION:Pebblestone Tasting Barn\, 1670 Pioneer Road\, Talent\, OR
CATEGORIES:Live Music
ATTACH;FMTTYPE=image/jpeg:https://pebblestonecellars.biz/wp-content/uploads/2023/09/Alan-Crutchner2023.jpg
END:VEVENT
BEGIN:VEVENT
DTSTART;TZID=America/Los_Angeles:20231008T150000
DTEND;TZID=America/Los_Angeles:20231008T170000
DTSTAMP:20260425T131157
CREATED:20230919T211513Z
LAST-MODIFIED:20231006T181842Z
UID:6037-1696777200-1696784400@pebblestonecellars.biz
SUMMARY:Skye & Lee
DESCRIPTION:We are pleased to welcome the talented duo of Michaela Skye and Albert Lee back to Pebblestone. They are a talented musical duo who cover a wide range of musical selections\, including jazz standards\, popular music\, and Bossa Nova. \nMichaela is a classically trained musician with a Bachelor’s degree in Vocal Performance from Southern Oregon University and a Master’s of Music from The University of Memphis. She has worked and performed with renowned artists such as Mignon Dunn\, Willene Gunn\, and Kristin Chenoweth and has performed in several lead roles in operas at the University of Memphis and Opera Memphis. \nAlbert Lee is a lifelong musician who started playing piano at age six and learned classical guitar at fourteen. He is a veteran of numerous bands and is driven by the impetus to create as well as perform. \nWith their talent and experience\, Skye & Lee are sure to provide another unforgettable live musical experience. Don’t miss seeing and hearing their live performance!
URL:https://pebblestonecellars.biz/event/skye-lee/
LOCATION:Pebblestone Tasting Barn\, 1670 Pioneer Road\, Talent\, OR
CATEGORIES:Live Music
ATTACH;FMTTYPE=image/jpeg:https://pebblestonecellars.biz/wp-content/uploads/2023/05/skyeandlee2023.jpg
END:VEVENT
BEGIN:VEVENT
DTSTART;TZID=America/Los_Angeles:20231013T170000
DTEND;TZID=America/Los_Angeles:20231013T190000
DTSTAMP:20260425T131157
CREATED:20230919T211824Z
LAST-MODIFIED:20231013T225840Z
UID:6039-1697216400-1697223600@pebblestonecellars.biz
SUMMARY:J O N E S
DESCRIPTION:Pebblestone is pleased to welcome back the talented\, fresh and exciting duo — J O N E S! \nJ O N E S! Composed of Joshua Jones and Shelley Kristen Jones\, this talented musical pair brings over 20 years of experience to the stage. With Joshua’s incredible guitar skills and Shelley’s powerful voice and songwriting abilities\, J O N E S is redefining the musical landscape. \nGet ready to rock\, dance\, and sing along to their unique spin on Classic Rock\, R B\, Pop\, Folk\, Country\, and Jazz Standards. Don’t miss out on the musical experience of a lifetime – come see J O N E S perform.
URL:https://pebblestonecellars.biz/event/j-o-n-e-s/
LOCATION:Pebblestone Tasting Barn\, 1670 Pioneer Road\, Talent\, OR
CATEGORIES:Live Music
ATTACH;FMTTYPE=image/jpeg:https://pebblestonecellars.biz/wp-content/uploads/2023/06/Jones-2023.jpg
END:VEVENT
BEGIN:VEVENT
DTSTART;TZID=America/Los_Angeles:20231014T150000
DTEND;TZID=America/Los_Angeles:20231014T170000
DTSTAMP:20260425T131157
CREATED:20231013T230441Z
LAST-MODIFIED:20231013T230621Z
UID:6096-1697295600-1697302800@pebblestonecellars.biz
SUMMARY:Special Event — Lorenzo Vignando
DESCRIPTION:Lorenzo Vignando\, from Lucca\, Italy\, currently on international tour\, is returning to the Rogue Valley on October 14\, 3 to 5 pm. For this event\, Lorenzo\, also known as UKULOLLO\, will be conducting a ukulele workshop followed by a concert\, including some audience participation “strum-alongs!” This event is free\, but donations are appreciated. You may bring your Ukulele to participate\, or just join us to enjoy this amazing presentation.\nPlease reserve a spot as space is limited: email carolynshaw53@gmail.com
URL:https://pebblestonecellars.biz/event/special-event-lorenzo-vignando/
LOCATION:Pebblestone Tasting Barn\, 1670 Pioneer Road\, Talent\, OR
CATEGORIES:Live Music
ATTACH;FMTTYPE=image/jpeg:https://pebblestonecellars.biz/wp-content/uploads/2023/10/Lorenzo-Vignando-2023.jpg
END:VEVENT
BEGIN:VEVENT
DTSTART;TZID=America/Los_Angeles:20231015T150000
DTEND;TZID=America/Los_Angeles:20231015T170000
DTSTAMP:20260425T131157
CREATED:20230919T212050Z
LAST-MODIFIED:20231013T230815Z
UID:6041-1697382000-1697389200@pebblestonecellars.biz
SUMMARY:Gary Dunsmoor
DESCRIPTION:Gary Dunsmoor\, a talented musician who has been passionate about music since his early days in middle school will be performing solo at Pebblestone tonight. \nWith a diverse background in various genres such as blues\, rock\, funk\, RB\, and acoustic singer/songwriter\, Gary brings an eclectic and diverse catalogue of songs and lyrics to share. From popular hits to obscure gems\, his music ranges from gentle and heartfelt melodies to get-out-of-your-seat dance tunes. \nFor Gary\, it’s all about the power of the song and the joy of sharing music with others. Get ready to be captivated by his unique musical style and infectious passion for music.
URL:https://pebblestonecellars.biz/event/joy-seekers-gary-dunsmoor-2/
LOCATION:Pebblestone Tasting Barn\, 1670 Pioneer Road\, Talent\, OR
CATEGORIES:Live Music
ATTACH;FMTTYPE=image/jpeg:https://pebblestonecellars.biz/wp-content/uploads/2023/06/GaryDunsmoor2023.jpg
END:VEVENT
BEGIN:VEVENT
DTSTART;TZID=America/Los_Angeles:20231016T170000
DTEND;TZID=America/Los_Angeles:20231016T183000
DTSTAMP:20260425T131157
CREATED:20231013T231129Z
LAST-MODIFIED:20231013T231206Z
UID:6101-1697475600-1697481000@pebblestonecellars.biz
SUMMARY:Special Event — Delilah Beaucoup
DESCRIPTION:
URL:https://pebblestonecellars.biz/event/special-event-delilah-beaucoup/
LOCATION:Pebblestone Tasting Barn\, 1670 Pioneer Road\, Talent\, OR
CATEGORIES:Live Music
ATTACH;FMTTYPE=image/jpeg:https://pebblestonecellars.biz/wp-content/uploads/2023/10/DelilahBeaucoup.jpg
END:VEVENT
BEGIN:VEVENT
DTSTART;TZID=America/Los_Angeles:20231020T170000
DTEND;TZID=America/Los_Angeles:20231020T190000
DTSTAMP:20260425T131157
CREATED:20230919T212603Z
LAST-MODIFIED:20230919T212654Z
UID:6044-1697821200-1697828400@pebblestonecellars.biz
SUMMARY:Jared Gutridge
DESCRIPTION:Pebblestone Cellars welcomes back Jared Gutridge\, the very talented solo acoustic singer-songwriter based right here in Southern Oregon. \nFrom wineries to weddings\, Jared brings a mellow vibe with a tight finger picking style and smooth vocals. Fun covers and original songs you won’t want to miss. Come out and listen to a talented performer inside the comfort of the tasting hall. We are excited to have him back and look forward to listening to his new content.
URL:https://pebblestonecellars.biz/event/jared-gutridge-2/
LOCATION:Pebblestone Tasting Barn\, 1670 Pioneer Road\, Talent\, OR
CATEGORIES:Live Music
ATTACH;FMTTYPE=image/jpeg:https://pebblestonecellars.biz/wp-content/uploads/2022/09/JaredGutridge2022.jpg
END:VEVENT
BEGIN:VEVENT
DTSTART;TZID=America/Los_Angeles:20231022T150000
DTEND;TZID=America/Los_Angeles:20231022T170000
DTSTAMP:20260425T131157
CREATED:20230919T213002Z
LAST-MODIFIED:20230919T213002Z
UID:6046-1697986800-1697994000@pebblestonecellars.biz
SUMMARY:Holly and the Healers
DESCRIPTION:We are thrilled to announce that Holly and The Healers\, formerly known as The Holly Gleason Trio\, will be returning to Pebblestone this Sunday. This folk rock/Americana band is made up of Holly Gleason on vocals and acoustic guitar\, Dr J Jeffrey Judkins on mandolin and electric guitar and Jim Sitter on percussion. \nThey will be performing a dynamic repertoire of Holly’s original tunes\, eclectic covers\, plus a dash of gypsy jazz blues. Holly and The Healers are known for their unpredictable and foot-stomping performances\, mixed with heart-melting ballads. Don’t miss this exciting opportunity to see Holly and The Healers perform live at Pebblestone.
URL:https://pebblestonecellars.biz/event/holly-and-the-healers-2-2/
LOCATION:Pebblestone Tasting Barn\, 1670 Pioneer Road\, Talent\, OR
CATEGORIES:Live Music
ATTACH;FMTTYPE=image/jpeg:https://pebblestonecellars.biz/wp-content/uploads/2023/05/hollyandtheHealers2023.jpg
END:VEVENT
BEGIN:VEVENT
DTSTART;TZID=America/Los_Angeles:20231027T170000
DTEND;TZID=America/Los_Angeles:20231027T190000
DTSTAMP:20260425T131157
CREATED:20230919T213325Z
LAST-MODIFIED:20231026T194633Z
UID:6049-1698426000-1698433200@pebblestonecellars.biz
SUMMARY:Ambrose & Galfano
DESCRIPTION:We are excited to announce that the dynamic musical duo of Ambrose and Galfano will be returning to Pebblestone Cellars for a live performance. Jen and Jon are renowned for their memorable performances\, where they play a variety of instruments including guitars\, mandolins. Jen’s masterful flute and Jon’s excellent keyboard work add to the musical magic. \nDuring the show\, you will have the opportunity to hear several new original selections from Jen’s latest album ‘Plenty Of Nothin’ To Do\,’ followed by the duo’s renditions of iconic rock hits from The Beatles\, Elton John\, The Moody Blues\, Rod Stewart\, Led Zeppelin\, Crosby\, Stills and Nash\, and more. This very popular music group will provide a fabulous show\, while you enjoy the tasty wines offered at Pebblestone Cellars. 😉
URL:https://pebblestonecellars.biz/event/ambrose-galfano/
LOCATION:Pebblestone Tasting Barn\, 1670 Pioneer Road\, Talent\, OR
CATEGORIES:Live Music
ATTACH;FMTTYPE=image/jpeg:https://pebblestonecellars.biz/wp-content/uploads/2023/09/Ambrose-Galfano.jpg
END:VEVENT
BEGIN:VEVENT
DTSTART;TZID=America/Los_Angeles:20231028T130000
DTEND;TZID=America/Los_Angeles:20231028T150000
DTSTAMP:20260425T131157
CREATED:20230919T214759Z
LAST-MODIFIED:20230919T215658Z
UID:6026-1698498000-1698505200@pebblestonecellars.biz
SUMMARY:Ukulele Jam
DESCRIPTION:The Ukulele Jam will be happening Saturday on the outside deck. The Ukulele jam is usually always well attended by 20 or more ukulele players strumming and singing through a number of popular songs. They are great to watch but you can also sing along while enjoying a glass or bottle of wine. Local ukulele instructor Tish McFadden will again lead the jam. \nSongbooks are available. All acoustic instruments and voices are welcome as well as just those that just want to enjoy the JAM. Call 541-840-8075 for more information.
URL:https://pebblestonecellars.biz/event/ukelele-jam-5/
LOCATION:Pebblestone Tasting Barn\, 1670 Pioneer Road\, Talent\, OR
CATEGORIES:Live Music
END:VEVENT
BEGIN:VEVENT
DTSTART;TZID=America/Los_Angeles:20231029T150000
DTEND;TZID=America/Los_Angeles:20231029T170000
DTSTAMP:20260425T131157
CREATED:20230919T213621Z
LAST-MODIFIED:20231026T194001Z
UID:6051-1698591600-1698598800@pebblestonecellars.biz
SUMMARY:John Johns
DESCRIPTION:Get ready to experience the hauntingly beautiful and soulful music of John Johns in his debut at Pebblestone! With over 15 years of experience as a composer\, singer\, and instrumentalist\, he has taken the folk music scene by storm. Based in Oregon\, John is a classically trained singer-songwriter and solo guitarist who has performed extensively on the West Coast. \nWhat sets John apart is his unique blend of soulful vocals with virtuoso guitar riffs and primal\, foot-stomping rhythms. His original music has been described as the “darkside of American Folk music”\, and once you hear him play\, you’ll know why. Whether he’s performing as a solo artist\, one-man-band\, bassist\, drummer or lead guitarist\, John’s music is sure to captivate and enthrall you. \nSo\, come and join us for an unforgettable musical journey with John Johns – the master of darkside folk music!
URL:https://pebblestonecellars.biz/event/johnjohns/
LOCATION:Pebblestone Tasting Barn\, 1670 Pioneer Road\, Talent\, OR
CATEGORIES:Live Music
ATTACH;FMTTYPE=image/jpeg:https://pebblestonecellars.biz/wp-content/uploads/2023/09/johnJohns.jpg
END:VEVENT
END:VCALENDAR