BEGIN:VCALENDAR
VERSION:2.0
PRODID:-//Pebblestone Cellars - ECPv6.15.20//NONSGML v1.0//EN
CALSCALE:GREGORIAN
METHOD:PUBLISH
X-ORIGINAL-URL:https://pebblestonecellars.biz
X-WR-CALDESC:Events for Pebblestone Cellars
REFRESH-INTERVAL;VALUE=DURATION:PT1H
X-Robots-Tag:noindex
X-PUBLISHED-TTL:PT1H
BEGIN:VTIMEZONE
TZID:America/Los_Angeles
BEGIN:DAYLIGHT
TZOFFSETFROM:-0800
TZOFFSETTO:-0700
TZNAME:PDT
DTSTART:20220313T100000
END:DAYLIGHT
BEGIN:STANDARD
TZOFFSETFROM:-0700
TZOFFSETTO:-0800
TZNAME:PST
DTSTART:20221106T090000
END:STANDARD
BEGIN:DAYLIGHT
TZOFFSETFROM:-0800
TZOFFSETTO:-0700
TZNAME:PDT
DTSTART:20230312T100000
END:DAYLIGHT
BEGIN:STANDARD
TZOFFSETFROM:-0700
TZOFFSETTO:-0800
TZNAME:PST
DTSTART:20231105T090000
END:STANDARD
BEGIN:DAYLIGHT
TZOFFSETFROM:-0800
TZOFFSETTO:-0700
TZNAME:PDT
DTSTART:20240310T100000
END:DAYLIGHT
BEGIN:STANDARD
TZOFFSETFROM:-0700
TZOFFSETTO:-0800
TZNAME:PST
DTSTART:20241103T090000
END:STANDARD
END:VTIMEZONE
BEGIN:VEVENT
DTSTART;TZID=America/Los_Angeles:20230901T170000
DTEND;TZID=America/Los_Angeles:20230901T190000
DTSTAMP:20260425T144404
CREATED:20230829T205243Z
LAST-MODIFIED:20230901T170037Z
UID:5984-1693587600-1693594800@pebblestonecellars.biz
SUMMARY:Pacifica
DESCRIPTION:Pebblestone welcomes back the Pacifica Duo\, a dynamic musical pairing of Alissa Weaver\, a talented vocalist\, and Jeffrey Judkins aka Dr. J on guitar. They bring a fresh and unique sound to the stage with their original songs and a range of well-curated covers. \nFrom folk to country\, rock to RB\, Pacifica Duo delivers a captivating performance that will leave you mesmerized. With Alissa’s soulful vocals and Dr. J’s exceptional guitar skills\, they create a musical experience that is both entertaining and memorable. \nJoin us at Pebblestone Cellars for an evening of fantastic live music and great wine.
URL:https://pebblestonecellars.biz/event/pacifica-2/
LOCATION:Pebblestone Tasting Barn\, 1670 Pioneer Road\, Talent\, OR
CATEGORIES:Live Music
ATTACH;FMTTYPE=image/jpeg:https://pebblestonecellars.biz/wp-content/uploads/2023/01/pacifica-duo-sq.jpg
END:VEVENT
BEGIN:VEVENT
DTSTART;TZID=America/Los_Angeles:20230903T150000
DTEND;TZID=America/Los_Angeles:20230903T170000
DTSTAMP:20260425T144404
CREATED:20230901T170401Z
LAST-MODIFIED:20230901T170401Z
UID:6007-1693753200-1693760400@pebblestonecellars.biz
SUMMARY:Nick Garrett-Powell
DESCRIPTION:Are you looking for a truly exceptional musical experience? Nick Garrett-Powell\, a multi-talented musician hailing from Southern Oregon is Returning to Pebblestone for another amazing performance. Nick’s impressive skills as a multi-instrumentalist\, singer-songwriter\, and recording engineer come alive during his live looping performances. With each layer recorded live before the audience\, Nick blends rhythm\, bass\, leads\, percussion\, and more using only his guitar. \nBut Nick’s talents don’t stop there. As a classically trained musician\, he has mastered a range of musical styles\, including pop\, blues\, gypsy jazz\, rock\, reggae\, jazz standards\, acoustic fingerstyle\, tapping\, and slapping. And with his solo show\, audiences can enjoy his tenor vocals\, mandolin\, melodica\, jaw harp\, and of course\, his incredible acoustic guitar skills. \nDon’t miss your chance to experience the unique talents of Nick Garrett-Powell.
URL:https://pebblestonecellars.biz/event/nick-garrett-powell-4/
LOCATION:Pebblestone Tasting Barn\, 1670 Pioneer Road\, Talent\, OR
CATEGORIES:Live Music
ATTACH;FMTTYPE=image/jpeg:https://pebblestonecellars.biz/wp-content/uploads/2022/07/Nick-Garrett-Powell-2022-e1663175962753.jpg
END:VEVENT
BEGIN:VEVENT
DTSTART;TZID=America/Los_Angeles:20230908T170000
DTEND;TZID=America/Los_Angeles:20230908T190000
DTSTAMP:20260425T144404
CREATED:20230829T205733Z
LAST-MODIFIED:20230829T205814Z
UID:5986-1694192400-1694199600@pebblestonecellars.biz
SUMMARY:Shybo Torres
DESCRIPTION:Born in Puerto Rico\, Shybo moved to New York when he was 8 years old. He started his passionate journey into music when he learned to play drums at age 10 in a little rock band with some friends. He began playing guitar at 13 and the flute at age 16. After moving to South Carolina\, he began to write original songs and performed at coffee houses in the 70’s. Shybo has continued his musical career in the Rogue Valley for many years and has been well known for his baritone voice and broad range of songs.
URL:https://pebblestonecellars.biz/event/shybo-torres/
LOCATION:Pebblestone Tasting Barn\, 1670 Pioneer Road\, Talent\, OR
CATEGORIES:Live Music
ATTACH;FMTTYPE=image/jpeg:https://pebblestonecellars.biz/wp-content/uploads/2022/09/shybo-torres-fb-cropped.jpg
END:VEVENT
BEGIN:VEVENT
DTSTART;TZID=America/Los_Angeles:20230910T150000
DTEND;TZID=America/Los_Angeles:20230910T170000
DTSTAMP:20260425T144404
CREATED:20230829T211248Z
LAST-MODIFIED:20230829T211324Z
UID:5994-1694358000-1694365200@pebblestonecellars.biz
SUMMARY:Encore 5
DESCRIPTION:These incredibly talented musicians—Jim Doren\, Sheila Winn\, Will Conidi and Mark Longshore— have been performing and playing music for decades and are together now to share their talents with you. Enjoy music from performers like Doobie Brothers\, Kenny Wayne Shepherd\, Bonnie Raitt\, Nora Jones\, Van Morrison\, Allman Brothers\, Steely Dan\, and even some original songs from their very own members. Their music genre is on the softer side but be sure to wear comfortable dancing shoes. \nThis is sure to be an afternoon filled with great music!
URL:https://pebblestonecellars.biz/event/encore-5-4/
LOCATION:Pebblestone Tasting Barn\, 1670 Pioneer Road\, Talent\, OR
CATEGORIES:Live Music
ATTACH;FMTTYPE=image/jpeg:https://pebblestonecellars.biz/wp-content/uploads/2023/05/EncoreFive.jpg
END:VEVENT
BEGIN:VEVENT
DTSTART;TZID=America/Los_Angeles:20230915T170000
DTEND;TZID=America/Los_Angeles:20230915T190000
DTSTAMP:20260425T144404
CREATED:20230829T205944Z
LAST-MODIFIED:20230915T212934Z
UID:5989-1694797200-1694804400@pebblestonecellars.biz
SUMMARY:Mark Charles Hill Band
DESCRIPTION:Are you a fan of Folk\, Rock\, Country\, Gospel\, and Bluegrass music? Look no further than the Mark Charles Hill Band. \nMark is a talented singer and guitarist who has been performing in the Rogue Valley for over 20 years. With his roots in California and a wealth of experience playing in a trio in Lake Tahoe in 1974\, Mark has brought his passion for music to Medford since 1990. His repertoire spans a wide range of covers\, from John Denver to James Taylor\, and his performances are always a crowd-pleaser. Don’t miss the chance to experience the best of Folk\, Rock\, Country\, Gospel\, and Bluegrass with Mark and the Mark Charles Hill Band.
URL:https://pebblestonecellars.biz/event/mark-charles-hill-band/
LOCATION:Pebblestone Tasting Barn\, 1670 Pioneer Road\, Talent\, OR
CATEGORIES:Live Music
ATTACH;FMTTYPE=image/jpeg:https://pebblestonecellars.biz/wp-content/uploads/2023/08/MarkCharlesHill.jpg
END:VEVENT
BEGIN:VEVENT
DTSTART;TZID=America/Los_Angeles:20230917T150000
DTEND;TZID=America/Los_Angeles:20230917T170000
DTSTAMP:20260425T144404
CREATED:20230829T211612Z
LAST-MODIFIED:20230915T213625Z
UID:5996-1694962800-1694970000@pebblestonecellars.biz
SUMMARY:JONES
DESCRIPTION:Are you tired of the same old music and looking for something fresh and exciting?\nLook no further than J O N E S! \nLed by the dynamic duo of Joshua Jones and Shelley Kristen Jones\, this talented musical pair brings over 20 years of experience to the stage. With Joshua’s incredible guitar skills and Shelley’s powerful voice and songwriting abilities\, J O N E S is redefining the musical landscape. \nGet ready to rock\, dance\, and sing along to their unique spin on Classic Rock\, R B\, Pop\, Folk\, Country\, and Jazz Standards. Don’t miss out on the musical experience of a lifetime – come see J O N E S perform. \n 
URL:https://pebblestonecellars.biz/event/jones-2/
LOCATION:Pebblestone Tasting Barn\, 1670 Pioneer Road\, Talent\, OR
CATEGORIES:Live Music
ATTACH;FMTTYPE=image/jpeg:https://pebblestonecellars.biz/wp-content/uploads/2023/06/Jones-2023.jpg
END:VEVENT
BEGIN:VEVENT
DTSTART;TZID=America/Los_Angeles:20230922T170000
DTEND;TZID=America/Los_Angeles:20230922T190000
DTSTAMP:20260425T144404
CREATED:20230829T210048Z
LAST-MODIFIED:20230829T210219Z
UID:5991-1695402000-1695409200@pebblestonecellars.biz
SUMMARY:Joshua Paul
DESCRIPTION:Joshua Paul as born and raised in Southern Oregon began playing music at the age of four. Joshua graduated from college with a degree in chemistry\, and began a career in a cataract research lab at OHSU.  He then spent ten years teaching chemistry\, among other science subjects\, at a few high schools in the Rogue Valley. \nIn his mid-twenties he became a part of the “Use Your Gift Foundation\,” a generous organization that pays for the recording of an album for young up-and-coming songwriters/performers. \nSince then he has performing full time and has also recorded several songs with local producer Jeff Pevar\, as well as Bredice Studios in Los Angeles. Joshua performs a broad blend of Americana\, rock\, country\, and blues numbers at local wineries\, bars\, and retirement communities.
URL:https://pebblestonecellars.biz/event/joshua-paul-2/
LOCATION:Pebblestone Tasting Barn\, 1670 Pioneer Road\, Talent\, OR
CATEGORIES:Live Music
ATTACH;FMTTYPE=image/jpeg:https://pebblestonecellars.biz/wp-content/uploads/2022/07/JoshuaPaul-2022.jpg
END:VEVENT
BEGIN:VEVENT
DTSTART;TZID=America/Los_Angeles:20230924T150000
DTEND;TZID=America/Los_Angeles:20230924T170000
DTSTAMP:20260425T144404
CREATED:20230829T211831Z
LAST-MODIFIED:20230829T211831Z
UID:5998-1695567600-1695574800@pebblestonecellars.biz
SUMMARY:Sonido Allegre
DESCRIPTION:Charles Guy was Raised in North Carolina and was exposed to bluegrass\, soul\, and Carolina beach music. These influences\, coupled with Linda Powers’ experience playing violin in Gypsy swing bands\, creates an eclectic sound! John Galloway provides the base for the group. \nThey will be playing original material with Latin\, Spanish\, flamenco and Gypsy influences as well other popular folk rock music. It will be a fun afternoon. YOU WON’T WANT TO MISS THEM!
URL:https://pebblestonecellars.biz/event/sonido-allegre/
LOCATION:Pebblestone Tasting Barn\, 1670 Pioneer Road\, Talent\, OR
CATEGORIES:Live Music
ATTACH;FMTTYPE=image/jpeg:https://pebblestonecellars.biz/wp-content/uploads/2022/07/sonido-allegre-2021.jpg
END:VEVENT
BEGIN:VEVENT
DTSTART;TZID=America/Los_Angeles:20230929T170000
DTEND;TZID=America/Los_Angeles:20230929T190000
DTSTAMP:20260425T144404
CREATED:20230918T191953Z
LAST-MODIFIED:20230929T210419Z
UID:6024-1696006800-1696014000@pebblestonecellars.biz
SUMMARY:John Ivey
DESCRIPTION:John Ivey\, a multi-talented musician and artist\, who has had a diverse range of life experiences and careers is reutrning to Pebblestone for another electric performance. From being a paraglider pilot and instructor to a cabinet maker\, contractor\, and now a luther\, John has always expressed his creative talents in unique ways. \nMusic has been a constant passion in John’s life\, and he began playing guitar at the age of 10\, learning to write songs at the age of 14. With over 41 years of experience\, John writes and performs most of his own music\, drawing inspiration from his varied life experiences. We can’t wait for you to hear his music and experience the talent and creativity of this remarkable artist.
URL:https://pebblestonecellars.biz/event/john-ivy-sept29/
LOCATION:Pebblestone Tasting Barn\, 1670 Pioneer Road\, Talent\, OR
CATEGORIES:Live Music
ATTACH;FMTTYPE=image/jpeg:https://pebblestonecellars.biz/wp-content/uploads/2023/09/JohnIvey.jpg
END:VEVENT
BEGIN:VEVENT
DTSTART;TZID=America/Los_Angeles:20230930T130000
DTEND;TZID=America/Los_Angeles:20230930T150000
DTSTAMP:20260425T144404
CREATED:20230919T210328Z
LAST-MODIFIED:20230919T220210Z
UID:6028-1696078800-1696086000@pebblestonecellars.biz
SUMMARY:Ukulele Jam  9/30
DESCRIPTION:The Ukulele Jam will be happening Saturday on the outside deck. The Ukulele Jam is usually always well attended by 20 or more ukulele players strumming and singing through a number of popular songs. They are great to watch but you can also sing along while enjoying a glass or bottle of wine. Local ukulele instructor Tish McFadden will again lead the jam. \nSongbooks are available. All acoustic instruments and voices are welcome as well as just those that just want to enjoy the JAM. Call 541-840-8075 for more information.
URL:https://pebblestonecellars.biz/event/ukelele-jam-4-3/
LOCATION:Pebblestone Tasting Barn\, 1670 Pioneer Road\, Talent\, OR
CATEGORIES:Live Music
END:VEVENT
END:VCALENDAR