BEGIN:VCALENDAR
VERSION:2.0
PRODID:-//Pebblestone Cellars - ECPv6.15.20//NONSGML v1.0//EN
CALSCALE:GREGORIAN
METHOD:PUBLISH
X-WR-CALNAME:Pebblestone Cellars
X-ORIGINAL-URL:https://pebblestonecellars.biz
X-WR-CALDESC:Events for Pebblestone Cellars
REFRESH-INTERVAL;VALUE=DURATION:PT1H
X-Robots-Tag:noindex
X-PUBLISHED-TTL:PT1H
BEGIN:VTIMEZONE
TZID:America/Los_Angeles
BEGIN:DAYLIGHT
TZOFFSETFROM:-0800
TZOFFSETTO:-0700
TZNAME:PDT
DTSTART:20220313T100000
END:DAYLIGHT
BEGIN:STANDARD
TZOFFSETFROM:-0700
TZOFFSETTO:-0800
TZNAME:PST
DTSTART:20221106T090000
END:STANDARD
BEGIN:DAYLIGHT
TZOFFSETFROM:-0800
TZOFFSETTO:-0700
TZNAME:PDT
DTSTART:20230312T100000
END:DAYLIGHT
BEGIN:STANDARD
TZOFFSETFROM:-0700
TZOFFSETTO:-0800
TZNAME:PST
DTSTART:20231105T090000
END:STANDARD
BEGIN:DAYLIGHT
TZOFFSETFROM:-0800
TZOFFSETTO:-0700
TZNAME:PDT
DTSTART:20240310T100000
END:DAYLIGHT
BEGIN:STANDARD
TZOFFSETFROM:-0700
TZOFFSETTO:-0800
TZNAME:PST
DTSTART:20241103T090000
END:STANDARD
END:VTIMEZONE
BEGIN:VEVENT
DTSTART;TZID=America/Los_Angeles:20230804T170000
DTEND;TZID=America/Los_Angeles:20230804T190000
DTSTAMP:20260425T161203
CREATED:20230712T180043Z
LAST-MODIFIED:20230804T214823Z
UID:5857-1691168400-1691175600@pebblestonecellars.biz
SUMMARY:Just a Duo
DESCRIPTION:We are excited to announce that JustaDuo will be returning to Pebblestone Friday night. The duo\, consisting of Alois Henderson on vocals and Albert Lee on guitar\, keyboards\, and vocals\, brings a unique and eclectic mix of music to every performance. Their soulful and heartfelt sound is sure to resonate with audiences of all ages. \nAs one of the Rogue Valley’s premier singing duos\, JustaDuo promises to deliver a memorable show. Due to the forecast of hot weather and potentially smoky haze\, the performance will likely take place inside the AIR CONDITIONED Pebblestone tasting hall. Don’t miss out on the opportunity to see this live performance of JustaDuo. Join us for what promises to be a great show.
URL:https://pebblestonecellars.biz/event/just-a-duo-3/
LOCATION:Pebblestone Tasting Barn\, 1670 Pioneer Road\, Talent\, OR
CATEGORIES:Live Music
ATTACH;FMTTYPE=image/jpeg:https://pebblestonecellars.biz/wp-content/uploads/2022/09/JustaDuo2022.jpg
END:VEVENT
BEGIN:VEVENT
DTSTART;TZID=America/Los_Angeles:20230806T150000
DTEND;TZID=America/Los_Angeles:20230806T170000
DTSTAMP:20260425T161203
CREATED:20230712T180252Z
LAST-MODIFIED:20230804T214916Z
UID:5859-1691334000-1691341200@pebblestonecellars.biz
SUMMARY:Holly and the Healers
DESCRIPTION:We are thrilled to announce that Holly and The Healers\, formerly known as The Holly Gleason Trio\, will be returning to Pebblestone this Sunday. This folk rock/Americana band is made up of Holly Gleason on vocals and acoustic guitar\, Dr J Jeffrey Judkins on mandolin and electric guitar and Jim Sitter on percussion. \nThey will be performing a dynamic repertoire of Holly’s original tunes\, eclectic covers\, plus a dash of gypsy jazz blues. Holly and The Healers are known for their unpredictable and foot-stomping performances\, mixed with heart-melting ballads. Don’t miss this exciting opportunity to see Holly and The Healers perform live at Pebblestone.
URL:https://pebblestonecellars.biz/event/holly-and-the-healers-2/
LOCATION:Pebblestone Tasting Barn\, 1670 Pioneer Road\, Talent\, OR
CATEGORIES:Live Music
ATTACH;FMTTYPE=image/jpeg:https://pebblestonecellars.biz/wp-content/uploads/2023/05/hollyandtheHealers2023.jpg
END:VEVENT
BEGIN:VEVENT
DTSTART;TZID=America/Los_Angeles:20230811T170000
DTEND;TZID=America/Los_Angeles:20230811T190000
DTSTAMP:20260425T161203
CREATED:20230712T181718Z
LAST-MODIFIED:20230811T155019Z
UID:5872-1691773200-1691780400@pebblestonecellars.biz
SUMMARY:Jeff Kloetzel
DESCRIPTION:Get ready for an incredible evening of music as Jeff Kloetzel returns to Pebblestone for another amazing performance. With a diverse catalog that covers everything from driving modern tunes to subtle timeless ballads\, Jeff’s music is sure to captivate and entertain you. His soulful vocals and rhythmic guitar work are the perfect combination to create a truly unforgettable experience. \nWhether you’re a fan of pop\, rock\, folk\, blues or contemporary island music\, there’s something for everyone in Jeff’s set list. Don’t miss this opportunity to see one of the most talented singer-songwriters around perform live at Pebblestone!
URL:https://pebblestonecellars.biz/event/jeff-kloetzel-5/
LOCATION:Pebblestone Tasting Barn\, 1670 Pioneer Road\, Talent\, OR
CATEGORIES:Live Music
ATTACH;FMTTYPE=image/jpeg:https://pebblestonecellars.biz/wp-content/uploads/2022/07/Jeff-Kloetzel-2022.jpg
END:VEVENT
BEGIN:VEVENT
DTSTART;TZID=America/Los_Angeles:20230813T150000
DTEND;TZID=America/Los_Angeles:20230813T170000
DTSTAMP:20260425T161203
CREATED:20230712T180512Z
LAST-MODIFIED:20230811T160132Z
UID:5861-1691938800-1691946000@pebblestonecellars.biz
SUMMARY:Stardust Trio
DESCRIPTION:Jazz enthusiasts\, mark your calendars because the Stardust Trio is returning to Pebblestone this Sunday. Featuring Tim Church on jazz guitar\, Calysta Cheyenne on vocals\, and Dave Miller on bass\, this trio promises to deliver a virtuosic\, versatile\, and varied performance that encompasses classical\, jazz\, American songbook\, blues\, popular\, Spanish\, and Brazilian styles. \nTim\, a Southern Oregon-based master guitarist\, will showcase his exceptional talent and original music\, while Calysta\, the lead vocalist of the popular rock band Fortune’s Folly\, will enchant you with her renditions of America’s songbook classics. Dave\, who plays with the Rogue Valley Symphony and jazz ensembles all over the valley\, will add the perfect bass rhythm to the trio’s performance. Don’t miss out on this opportunity to experience an unforgettable jazz performance and spend a delightful Sunday afternoon at Pebblestone!
URL:https://pebblestonecellars.biz/event/stardust-trio-2/
LOCATION:Pebblestone Tasting Barn\, 1670 Pioneer Road\, Talent\, OR
CATEGORIES:Live Music
ATTACH;FMTTYPE=image/jpeg:https://pebblestonecellars.biz/wp-content/uploads/2023/07/StardustTrio2023.jpg
END:VEVENT
BEGIN:VEVENT
DTSTART;TZID=America/Los_Angeles:20230818T170000
DTEND;TZID=America/Los_Angeles:20230818T190000
DTSTAMP:20260425T161203
CREATED:20230712T180653Z
LAST-MODIFIED:20230818T194620Z
UID:5863-1692378000-1692385200@pebblestonecellars.biz
SUMMARY:Sterling Vintage Jazz
DESCRIPTION:Sterling Vintage Jazz returns to Pebblestone to celebrate the timeless classics in a way that is both authentic and fresh. Their extensive repertoire includes captivating Jazz and swing hits from the 30s\, 40s\, and 50s\, with a soulful RB twist that makes every performance unforgettable. \nMargaret Reno’s vocals and percussion bring a unique touch to the band’s sound\, while Tim Church on lead guitar\, Ted Whiting’s bass\, and Linda Powers on fiddle and guitar provide the perfect backbone for their captivating performances. Whether you’re a Jazz aficionado or a casual listener\, Sterling Vintage Jazz is a band that guarantees an evening to remember.
URL:https://pebblestonecellars.biz/event/sterling-vintage-jazz-4/
LOCATION:Pebblestone Tasting Barn\, 1670 Pioneer Road\, Talent\, OR
CATEGORIES:Live Music
ATTACH;FMTTYPE=image/jpeg:https://pebblestonecellars.biz/wp-content/uploads/2023/05/SterlingVintageJazz2023.jpg
END:VEVENT
BEGIN:VEVENT
DTSTART;TZID=America/Los_Angeles:20230820T030000
DTEND;TZID=America/Los_Angeles:20230820T170000
DTSTAMP:20260425T161203
CREATED:20230712T181033Z
LAST-MODIFIED:20230818T194700Z
UID:5865-1692500400-1692550800@pebblestonecellars.biz
SUMMARY:Shine On
DESCRIPTION:Get ready to be transported to a musical world like never before with SHINE ON! This summer\, the amazing trio comprising Steve Shine on guitar\, John Galloway on bass\, and Cathy Dorris on drums is all set to bring alive the best of Grateful Americana on the Pebblestone INDOOR stage. \nFrom the iconic music of the Grateful Dead and the Beatles to the soulful sounds of Bob Dylan and Van Morrison\, SHINE ON will take you on a one-of-a-kind musical journey. So\, book your reservations now and get ready to groove to the beats of SHINE ON – the ultimate Grateful Americana experience!
URL:https://pebblestonecellars.biz/event/shine-on-3/
LOCATION:Pebblestone Tasting Barn\, 1670 Pioneer Road\, Talent\, OR
CATEGORIES:Live Music
ATTACH;FMTTYPE=image/jpeg:https://pebblestonecellars.biz/wp-content/uploads/2023/01/shineontrio-2023.jpg
END:VEVENT
BEGIN:VEVENT
DTSTART;TZID=America/Los_Angeles:20230825T170000
DTEND;TZID=America/Los_Angeles:20230825T190000
DTSTAMP:20260425T161203
CREATED:20230712T181305Z
LAST-MODIFIED:20230825T221252Z
UID:5867-1692982800-1692990000@pebblestonecellars.biz
SUMMARY:Galfano & Ambrose
DESCRIPTION:Pebblestone Cellars\, is excited to host the talented musical duo of Jen Ambrose and Jon Galfano tonight\, Friday\, August 25th from 5-7 p.m. \nAmbrose and Galfano are a popular musical act in the Rogue Valley and will be performing a mix of new songs from Jen’s latest album and classic hits from popular artists like The Beatles\, Elton John\, and Bonnie Raitt. \nThe duo will showcase their exceptional musical talent by playing a variety of instruments including guitars\, keyboard\, flute\, mandolin\, and singing with their beautiful harmonies. Join us at Pebblestone Cellars for an evening of fantastic live music and great wine.
URL:https://pebblestonecellars.biz/event/galfano-ambrose-2/
LOCATION:Pebblestone Tasting Barn\, 1670 Pioneer Road\, Talent\, OR
CATEGORIES:Live Music
ATTACH;FMTTYPE=image/jpeg:https://pebblestonecellars.biz/wp-content/uploads/2022/07/GalfanoAmbrose-2022-e1663184703694.jpg
END:VEVENT
BEGIN:VEVENT
DTSTART;TZID=America/Los_Angeles:20230826T130000
DTEND;TZID=America/Los_Angeles:20230826T150000
DTSTAMP:20260425T161203
CREATED:20230712T181849Z
LAST-MODIFIED:20230817T204205Z
UID:5874-1693054800-1693062000@pebblestonecellars.biz
SUMMARY:Ukelele Jam
DESCRIPTION:The Ukelele Jam will be happening Saturday on the outside deck. The Ukulele jam is usually always well attended by 20 or more ukulele players strumming and singing through a number of popular songs. They are great to watch but you can also sing along while enjoying a glass or bottle of wine. Local ukulele instructor Tish McFadden will again lead the jam. \nSongbooks are available. All acoustic instruments and voices are welcome as well as just those that just want to enjoy the JAM. Call 541-840-8075 for more information.
URL:https://pebblestonecellars.biz/event/ukelele-jam-4/
LOCATION:Pebblestone Tasting Barn\, 1670 Pioneer Road\, Talent\, OR
CATEGORIES:Live Music
END:VEVENT
BEGIN:VEVENT
DTSTART;TZID=America/Los_Angeles:20230827T150000
DTEND;TZID=America/Los_Angeles:20230827T170000
DTSTAMP:20260425T161203
CREATED:20230712T181415Z
LAST-MODIFIED:20240715T204431Z
UID:5869-1693148400-1693155600@pebblestonecellars.biz
SUMMARY:Marshall Thompson & Fred Epping
DESCRIPTION:If you’re looking for a night of top-notch music entertainment\, look no further than Marshall Thompson and Fred Epping. Marshall’s rich baritone voice and lifelong experience in classical and popular performance make him a standout vocalist\, while Fred’s virtuoso guitar style with a strong country background adds an extra layer of musical depth. \nTogether\, they perform an eclectic array of songs across various genres\, including Americana\, acoustic rock\, cross-over country\, folk\, and originals. Marshall’s love for covering iconic artists like Willie Nelson\, Johnny Cash\, Bob Dylan\, and Lyle Lovett ensures that almost everyone in the crowd will know the words and sing along. When the crowd joins in\, there’s a palpable energy in the air that’s sure to make you want to dance. Don’t miss out on the chance to experience the magic of Marshall Thompson and Fred Epping.
URL:https://pebblestonecellars.biz/event/marshal-thompson/
LOCATION:Pebblestone Tasting Barn\, 1670 Pioneer Road\, Talent\, OR
CATEGORIES:Live Music
ATTACH;FMTTYPE=image/jpeg:https://pebblestonecellars.biz/wp-content/uploads/2023/07/thompson-epping2023.jpg
END:VEVENT
END:VCALENDAR