BEGIN:VCALENDAR
VERSION:2.0
PRODID:-//Pebblestone Cellars - ECPv6.15.20//NONSGML v1.0//EN
CALSCALE:GREGORIAN
METHOD:PUBLISH
X-ORIGINAL-URL:https://pebblestonecellars.biz
X-WR-CALDESC:Events for Pebblestone Cellars
REFRESH-INTERVAL;VALUE=DURATION:PT1H
X-Robots-Tag:noindex
X-PUBLISHED-TTL:PT1H
BEGIN:VTIMEZONE
TZID:America/Los_Angeles
BEGIN:DAYLIGHT
TZOFFSETFROM:-0800
TZOFFSETTO:-0700
TZNAME:PDT
DTSTART:20220313T100000
END:DAYLIGHT
BEGIN:STANDARD
TZOFFSETFROM:-0700
TZOFFSETTO:-0800
TZNAME:PST
DTSTART:20221106T090000
END:STANDARD
BEGIN:DAYLIGHT
TZOFFSETFROM:-0800
TZOFFSETTO:-0700
TZNAME:PDT
DTSTART:20230312T100000
END:DAYLIGHT
BEGIN:STANDARD
TZOFFSETFROM:-0700
TZOFFSETTO:-0800
TZNAME:PST
DTSTART:20231105T090000
END:STANDARD
BEGIN:DAYLIGHT
TZOFFSETFROM:-0800
TZOFFSETTO:-0700
TZNAME:PDT
DTSTART:20240310T100000
END:DAYLIGHT
BEGIN:STANDARD
TZOFFSETFROM:-0700
TZOFFSETTO:-0800
TZNAME:PST
DTSTART:20241103T090000
END:STANDARD
END:VTIMEZONE
BEGIN:VEVENT
DTSTART;TZID=America/Los_Angeles:20230702T150000
DTEND;TZID=America/Los_Angeles:20230702T170000
DTSTAMP:20260425T174805
CREATED:20230622T161243Z
LAST-MODIFIED:20230622T161312Z
UID:5822-1688310000-1688317200@pebblestonecellars.biz
SUMMARY:Encore 5
DESCRIPTION:
URL:https://pebblestonecellars.biz/event/encore-5-3/
LOCATION:Pebblestone Tasting Barn\, 1670 Pioneer Road\, Talent\, OR
CATEGORIES:Live Music
END:VEVENT
BEGIN:VEVENT
DTSTART;TZID=America/Los_Angeles:20230707T170000
DTEND;TZID=America/Los_Angeles:20230707T190000
DTSTAMP:20260425T174805
CREATED:20230622T161744Z
LAST-MODIFIED:20230707T162852Z
UID:5832-1688749200-1688756400@pebblestonecellars.biz
SUMMARY:Bill Scholer
DESCRIPTION:Brace yourself for the electrifying and soul-stirring blues of the Rogue Valley’s very own musical genius\, Bill Scholer. With a reputation that precedes him\, Scholer\, a revered member of the prestigious Sacramento Blues Hall Of Fame\, is captivating our hearts. \nHaving recently relocated to Talent\, Oregon\, after an incredible stint in Japan where he garnered accolades and left audiences in awe\, Scholer brings a fresh and innovative approach to the blues. His unique sound effortlessly blends the soulful essence of blues with elements of jazz\, rock\, avant-garde\, and various other musical traditions\, creating an electrifying experience that transcends genres. \nDon’t miss this opportunity to witness the magic of Bill Scholer live in action. Join us as we welcome this musical maestro to Pebblestone\, and let his music sweep you off your feet. Get ready for a night of unforgettable melodies\, soulful tunes\, and a whole lot of bluesy goodness. It’s time to let loose and let the music take control as Bill Scholer brings the house down with his exceptional talent.
URL:https://pebblestonecellars.biz/event/bill-scholer-todd/
LOCATION:Pebblestone Tasting Barn\, 1670 Pioneer Road\, Talent\, OR
CATEGORIES:Live Music
ATTACH;FMTTYPE=image/jpeg:https://pebblestonecellars.biz/wp-content/uploads/2023/06/Bill-Scholer-solo-2023.jpg
END:VEVENT
BEGIN:VEVENT
DTSTART;TZID=America/Los_Angeles:20230709T150000
DTEND;TZID=America/Los_Angeles:20230709T170000
DTSTAMP:20260425T174805
CREATED:20230622T161425Z
LAST-MODIFIED:20230707T163958Z
UID:5824-1688914800-1688922000@pebblestonecellars.biz
SUMMARY:Carla Bauer Trio
DESCRIPTION:We are pleased to announce an unforgettable evening of acoustic rock music with the immensely talented Carla Bauer. From the iconic sounds of the 60s to the present day\, Carla will take you on a musical journey filled with familiar tunes that have stood the test of time. \nPrepare to be captivated by her soulful renditions of beloved classics\, as well as her own original compositions. With a mix of country rock\, hard rock\, blues\, and more\, there’s something for everyone to enjoy. Don’t miss out on this rare opportunity to relive the music you loved but seldom hear these days. It’s an experience that might just get you up and dancing. Mark your calendars and join us for a night of timeless acoustic rock with Carla Bauer and company!
URL:https://pebblestonecellars.biz/event/carla-bauer-trio/
LOCATION:Pebblestone Tasting Barn\, 1670 Pioneer Road\, Talent\, OR
CATEGORIES:Live Music
ATTACH;FMTTYPE=image/jpeg:https://pebblestonecellars.biz/wp-content/uploads/2023/06/CarlaBauer2023.jpg
END:VEVENT
BEGIN:VEVENT
DTSTART;TZID=America/Los_Angeles:20230714T170000
DTEND;TZID=America/Los_Angeles:20230714T190000
DTSTAMP:20260425T174805
CREATED:20230622T161836Z
LAST-MODIFIED:20230714T160539Z
UID:5834-1689354000-1689361200@pebblestonecellars.biz
SUMMARY:Delilah
DESCRIPTION:Are you ready to be transported to a world of music and joy? Look no further than Delilah and her Jazz Trio! Delilah\, an international jazz singer\, is bringing her talents to the stage for a night of Cabaret\, Music theater\, and live music performances. \nAnd that’s not all – joining the trio is the one and only Captain Nick on the congas\, ready to keep the beat and get you dancing in no time! So gather your friends and join us for an unforgettable evening of music that will have you smiling and grooving all night long. \nDelilah is delighted to return to the Rogue Valley wineries for her summer concert series June-October.\nFollow her on FB & IG or @delilahbeaucoup; Website: www.delilah-beaucoup.com
URL:https://pebblestonecellars.biz/event/delilah-2/
LOCATION:Pebblestone Tasting Barn\, 1670 Pioneer Road\, Talent\, OR
CATEGORIES:Live Music
END:VEVENT
BEGIN:VEVENT
DTSTART;TZID=America/Los_Angeles:20230715T140000
DTEND;TZID=America/Los_Angeles:20230715T160000
DTSTAMP:20260425T174805
CREATED:20230622T162103Z
LAST-MODIFIED:20230712T195225Z
UID:5840-1689429600-1689436800@pebblestonecellars.biz
SUMMARY:Ukelele Jam
DESCRIPTION:The Ukelele Jam will be happening this Saturday on the outside deck. It is forecast to be a beautiful afternoon with temperatures in the 80s – 90s and a very low chance of rain. The Ukulele jam is usually always well attended by 20 or more ukulele players strumming and singing through a number of popular songs. They are great to watch but you can also sing along while enjoying a glass or bottle of wine. Local ukulele instructor Tish McFadden will again lead the jam. \nSongbooks are available. All acoustic instruments and voices are welcome as well as just those that just want to enjoy the JAM. Call 541-840-8075 for more information. \n 
URL:https://pebblestonecellars.biz/event/ukelele-jam-3/
LOCATION:Pebblestone Tasting Barn\, 1670 Pioneer Road\, Talent\, OR
CATEGORIES:Live Music
END:VEVENT
BEGIN:VEVENT
DTSTART;TZID=America/Los_Angeles:20230716T150000
DTEND;TZID=America/Los_Angeles:20230716T170000
DTSTAMP:20260425T174805
CREATED:20230622T161521Z
LAST-MODIFIED:20230714T160817Z
UID:5826-1689519600-1689526800@pebblestonecellars.biz
SUMMARY:Ann Kelly
DESCRIPTION:It’s time to get your dancing shoes on because the amazing Ann Kelly is coming back to Pebblestone for another electrifying performance! This California-based singer-songwriter is known for her dark\, sultry\, and emotional vocals\, and her unique blend of pop\, jazz and blues. \nAnd that’s not all! She will again be accompanied by the incredibly talented Mark Ross\, a fantastic keyboardist and an Emmy award-winning composer. So get ready to groove to their amazing tunes and have a blast! See you there!
URL:https://pebblestonecellars.biz/event/ann-kelly-4/
LOCATION:Pebblestone Tasting Barn\, 1670 Pioneer Road\, Talent\, OR
CATEGORIES:Live Music
ATTACH;FMTTYPE=image/jpeg:https://pebblestonecellars.biz/wp-content/uploads/2023/03/AnnKelly-MarkRoss0523.jpg
END:VEVENT
BEGIN:VEVENT
DTSTART;TZID=America/Los_Angeles:20230718T180000
DTEND;TZID=America/Los_Angeles:20230718T200000
DTSTAMP:20260425T174805
CREATED:20230714T164748Z
LAST-MODIFIED:20230714T165013Z
UID:5896-1689703200-1689710400@pebblestonecellars.biz
SUMMARY:Pebblestone about Town
DESCRIPTION:Looking for something to do\nTuesday\, July 18th?\nCome out to the\nArt and Wine Walk at\nThe Village\nMedford Center\n6 to 8pm\nCo-Sponsored by Tap and Vine at 559\nThere will be Live music\, Artisan booths and\, of course\,\nWine tasting by Pebblestone and others\nProceeds will benefit the\nRogue Valley Growers Market\n  \n  \n 
URL:https://pebblestonecellars.biz/event/pebblestone-about-town/
LOCATION:The Village at Medford Center\, Medford
CATEGORIES:Charity Event,Live Music
ATTACH;FMTTYPE=image/jpeg:https://pebblestonecellars.biz/wp-content/uploads/2023/07/ArtWineFestival23.jpg
END:VEVENT
BEGIN:VEVENT
DTSTART;TZID=America/Los_Angeles:20230721T170000
DTEND;TZID=America/Los_Angeles:20230721T190000
DTSTAMP:20260425T174805
CREATED:20230622T161921Z
LAST-MODIFIED:20230712T202934Z
UID:5836-1689958800-1689966000@pebblestonecellars.biz
SUMMARY:Jared Gutridge
DESCRIPTION:Jared Gutridge is returning this summer to Pebblestone. He is a very talented solo acoustic singer-songwriter based in Southern Oregon. \nFrom wineries to weddings\, Jared brings a mellow vibe with a tight finger picking style and smooth vocals. Fun covers and original songs you won’t want to miss. Come out and listen to a talented performer inside the comfort of the tasting hall. We are excited to have him back and look forward to listening to his new content.
URL:https://pebblestonecellars.biz/event/jared-gutridge/
LOCATION:Pebblestone Tasting Barn\, 1670 Pioneer Road\, Talent\, OR
CATEGORIES:Live Music
ATTACH;FMTTYPE=image/jpeg:https://pebblestonecellars.biz/wp-content/uploads/2022/09/JaredGutridge2022.jpg
END:VEVENT
BEGIN:VEVENT
DTSTART;TZID=America/Los_Angeles:20230723T150000
DTEND;TZID=America/Los_Angeles:20230723T170000
DTSTAMP:20260425T174805
CREATED:20230622T161605Z
LAST-MODIFIED:20230721T224648Z
UID:5828-1690124400-1690131600@pebblestonecellars.biz
SUMMARY:Positively First Street
DESCRIPTION:We are thrilled to announce that Mary Boucher and Allen Crutcher\, better known as Positively First Street\, will be returning to Pebblestone and performing their unique blend of vocal harmony and acoustic instrumentation. \nTheir repertoire includes a wide range of songs from both traditional and contemporary artists\, such as Patsy Cline\, Brandi Carlisle\, Willy Nelson\, and Tom Petty. The duo also performs a select few well-crafted originals\, all while engaging in friendly banter with their audience. \nDon’t miss this opportunity to experience Positively First Street’s captivating performance!
URL:https://pebblestonecellars.biz/event/positively-first-street-2/
LOCATION:Pebblestone Tasting Barn\, 1670 Pioneer Road\, Talent\, OR
CATEGORIES:Live Music
ATTACH;FMTTYPE=image/jpeg:https://pebblestonecellars.biz/wp-content/uploads/2023/06/PositivelyFirstStreet2023.jpg
END:VEVENT
BEGIN:VEVENT
DTSTART;TZID=America/Los_Angeles:20230728T170000
DTEND;TZID=America/Los_Angeles:20230728T190000
DTSTAMP:20260425T174805
CREATED:20230622T162007Z
LAST-MODIFIED:20230729T165822Z
UID:5838-1690563600-1690570800@pebblestonecellars.biz
SUMMARY:Gary Dunsmoor
DESCRIPTION:Gary Dunsmoor\, a talented musician who has been passionate about music since his early days in middle school will be performing solo at Pebblestone tonight. \nWith a diverse background in various genres such as blues\, rock\, funk\, RB\, and acoustic singer/songwriter\, Gary brings an eclectic and diverse catalogue of songs and lyrics to share. From popular hits to obscure gems\, his music ranges from gentle and heartfelt melodies to get-out-of-your-seat dance tunes. \nFor Gary\, it’s all about the power of the song and the joy of sharing music with others. Get ready to be captivated by his unique musical style and infectious passion for music.
URL:https://pebblestonecellars.biz/event/gary-dunsmoor/
LOCATION:Pebblestone Tasting Barn\, 1670 Pioneer Road\, Talent\, OR
CATEGORIES:Live Music
ATTACH;FMTTYPE=image/jpeg:https://pebblestonecellars.biz/wp-content/uploads/2023/06/GaryDunsmoor2023.jpg
END:VEVENT
BEGIN:VEVENT
DTSTART;TZID=America/Los_Angeles:20230729T130000
DTEND;TZID=America/Los_Angeles:20230729T150000
DTSTAMP:20260425T174805
CREATED:20230729T170458Z
LAST-MODIFIED:20230729T170505Z
UID:5925-1690635600-1690642800@pebblestonecellars.biz
SUMMARY:Ukelele Jam
DESCRIPTION:The Ukulele Jam will be happening again this Saturday\, July 29th\, on the outside deck at Pebblestone. It is forecast to be a beautiful day with temperatures in the low-to-mid-80s in the early afternoon. \nThe Ukulele jam is usually always well attended by 20 to 30 or more ukulele players strumming and singing through a number of popular songs. They are great to watch but you can also sing along while enjoying a glass or bottle of wine. Local ukulele instructor Tish McFadden will again lead the jam. \nSongbooks are available. All acoustic instruments and voices are welcome as well as just those that just want to enjoy the JAM. Call 541-840-8075 for more information.
URL:https://pebblestonecellars.biz/event/ukelele-jam-4-2/
LOCATION:Pebblestone Tasting Barn\, 1670 Pioneer Road\, Talent\, OR
CATEGORIES:Live Music
END:VEVENT
BEGIN:VEVENT
DTSTART;TZID=America/Los_Angeles:20230730T150000
DTEND;TZID=America/Los_Angeles:20230730T170000
DTSTAMP:20260425T174805
CREATED:20230622T161643Z
LAST-MODIFIED:20230729T170112Z
UID:5830-1690729200-1690736400@pebblestonecellars.biz
SUMMARY:The Kind
DESCRIPTION:We are excited to announce that the talented musical duo\, The Kind\, will be making their first appearance at Pebblestone. Their unique genre of music includes a blend of folk\, rock\, and blues\, and promises to captivate all music lovers. Don’t miss this opportunity to witness their amazing performance and enjoy an unforgettable evening with family and friends at Pebblestone. Mark your calendars and join us on the date of their performance to experience the magic of Sylvia and Ron’s music!
URL:https://pebblestonecellars.biz/event/the-kind/
LOCATION:Pebblestone Tasting Barn\, 1670 Pioneer Road\, Talent\, OR
CATEGORIES:Live Music
ATTACH;FMTTYPE=image/jpeg:https://pebblestonecellars.biz/wp-content/uploads/2023/06/TheKind2023.jpg
END:VEVENT
END:VCALENDAR