BEGIN:VCALENDAR
VERSION:2.0
PRODID:-//Pebblestone Cellars - ECPv6.15.20//NONSGML v1.0//EN
CALSCALE:GREGORIAN
METHOD:PUBLISH
X-WR-CALNAME:Pebblestone Cellars
X-ORIGINAL-URL:https://pebblestonecellars.biz
X-WR-CALDESC:Events for Pebblestone Cellars
REFRESH-INTERVAL;VALUE=DURATION:PT1H
X-Robots-Tag:noindex
X-PUBLISHED-TTL:PT1H
BEGIN:VTIMEZONE
TZID:America/Los_Angeles
BEGIN:DAYLIGHT
TZOFFSETFROM:-0800
TZOFFSETTO:-0700
TZNAME:PDT
DTSTART:20220313T100000
END:DAYLIGHT
BEGIN:STANDARD
TZOFFSETFROM:-0700
TZOFFSETTO:-0800
TZNAME:PST
DTSTART:20221106T090000
END:STANDARD
BEGIN:DAYLIGHT
TZOFFSETFROM:-0800
TZOFFSETTO:-0700
TZNAME:PDT
DTSTART:20230312T100000
END:DAYLIGHT
BEGIN:STANDARD
TZOFFSETFROM:-0700
TZOFFSETTO:-0800
TZNAME:PST
DTSTART:20231105T090000
END:STANDARD
BEGIN:DAYLIGHT
TZOFFSETFROM:-0800
TZOFFSETTO:-0700
TZNAME:PDT
DTSTART:20240310T100000
END:DAYLIGHT
BEGIN:STANDARD
TZOFFSETFROM:-0700
TZOFFSETTO:-0800
TZNAME:PST
DTSTART:20241103T090000
END:STANDARD
END:VTIMEZONE
BEGIN:VEVENT
DTSTART;TZID=America/Los_Angeles:20230602T170000
DTEND;TZID=America/Los_Angeles:20230602T190000
DTSTAMP:20260425T192156
CREATED:20230510T180040Z
LAST-MODIFIED:20230602T174040Z
UID:5677-1685725200-1685732400@pebblestonecellars.biz
SUMMARY:Skye & Lee
DESCRIPTION:Michaela Skye has a Bachelor’s degree in Vocal Performance from Southern Oregon University and a Master’s of Music from The University of Memphis. She has worked and performed with renowned artists such as Mignon Dunn\, Willene Gunn and Kristin Chenoweth. \nAlbert Lee is a lifelong musician—driven by the impetus to create as well as perform.  He completed a Bachelor’s degree in Music Composition and while at the university gained the prestigious title of Composer of the Year. Other notable professional credits include several studio albums\, and a solo album\, as well as several albums for other artists\, commercials and a TV pilot. \nPerforming as a duo\, Skye and Lee cover musical selections from jazz standards\, popular music and bossa nova.
URL:https://pebblestonecellars.biz/event/albert-michalea-2/
LOCATION:Pebblestone Tasting Barn\, 1670 Pioneer Road\, Talent\, OR
CATEGORIES:Live Music
ATTACH;FMTTYPE=image/jpeg:https://pebblestonecellars.biz/wp-content/uploads/2023/05/skyeandlee2023.jpg
END:VEVENT
BEGIN:VEVENT
DTSTART;TZID=America/Los_Angeles:20230604T150000
DTEND;TZID=America/Los_Angeles:20230604T170000
DTSTAMP:20260425T192156
CREATED:20230510T180628Z
LAST-MODIFIED:20230602T174413Z
UID:5679-1685890800-1685898000@pebblestonecellars.biz
SUMMARY:Jeff Kloetzel
DESCRIPTION:Singer-songwriter/cover artist Jeff Kloetzel performs a diverse catalog runs the gamut from driving modern tunes to subtle timeless ballads. His original songs are fueled by his rhythmic guitar work and soulful vocals. Influenced by many musical genres including pop\, rock\, folk\, blues and contemporary island\, there should be something for everyone in Jeff’s set list.
URL:https://pebblestonecellars.biz/event/jeff-kloetzel-4/
LOCATION:Pebblestone Tasting Barn\, 1670 Pioneer Road\, Talent\, OR
CATEGORIES:Live Music
ATTACH;FMTTYPE=image/jpeg:https://pebblestonecellars.biz/wp-content/uploads/2022/07/Jeff-Kloetzel-2022.jpg
END:VEVENT
BEGIN:VEVENT
DTSTART;TZID=America/Los_Angeles:20230609T170000
DTEND;TZID=America/Los_Angeles:20230609T190000
DTSTAMP:20260425T192156
CREATED:20230609T170016Z
LAST-MODIFIED:20230609T170156Z
UID:5763-1686330000-1686337200@pebblestonecellars.biz
SUMMARY:Delilah
DESCRIPTION:Delilah is returning to Pebblestone this weekend. \nShe is a international jazz singer working in the worlds of Cabaret\, Musical theater and live music performances with her Jazz Trio. Delilah is delighted to return to the Rogue Valley wineries for her summer concert series June-October. \nFollow her on FB & IG or @delilahbeaucoup; Website: www.delilah-beaucoup.com
URL:https://pebblestonecellars.biz/event/delilah-3/
LOCATION:Pebblestone Tasting Barn\, 1670 Pioneer Road\, Talent\, OR
CATEGORIES:Live Music
ATTACH;FMTTYPE=image/jpeg:https://pebblestonecellars.biz/wp-content/uploads/2023/06/Delilah-2023.jpg
END:VEVENT
BEGIN:VEVENT
DTSTART;TZID=America/Los_Angeles:20230611T150000
DTEND;TZID=America/Los_Angeles:20230611T170000
DTSTAMP:20260425T192156
CREATED:20230609T170759Z
LAST-MODIFIED:20230609T170843Z
UID:5767-1686495600-1686502800@pebblestonecellars.biz
SUMMARY:Jones
DESCRIPTION:Performing at Pebblestone for the first time\, J O N E S is a musical duo consisting of Joshua Jones and Shelley Kristen Jones. \nJoshua Jones is a gifted guitarist\, singer and arranger. Shelley Kristen Jones is a talented singer\, songwriter and producer\, as well as a Voice Coach. They have been professional musicians and performers for over 20 years. \nHaving two powerful and passionate vocalists in the mix\, makes for a very enjoyable musical experience.\nJ O N E S performs some original music but mainly covers songs from Classic Rock\, R & B\, Pop\, Folk\, Country along with Jazz Standards\, often with a unique Jones music spin. See and hear them at jonesmusic.live
URL:https://pebblestonecellars.biz/event/jones/
LOCATION:Pebblestone Tasting Barn\, 1670 Pioneer Road\, Talent\, OR
CATEGORIES:Live Music
ATTACH;FMTTYPE=image/jpeg:https://pebblestonecellars.biz/wp-content/uploads/2023/06/Jones-2023.jpg
END:VEVENT
BEGIN:VEVENT
DTSTART;TZID=America/Los_Angeles:20230616T170000
DTEND;TZID=America/Los_Angeles:20230616T190000
DTSTAMP:20260425T192156
CREATED:20230510T180904Z
LAST-MODIFIED:20230615T213449Z
UID:5683-1686934800-1686942000@pebblestonecellars.biz
SUMMARY:Shine On
DESCRIPTION:Get ready to experience the ultimate Americana musical adventure with SHINE ON! Featuring the amazing talents of Steve Shine on guitar\, John Galloway on bass\, and Cathy Dorris on drums. \nThis talented trio delivers some of the most captivating and exciting renditions of classic hits from legendary artists like the Grateful Dead\, Beatles\, Bob Dylan\, Van Morrison and more! \nYou don’t want to miss out on the opportunity to groove along to their amazing 3-part harmonies that will leave you feeling grateful and alive. So\, get your dancing shoes on and join us for an unforgettable night of fun\, music and memories with SHINE ON!
URL:https://pebblestonecellars.biz/event/shine-on/
LOCATION:Pebblestone Tasting Barn\, 1670 Pioneer Road\, Talent\, OR
CATEGORIES:Live Music
ATTACH;FMTTYPE=image/jpeg:https://pebblestonecellars.biz/wp-content/uploads/2023/01/shineontrio-2023.jpg
END:VEVENT
BEGIN:VEVENT
DTSTART;TZID=America/Los_Angeles:20230617T130000
DTEND;TZID=America/Los_Angeles:20230617T150000
DTSTAMP:20260425T192156
CREATED:20230615T213135Z
LAST-MODIFIED:20230615T213158Z
UID:5793-1687006800-1687014000@pebblestonecellars.biz
SUMMARY:Ukelele Jam
DESCRIPTION:The Ukelele Jam will be happening this Saturday on the outside deck. It is forecast to be a beautiful afternoon with temperatures in the mid 80s and a very low chance of rain. The Ukulele jam is usually always well attended by 20 or more ukulele players strumming and singing through a number of popular songs. They are great to watch but you can also sing along while enjoying a glass or bottle of wine. Local ukulele instructor Tish McFadden will again lead the jam. \nSongbooks are available. All acoustic instruments and voices are welcome as well as just those that just want to enjoy the JAM. Call 541-840-8075 for more information. \n 
URL:https://pebblestonecellars.biz/event/ukelele-jam-2/
LOCATION:Pebblestone Tasting Barn\, 1670 Pioneer Road\, Talent\, OR
CATEGORIES:Live Music
END:VEVENT
BEGIN:VEVENT
DTSTART;TZID=America/Los_Angeles:20230618T150000
DTEND;TZID=America/Los_Angeles:20230618T170000
DTSTAMP:20260425T192156
CREATED:20230510T181108Z
LAST-MODIFIED:20230615T215540Z
UID:5685-1687100400-1687107600@pebblestonecellars.biz
SUMMARY:Holly and the Healers
DESCRIPTION:Holly and The Healers\, formerly known as The Holly Gleason Trio\, is a folk rock/Americana band made up of Holly Gleason on vocals and acoustic guitar\, JD Berlingeri on upright bass\, “Dr J” (Jeffrey Judkins) on mandolin and electric guitar and the band welcomes their newest member\, Jim Sitter\, on percussion. \nPerforming a dynamic repertoire of Holly’s original tunes\, eclectic covers\, plus a dash of gypsy jazz & blues here and there make this spicy little trio unpredictable and full of foot-stomping\, dance-worthy moments interspersed with heart-melting ballads.
URL:https://pebblestonecellars.biz/event/holly-and-the-healers/
LOCATION:Pebblestone Tasting Barn\, 1670 Pioneer Road\, Talent\, OR
CATEGORIES:Live Music
ATTACH;FMTTYPE=image/jpeg:https://pebblestonecellars.biz/wp-content/uploads/2023/05/hollyandtheHealers2023.jpg
END:VEVENT
BEGIN:VEVENT
DTSTART;TZID=America/Los_Angeles:20230623T170000
DTEND;TZID=America/Los_Angeles:20230623T190000
DTSTAMP:20260425T192156
CREATED:20230510T181230Z
LAST-MODIFIED:20230622T153407Z
UID:5687-1687539600-1687546800@pebblestonecellars.biz
SUMMARY:The Joy Seekers
DESCRIPTION:A newly-formed acoustic duo\, “The Joy Seekers” made up of Crystal Reeves and Gary Dunsmoor will be performing at Pebblestone for the first time Friday evening. \nCrystal has toured nationally and internationally with a variety of musical groups and singer songwriters contributing violin\, mandolin\, viola\, guitar and vocals. She was a singer and fiddle player with the Bluegrass Band\, “Siskiyou Summit” for 16 years in the Rogue Valley and has been a featured soloist for productions at the Oregon Shakespeare Festival\, Cabaret and Camelot theaters. \nGary has loved playing music since his first band in middle school. With a background in all manner of diverse music (blues\, rock\, funk\, R&B\, acoustic singer/songwriter)\, he brings an eclectic and diverse catalog of songs and lyrics to share. From popular and obscure\, gentle and heartfelt\, and fun get-out-your-seat dance music\, there is something for everyone. Gary has played in the Rogue valley with a diverse collection of performers\, song writers\, musical theater. \nCome out and enjoy this great show!
URL:https://pebblestonecellars.biz/event/joy-seekers-gary-dunsmoor/
LOCATION:Pebblestone Tasting Barn\, 1670 Pioneer Road\, Talent\, OR
CATEGORIES:Live Music
ATTACH;FMTTYPE=image/jpeg:https://pebblestonecellars.biz/wp-content/uploads/2023/05/JoySeekers-2023.jpg
END:VEVENT
BEGIN:VEVENT
DTSTART;TZID=America/Los_Angeles:20230625T150000
DTEND;TZID=America/Los_Angeles:20230625T170000
DTSTAMP:20260425T192156
CREATED:20230510T181328Z
LAST-MODIFIED:20230622T154027Z
UID:5689-1687705200-1687712400@pebblestonecellars.biz
SUMMARY:Sterling Vintage Jazz
DESCRIPTION:Sterling Vintage Jazz covers a wide variety of tunes that have withstood the test of time and have brought joy for generations. \nTheir songbook is diverse and includes classic Jazz and swing hits from the 30’s\, 40’s\, and 50’s in a style inspired by the greats such as Anita O’ Day and Peggy Lee\, with just the right amount of 60s and 70s soulful R&B. \nThe band features Margaret Reno on vocals/percussion\, Linda Powers on fiddle and guitar\, Tim Church on guitar\, and Ted Whiting on bass. \nDon’t miss this great show and these talented artists- it should be a great afternoon!
URL:https://pebblestonecellars.biz/event/sterling-vintage-jazz-2/
LOCATION:Pebblestone Tasting Barn\, 1670 Pioneer Road\, Talent\, OR
CATEGORIES:Live Music
ATTACH;FMTTYPE=image/jpeg:https://pebblestonecellars.biz/wp-content/uploads/2023/05/SterlingVintageJazz2023.jpg
END:VEVENT
BEGIN:VEVENT
DTSTART;TZID=America/Los_Angeles:20230630T170000
DTEND;TZID=America/Los_Angeles:20230630T190000
DTSTAMP:20260425T192156
CREATED:20230510T181535Z
LAST-MODIFIED:20230622T163613Z
UID:5691-1688144400-1688151600@pebblestonecellars.biz
SUMMARY:Tension Deficit
DESCRIPTION:Tension Deficit is a guitar and vocal duo that will perform lots that’s new\, soaring anthems with a tinge of blue. Classic and adventurous. Tension Deficit struts timeless appeal with the velvet vocals of Genevieve Predmore and the unfailing style of guitarist Russ Carter.
URL:https://pebblestonecellars.biz/event/tension-deficit-2/
LOCATION:Pebblestone Tasting Barn\, 1670 Pioneer Road\, Talent\, OR
CATEGORIES:Live Music
ATTACH;FMTTYPE=image/jpeg:https://pebblestonecellars.biz/wp-content/uploads/2022/10/tension-deficit2022.jpg
END:VEVENT
END:VCALENDAR